BEGIN:VCALENDAR
VERSION:2.0
PRODID:-//Pottsville Free Public Library - ECPv6.15.13//NONSGML v1.0//EN
CALSCALE:GREGORIAN
METHOD:PUBLISH
X-WR-CALNAME:Pottsville Free Public Library
X-ORIGINAL-URL:https://www.pottsvillelibrary.org
X-WR-CALDESC:Events for Pottsville Free Public Library
REFRESH-INTERVAL;VALUE=DURATION:PT1H
X-Robots-Tag:noindex
X-PUBLISHED-TTL:PT1H
BEGIN:VTIMEZONE
TZID:UTC
BEGIN:STANDARD
TZOFFSETFROM:+0000
TZOFFSETTO:+0000
TZNAME:UTC
DTSTART:20250101T000000
END:STANDARD
END:VTIMEZONE
BEGIN:VEVENT
DTSTART;TZID=UTC:20260423T083000
DTEND;TZID=UTC:20260423T193000
DTSTAMP:20260423T191242
CREATED:20260406T171911Z
LAST-MODIFIED:20260406T171911Z
UID:4705-1776933000-1776972600@www.pottsvillelibrary.org
SUMMARY:2026 Library Scavenger Hunt
DESCRIPTION:Join us for another year of a district wide scavenger hunt. The 2026 PA One Book: “The Great Cookie Kerfuffle” has been hidden at all the libraries in the Pottsville District. Help us locate them all. Go to your local library between April 20th and May 22nd to start and grab a brochure\, which will tell you all the district libraries and give a space to write down where you found the book. Be sure to return the brochure by May 22nd to be entered for a chance to win various prizes. 2 winners will be drawn for visiting at least 5 libraries ($15 Dunkin gift card)\, 2 winners for visiting at least 10 libraries ($25 Amazon gift card) and one winner drawn for visiting all 17 libraries ($50 ticket book for Knoebels). Prizes will be drawn on May 28th and winners will be contacted directly.
URL:https://www.pottsvillelibrary.org/event/2026-library-scavenger-hunt-4/
LOCATION:Pottsville Library\, 215 W Market St\, Pottsville\, 17901\, United States
ATTACH;FMTTYPE=image/webp:https://www.pottsvillelibrary.org/wp-content/uploads/2026/04/PA-One-Book-Scavenger-Hunt-Flyer-2026-scaled.webp
ORGANIZER;CN="PFPL":MAILTO:potpublib@pottsvillelibrary.org
END:VEVENT
BEGIN:VEVENT
DTSTART;TZID=UTC:20260423T130000
DTEND;TZID=UTC:20260423T143000
DTSTAMP:20260423T191242
CREATED:20260218T184321Z
LAST-MODIFIED:20260218T184321Z
UID:4542-1776949200-1776954600@www.pottsvillelibrary.org
SUMMARY:Homeschool Hang About
DESCRIPTION:For all Homeschoolers\, join us at the Pottsville Free Public Library on March 26th\, April 23rd and May 28th at 1pm for STEM activities and crafts\, Recommended for ages 6-18 (younger siblings are always welcome). Registration greatly appreciated by emailing potchild@pottsvillelibrary.org\, 570-622-8880 ext. 12 or telling us in person.
URL:https://www.pottsvillelibrary.org/event/homeschool-hang-about-2/
LOCATION:Pottsville Library\, 215 W Market St\, Pottsville\, 17901\, United States
ATTACH;FMTTYPE=image/webp:https://www.pottsvillelibrary.org/wp-content/uploads/2026/02/HomeschoolHangAbout2026.webp
ORGANIZER;CN="PFPL":MAILTO:potpublib@pottsvillelibrary.org
END:VEVENT
BEGIN:VEVENT
DTSTART;TZID=UTC:20260423T173000
DTEND;TZID=UTC:20260423T190000
DTSTAMP:20260423T191242
CREATED:20251113T175629Z
LAST-MODIFIED:20251113T175629Z
UID:4072-1776965400-1776970800@www.pottsvillelibrary.org
SUMMARY:Pageturners Book Club Meeting
DESCRIPTION:If you are interested in great books and great conversation–our book club is for you! All are welcome at the Pageturners monthly meeting held the 4th Thursday of each month at 5:30 on the 2nd floor of the Library.
URL:https://www.pottsvillelibrary.org/event/pageturners-book-club-meeting-4/
LOCATION:Pottsville Library\, 215 W Market St\, Pottsville\, 17901\, United States
ATTACH;FMTTYPE=image/jpeg:https://www.pottsvillelibrary.org/wp-content/uploads/2024/12/Pageturners-Logo-scaled.jpeg
ORGANIZER;CN="PFPL":MAILTO:potpublib@pottsvillelibrary.org
END:VEVENT
BEGIN:VEVENT
DTSTART;TZID=UTC:20260424T083000
DTEND;TZID=UTC:20260424T170000
DTSTAMP:20260423T191242
CREATED:20260406T172005Z
LAST-MODIFIED:20260406T172005Z
UID:4707-1777019400-1777050000@www.pottsvillelibrary.org
SUMMARY:2026 Library Scavenger Hunt
DESCRIPTION:Join us for another year of a district wide scavenger hunt. The 2026 PA One Book: “The Great Cookie Kerfuffle” has been hidden at all the libraries in the Pottsville District. Help us locate them all. Go to your local library between April 20th and May 22nd to start and grab a brochure\, which will tell you all the district libraries and give a space to write down where you found the book. Be sure to return the brochure by May 22nd to be entered for a chance to win various prizes. 2 winners will be drawn for visiting at least 5 libraries ($15 Dunkin gift card)\, 2 winners for visiting at least 10 libraries ($25 Amazon gift card) and one winner drawn for visiting all 17 libraries ($50 ticket book for Knoebels). Prizes will be drawn on May 28th and winners will be contacted directly.
URL:https://www.pottsvillelibrary.org/event/2026-library-scavenger-hunt-5/
LOCATION:Pottsville Library\, 215 W Market St\, Pottsville\, 17901\, United States
ATTACH;FMTTYPE=image/webp:https://www.pottsvillelibrary.org/wp-content/uploads/2026/04/PA-One-Book-Scavenger-Hunt-Flyer-2026-scaled.webp
ORGANIZER;CN="PFPL":MAILTO:potpublib@pottsvillelibrary.org
END:VEVENT
BEGIN:VEVENT
DTSTART;TZID=UTC:20260425T083000
DTEND;TZID=UTC:20260425T170000
DTSTAMP:20260423T191242
CREATED:20260406T172050Z
LAST-MODIFIED:20260406T172050Z
UID:4710-1777105800-1777136400@www.pottsvillelibrary.org
SUMMARY:2026 Library Scavenger Hunt
DESCRIPTION:Join us for another year of a district wide scavenger hunt. The 2026 PA One Book: “The Great Cookie Kerfuffle” has been hidden at all the libraries in the Pottsville District. Help us locate them all. Go to your local library between April 20th and May 22nd to start and grab a brochure\, which will tell you all the district libraries and give a space to write down where you found the book. Be sure to return the brochure by May 22nd to be entered for a chance to win various prizes. 2 winners will be drawn for visiting at least 5 libraries ($15 Dunkin gift card)\, 2 winners for visiting at least 10 libraries ($25 Amazon gift card) and one winner drawn for visiting all 17 libraries ($50 ticket book for Knoebels). Prizes will be drawn on May 28th and winners will be contacted directly.
URL:https://www.pottsvillelibrary.org/event/2026-library-scavenger-hunt-6/
LOCATION:Pottsville Library\, 215 W Market St\, Pottsville\, 17901\, United States
ATTACH;FMTTYPE=image/webp:https://www.pottsvillelibrary.org/wp-content/uploads/2026/04/PA-One-Book-Scavenger-Hunt-Flyer-2026-scaled.webp
ORGANIZER;CN="PFPL":MAILTO:potpublib@pottsvillelibrary.org
END:VEVENT
BEGIN:VEVENT
DTSTART;TZID=UTC:20260427T083000
DTEND;TZID=UTC:20260427T193000
DTSTAMP:20260423T191242
CREATED:20260406T172306Z
LAST-MODIFIED:20260406T172306Z
UID:4713-1777278600-1777318200@www.pottsvillelibrary.org
SUMMARY:2026 Library Scavenger Hunt
DESCRIPTION:Join us for another year of a district wide scavenger hunt. The 2026 PA One Book: “The Great Cookie Kerfuffle” has been hidden at all the libraries in the Pottsville District. Help us locate them all. Go to your local library between April 20th and May 22nd to start and grab a brochure\, which will tell you all the district libraries and give a space to write down where you found the book. Be sure to return the brochure by May 22nd to be entered for a chance to win various prizes. 2 winners will be drawn for visiting at least 5 libraries ($15 Dunkin gift card)\, 2 winners for visiting at least 10 libraries ($25 Amazon gift card) and one winner drawn for visiting all 17 libraries ($50 ticket book for Knoebels). Prizes will be drawn on May 28th and winners will be contacted directly.
URL:https://www.pottsvillelibrary.org/event/2026-library-scavenger-hunt-7/
LOCATION:Pottsville Library\, 215 W Market St\, Pottsville\, 17901\, United States
ATTACH;FMTTYPE=image/webp:https://www.pottsvillelibrary.org/wp-content/uploads/2026/04/PA-One-Book-Scavenger-Hunt-Flyer-2026-scaled.webp
ORGANIZER;CN="PFPL":MAILTO:potpublib@pottsvillelibrary.org
END:VEVENT
BEGIN:VEVENT
DTSTART;TZID=UTC:20260427T103000
DTEND;TZID=UTC:20260427T113000
DTSTAMP:20260423T191242
CREATED:20251204T210716Z
LAST-MODIFIED:20251204T210716Z
UID:4207-1777285800-1777289400@www.pottsvillelibrary.org
SUMMARY:Winter/Spring Story Time
DESCRIPTION:Join us for a story\, songs and a craft for our Winter/Spring Story Time on Mondays at 10:30 am running from February 9th until May 11th. Recommended for ages 1-5\, older and younger siblings are always welcome. Please register by emailing potchild@pottsvillelibrary.org\, calling 570-622-8880 ext. 12 or come to visit and tell us in person.
URL:https://www.pottsvillelibrary.org/event/winter-spring-story-time-12/
LOCATION:Pottsville Library\, 215 W Market St\, Pottsville\, 17901\, United States
ATTACH;FMTTYPE=image/webp:https://www.pottsvillelibrary.org/wp-content/uploads/2025/12/StoryTimePoster_2026.webp
ORGANIZER;CN="PFPL":MAILTO:potpublib@pottsvillelibrary.org
END:VEVENT
BEGIN:VEVENT
DTSTART;TZID=UTC:20260428T083000
DTEND;TZID=UTC:20260428T193000
DTSTAMP:20260423T191242
CREATED:20260406T172344Z
LAST-MODIFIED:20260406T172344Z
UID:4716-1777365000-1777404600@www.pottsvillelibrary.org
SUMMARY:2026 Library Scavenger Hunt
DESCRIPTION:Join us for another year of a district wide scavenger hunt. The 2026 PA One Book: “The Great Cookie Kerfuffle” has been hidden at all the libraries in the Pottsville District. Help us locate them all. Go to your local library between April 20th and May 22nd to start and grab a brochure\, which will tell you all the district libraries and give a space to write down where you found the book. Be sure to return the brochure by May 22nd to be entered for a chance to win various prizes. 2 winners will be drawn for visiting at least 5 libraries ($15 Dunkin gift card)\, 2 winners for visiting at least 10 libraries ($25 Amazon gift card) and one winner drawn for visiting all 17 libraries ($50 ticket book for Knoebels). Prizes will be drawn on May 28th and winners will be contacted directly.
URL:https://www.pottsvillelibrary.org/event/2026-library-scavenger-hunt-8/
LOCATION:Pottsville Library\, 215 W Market St\, Pottsville\, 17901\, United States
ATTACH;FMTTYPE=image/webp:https://www.pottsvillelibrary.org/wp-content/uploads/2026/04/PA-One-Book-Scavenger-Hunt-Flyer-2026-scaled.webp
ORGANIZER;CN="PFPL":MAILTO:potpublib@pottsvillelibrary.org
END:VEVENT
BEGIN:VEVENT
DTSTART;TZID=UTC:20260429T083000
DTEND;TZID=UTC:20260429T193000
DTSTAMP:20260423T191242
CREATED:20260406T172433Z
LAST-MODIFIED:20260406T172433Z
UID:4719-1777451400-1777491000@www.pottsvillelibrary.org
SUMMARY:2026 Library Scavenger Hunt
DESCRIPTION:Join us for another year of a district wide scavenger hunt. The 2026 PA One Book: “The Great Cookie Kerfuffle” has been hidden at all the libraries in the Pottsville District. Help us locate them all. Go to your local library between April 20th and May 22nd to start and grab a brochure\, which will tell you all the district libraries and give a space to write down where you found the book. Be sure to return the brochure by May 22nd to be entered for a chance to win various prizes. 2 winners will be drawn for visiting at least 5 libraries ($15 Dunkin gift card)\, 2 winners for visiting at least 10 libraries ($25 Amazon gift card) and one winner drawn for visiting all 17 libraries ($50 ticket book for Knoebels). Prizes will be drawn on May 28th and winners will be contacted directly.
URL:https://www.pottsvillelibrary.org/event/2026-library-scavenger-hunt-9/
LOCATION:Pottsville Library\, 215 W Market St\, Pottsville\, 17901\, United States
ATTACH;FMTTYPE=image/webp:https://www.pottsvillelibrary.org/wp-content/uploads/2026/04/PA-One-Book-Scavenger-Hunt-Flyer-2026-scaled.webp
ORGANIZER;CN="PFPL":MAILTO:potpublib@pottsvillelibrary.org
END:VEVENT
BEGIN:VEVENT
DTSTART;TZID=UTC:20260430T083000
DTEND;TZID=UTC:20260430T193000
DTSTAMP:20260423T191242
CREATED:20260406T172514Z
LAST-MODIFIED:20260406T172514Z
UID:4722-1777537800-1777577400@www.pottsvillelibrary.org
SUMMARY:2026 Library Scavenger Hunt
DESCRIPTION:Join us for another year of a district wide scavenger hunt. The 2026 PA One Book: “The Great Cookie Kerfuffle” has been hidden at all the libraries in the Pottsville District. Help us locate them all. Go to your local library between April 20th and May 22nd to start and grab a brochure\, which will tell you all the district libraries and give a space to write down where you found the book. Be sure to return the brochure by May 22nd to be entered for a chance to win various prizes. 2 winners will be drawn for visiting at least 5 libraries ($15 Dunkin gift card)\, 2 winners for visiting at least 10 libraries ($25 Amazon gift card) and one winner drawn for visiting all 17 libraries ($50 ticket book for Knoebels). Prizes will be drawn on May 28th and winners will be contacted directly.
URL:https://www.pottsvillelibrary.org/event/2026-library-scavenger-hunt-10/
LOCATION:Pottsville Library\, 215 W Market St\, Pottsville\, 17901\, United States
ATTACH;FMTTYPE=image/webp:https://www.pottsvillelibrary.org/wp-content/uploads/2026/04/PA-One-Book-Scavenger-Hunt-Flyer-2026-scaled.webp
ORGANIZER;CN="PFPL":MAILTO:potpublib@pottsvillelibrary.org
END:VEVENT
END:VCALENDAR