BEGIN:VCALENDAR
VERSION:2.0
PRODID:-//Pottsville Free Public Library - ECPv6.15.13//NONSGML v1.0//EN
CALSCALE:GREGORIAN
METHOD:PUBLISH
X-WR-CALNAME:Pottsville Free Public Library
X-ORIGINAL-URL:https://www.pottsvillelibrary.org
X-WR-CALDESC:Events for Pottsville Free Public Library
REFRESH-INTERVAL;VALUE=DURATION:PT1H
X-Robots-Tag:noindex
X-PUBLISHED-TTL:PT1H
BEGIN:VTIMEZONE
TZID:UTC
BEGIN:STANDARD
TZOFFSETFROM:+0000
TZOFFSETTO:+0000
TZNAME:UTC
DTSTART:20250101T000000
END:STANDARD
END:VTIMEZONE
BEGIN:VEVENT
DTSTART;TZID=UTC:20260701T103000
DTEND;TZID=UTC:20260701T113000
DTSTAMP:20260423T234816
CREATED:20260415T151754Z
LAST-MODIFIED:20260415T151754Z
UID:4870-1782901800-1782905400@www.pottsvillelibrary.org
SUMMARY:Kids Summer Reading Club
DESCRIPTION:Join us at the Pottsville Free Public Library on Wednesdays at 10:30am from June 17th until August 5th for crafts and activities on the theme of unearth a story as part of Summer Reading. Recommended for ages 6-12. Registration encouraged by emailing potchild@pottsvillelibrary.org\, calling 570-622-8880 ext. 12 or coming to the library and telling us in person.
URL:https://www.pottsvillelibrary.org/event/kids-summer-reading-club-11/
LOCATION:Pottsville Library\, 215 W Market St\, Pottsville\, 17901\, United States
ATTACH;FMTTYPE=image/webp:https://www.pottsvillelibrary.org/wp-content/uploads/2026/04/summer-reading-club-1.webp
ORGANIZER;CN="PFPL":MAILTO:potpublib@pottsvillelibrary.org
END:VEVENT
BEGIN:VEVENT
DTSTART;TZID=UTC:20260702T103000
DTEND;TZID=UTC:20260702T113000
DTSTAMP:20260423T234816
CREATED:20260415T153049Z
LAST-MODIFIED:20260415T153049Z
UID:4895-1782988200-1782991800@www.pottsvillelibrary.org
SUMMARY:Teen Summer Reading Crew
DESCRIPTION:Join us at the Pottsville Free Public Library on Thursdays at 10:30am from June 18th until August 6th for crafts and activities on the theme of unearth a story as part of Summer Reading. Recommended for ages 12-17. Registration encouraged by emailing potchild@pottsvillelibrary.org\, calling 570-622-8880 ext. 12 or coming to the library and telling us in person.
URL:https://www.pottsvillelibrary.org/event/teen-summer-reading-crew-11/
LOCATION:Pottsville Library\, 215 W Market St\, Pottsville\, 17901\, United States
ATTACH;FMTTYPE=image/webp:https://www.pottsvillelibrary.org/wp-content/uploads/2026/04/summer-reading-crew.webp
ORGANIZER;CN="PFPL":MAILTO:potpublib@pottsvillelibrary.org
END:VEVENT
BEGIN:VEVENT
DTSTART;TZID=UTC:20260702T153000
DTEND;TZID=UTC:20260702T170000
DTSTAMP:20260423T234816
CREATED:20260421T231057Z
LAST-MODIFIED:20260422T144545Z
UID:4966-1783006200-1783011600@www.pottsvillelibrary.org
SUMMARY:Adventure Book Club
DESCRIPTION:Join us at the Pottsville Free Public Library on Thursdays between June 18th and August 6th at 3:30 pm for a kids book club for ages 5-15. Read interactive fiction with your peers\, make the choices together. Get some reading done in the summer while hanging out. To register email potchild@pottsvillelibrary.org\, call 570-6622-8880 ext. 12 or come to the library and tell us in person.
URL:https://www.pottsvillelibrary.org/event/adventure-book-club-3/
LOCATION:Pottsville Library\, 215 W Market St\, Pottsville\, 17901\, United States
ATTACH;FMTTYPE=image/webp:https://www.pottsvillelibrary.org/wp-content/uploads/2026/04/adventure-book-club-1.webp
ORGANIZER;CN="PFPL":MAILTO:potpublib@pottsvillelibrary.org
END:VEVENT
BEGIN:VEVENT
DTSTART;TZID=UTC:20260706T103000
DTEND;TZID=UTC:20260706T113000
DTSTAMP:20260423T234816
CREATED:20260413T201445Z
LAST-MODIFIED:20260413T202640Z
UID:4829-1783333800-1783337400@www.pottsvillelibrary.org
SUMMARY:Summer Story Time
DESCRIPTION:Join us for our Summer session of Story Times for ages 1-5 (siblings welcome) Mondays from June 15th to August 3rd at 10:30 am. Join us for stories\, songs and crafts. Registration encouraged by emailing potchild@pottsvillelibrary.org\, calling 570-622-8880 ext. 12 or coming to the library and telling us in person.
URL:https://www.pottsvillelibrary.org/event/summer-story-time-4/
LOCATION:Pottsville Library\, 215 W Market St\, Pottsville\, 17901\, United States
ATTACH;FMTTYPE=image/webp:https://www.pottsvillelibrary.org/wp-content/uploads/2026/04/Summer_StoryTime-1.webp
ORGANIZER;CN="PFPL":MAILTO:potpublib@pottsvillelibrary.org
END:VEVENT
BEGIN:VEVENT
DTSTART;TZID=UTC:20260706T120000
DTEND;TZID=UTC:20260706T140000
DTSTAMP:20260423T234816
CREATED:20251113T211242Z
LAST-MODIFIED:20251113T211242Z
UID:4111-1783339200-1783346400@www.pottsvillelibrary.org
SUMMARY:Used Book Sale
DESCRIPTION:Visit our monthly used book sale in the basement of the Library from 12-2 on on the 1st Monday of each month. Thank you to the Friends of the Pottsville Free Public Library for hosting our used book sales!
URL:https://www.pottsvillelibrary.org/event/used-book-sale-33/
LOCATION:Library – Basement\, 215 W. Market St.\, Pottsville\, PA\, 17901\, United States
ATTACH;FMTTYPE=image/png:https://www.pottsvillelibrary.org/wp-content/uploads/2024/12/Book-Sale.png
ORGANIZER;CN="PFPL":MAILTO:potpublib@pottsvillelibrary.org
END:VEVENT
BEGIN:VEVENT
DTSTART;TZID=UTC:20260706T163000
DTEND;TZID=UTC:20260706T190000
DTSTAMP:20260423T234816
CREATED:20260415T173244Z
LAST-MODIFIED:20260415T173244Z
UID:4940-1783355400-1783364400@www.pottsvillelibrary.org
SUMMARY:Magic the Gathering Night
DESCRIPTION:Come join us at the Pottsville Free Public Library for our monthly Magic the Gathering Night the first Monday of each month at 4:30 pm for summer those dates are June 1st\, July 6th and August 3rd\, where we will be playing in the commander format. Don’t know very much about Magic the Gathering but want to learn a little more\, come in and we’ll take the time to introduce you to the rules and cards\, which can then be used to play. To register email potchild@pottsvillelibrary.org\, call 570-622-8880 ext. 12 or come and tell us in person. Recommended for ages 11 and up.
URL:https://www.pottsvillelibrary.org/event/magic-the-gathering-night-9/
LOCATION:Pottsville Library\, 215 W Market St\, Pottsville\, 17901\, United States
ATTACH;FMTTYPE=image/webp:https://www.pottsvillelibrary.org/wp-content/uploads/2026/04/Magic_The_Gathering_Summer.webp
ORGANIZER;CN="PFPL":MAILTO:potpublib@pottsvillelibrary.org
END:VEVENT
BEGIN:VEVENT
DTSTART;TZID=UTC:20260708T103000
DTEND;TZID=UTC:20260708T113000
DTSTAMP:20260423T234816
CREATED:20260415T151852Z
LAST-MODIFIED:20260415T151852Z
UID:4873-1783506600-1783510200@www.pottsvillelibrary.org
SUMMARY:Kids Summer Reading Club
DESCRIPTION:Join us at the Pottsville Free Public Library on Wednesdays at 10:30am from June 17th until August 5th for crafts and activities on the theme of unearth a story as part of Summer Reading. Recommended for ages 6-12. Registration encouraged by emailing potchild@pottsvillelibrary.org\, calling 570-622-8880 ext. 12 or coming to the library and telling us in person.
URL:https://www.pottsvillelibrary.org/event/kids-summer-reading-club-12/
LOCATION:Pottsville Library\, 215 W Market St\, Pottsville\, 17901\, United States
ATTACH;FMTTYPE=image/webp:https://www.pottsvillelibrary.org/wp-content/uploads/2026/04/summer-reading-club-1.webp
ORGANIZER;CN="PFPL":MAILTO:potpublib@pottsvillelibrary.org
END:VEVENT
BEGIN:VEVENT
DTSTART;TZID=UTC:20260709T103000
DTEND;TZID=UTC:20260709T113000
DTSTAMP:20260423T234816
CREATED:20260415T153207Z
LAST-MODIFIED:20260415T153207Z
UID:4898-1783593000-1783596600@www.pottsvillelibrary.org
SUMMARY:Teen Summer Reading Crew
DESCRIPTION:Join us at the Pottsville Free Public Library on Thursdays at 10:30am from June 18th until August 6th for crafts and activities on the theme of unearth a story as part of Summer Reading. Recommended for ages 12-17. Registration encouraged by emailing potchild@pottsvillelibrary.org\, calling 570-622-8880 ext. 12 or coming to the library and telling us in person.
URL:https://www.pottsvillelibrary.org/event/teen-summer-reading-crew-12/
LOCATION:Pottsville Library\, 215 W Market St\, Pottsville\, 17901\, United States
ATTACH;FMTTYPE=image/webp:https://www.pottsvillelibrary.org/wp-content/uploads/2026/04/summer-reading-crew.webp
ORGANIZER;CN="PFPL":MAILTO:potpublib@pottsvillelibrary.org
END:VEVENT
BEGIN:VEVENT
DTSTART;TZID=UTC:20260709T153000
DTEND;TZID=UTC:20260709T170000
DTSTAMP:20260423T234816
CREATED:20260421T231149Z
LAST-MODIFIED:20260422T144615Z
UID:4969-1783611000-1783616400@www.pottsvillelibrary.org
SUMMARY:Adventure Book Club
DESCRIPTION:Join us at the Pottsville Free Public Library on Thursdays between June 18th and August 6th at 3:30 pm for a kids book club for ages 5-15. Read interactive fiction with your peers\, make the choices together. Get some reading done in the summer while hanging out. To register email potchild@pottsvillelibrary.org\, call 570-6622-8880 ext. 12 or come to the library and tell us in person.
URL:https://www.pottsvillelibrary.org/event/adventure-book-club-4/
LOCATION:Pottsville Library\, 215 W Market St\, Pottsville\, 17901\, United States
ATTACH;FMTTYPE=image/webp:https://www.pottsvillelibrary.org/wp-content/uploads/2026/04/adventure-book-club-1.webp
ORGANIZER;CN="PFPL":MAILTO:potpublib@pottsvillelibrary.org
END:VEVENT
BEGIN:VEVENT
DTSTART;TZID=UTC:20260713T103000
DTEND;TZID=UTC:20260713T113000
DTSTAMP:20260423T234816
CREATED:20260413T201542Z
LAST-MODIFIED:20260413T202733Z
UID:4832-1783938600-1783942200@www.pottsvillelibrary.org
SUMMARY:Summer Story Time
DESCRIPTION:Join us for our Summer session of Story Times for ages 1-5 (siblings welcome) Mondays from June 15th to August 3rd at 10:30 am. Join us for stories\, songs and crafts. Registration encouraged by emailing potchild@pottsvillelibrary.org\, calling 570-622-8880 ext. 12 or coming to the library and telling us in person.
URL:https://www.pottsvillelibrary.org/event/summer-story-time-5/
LOCATION:Pottsville Library\, 215 W Market St\, Pottsville\, 17901\, United States
ATTACH;FMTTYPE=image/webp:https://www.pottsvillelibrary.org/wp-content/uploads/2026/04/Summer_StoryTime-1.webp
ORGANIZER;CN="PFPL":MAILTO:potpublib@pottsvillelibrary.org
END:VEVENT
BEGIN:VEVENT
DTSTART;TZID=UTC:20260715T103000
DTEND;TZID=UTC:20260715T113000
DTSTAMP:20260423T234816
CREATED:20260415T151948Z
LAST-MODIFIED:20260415T151948Z
UID:4876-1784111400-1784115000@www.pottsvillelibrary.org
SUMMARY:Kids Summer Reading Club
DESCRIPTION:Join us at the Pottsville Free Public Library on Wednesdays at 10:30am from June 17th until August 5th for crafts and activities on the theme of unearth a story as part of Summer Reading. Recommended for ages 6-12. Registration encouraged by emailing potchild@pottsvillelibrary.org\, calling 570-622-8880 ext. 12 or coming to the library and telling us in person.
URL:https://www.pottsvillelibrary.org/event/kids-summer-reading-club-13/
LOCATION:Pottsville Library\, 215 W Market St\, Pottsville\, 17901\, United States
ATTACH;FMTTYPE=image/webp:https://www.pottsvillelibrary.org/wp-content/uploads/2026/04/summer-reading-club-1.webp
ORGANIZER;CN="PFPL":MAILTO:potpublib@pottsvillelibrary.org
END:VEVENT
BEGIN:VEVENT
DTSTART;TZID=UTC:20260716T103000
DTEND;TZID=UTC:20260716T113000
DTSTAMP:20260423T234816
CREATED:20260415T153402Z
LAST-MODIFIED:20260415T153402Z
UID:4901-1784197800-1784201400@www.pottsvillelibrary.org
SUMMARY:Teen Summer Reading Crew
DESCRIPTION:Join us at the Pottsville Free Public Library on Thursdays at 10:30am from June 18th until August 6th for crafts and activities on the theme of unearth a story as part of Summer Reading. Recommended for ages 12-17. Registration encouraged by emailing potchild@pottsvillelibrary.org\, calling 570-622-8880 ext. 12 or coming to the library and telling us in person.
URL:https://www.pottsvillelibrary.org/event/teen-summer-reading-crew-13/
LOCATION:Pottsville Library\, 215 W Market St\, Pottsville\, 17901\, United States
ATTACH;FMTTYPE=image/webp:https://www.pottsvillelibrary.org/wp-content/uploads/2026/04/summer-reading-crew.webp
ORGANIZER;CN="PFPL":MAILTO:potpublib@pottsvillelibrary.org
END:VEVENT
BEGIN:VEVENT
DTSTART;TZID=UTC:20260716T153000
DTEND;TZID=UTC:20260716T170000
DTSTAMP:20260423T234816
CREATED:20260421T232214Z
LAST-MODIFIED:20260422T144703Z
UID:4972-1784215800-1784221200@www.pottsvillelibrary.org
SUMMARY:Adventure Book Club
DESCRIPTION:Join us at the Pottsville Free Public Library on Thursdays between June 18th and August 6th at 3:30 pm for a kids book club for ages 5-15. Read interactive fiction with your peers\, make the choices together. Get some reading done in the summer while hanging out. To register email potchild@pottsvillelibrary.org\, call 570-6622-8880 ext. 12 or come to the library and tell us in person.
URL:https://www.pottsvillelibrary.org/event/adventure-book-club-5/
LOCATION:Pottsville Library\, 215 W Market St\, Pottsville\, 17901\, United States
ATTACH;FMTTYPE=image/webp:https://www.pottsvillelibrary.org/wp-content/uploads/2026/04/adventure-book-club-1.webp
ORGANIZER;CN="PFPL":MAILTO:potpublib@pottsvillelibrary.org
END:VEVENT
BEGIN:VEVENT
DTSTART;TZID=UTC:20260716T163000
DTEND;TZID=UTC:20260716T173000
DTSTAMP:20260423T234816
CREATED:20260415T154544Z
LAST-MODIFIED:20260415T154544Z
UID:4917-1784219400-1784223000@www.pottsvillelibrary.org
SUMMARY:Teen Book Club
DESCRIPTION:Looking for a place to read a book and chill with your peers then join us at the Pottsville Free Public Library for our teen book club. Recommended for ages 10-16. Summer is here again\, keep up with your reading\, bring your own book or use one of the ones we have here. We meet the third Thursday of the month\, which for the summer is June 18th\, July 16th and August 20th. Tell us your coming by emailing potchild@pottsvillelibrary.org\, call 570-622-8880 ext. 12 or come to the library and tell us in person.
URL:https://www.pottsvillelibrary.org/event/teen-book-club-19/
LOCATION:Pottsville Library\, 215 W Market St\, Pottsville\, 17901\, United States
ATTACH;FMTTYPE=image/webp:https://www.pottsvillelibrary.org/wp-content/uploads/2026/04/TeenBookClub2026.webp
ORGANIZER;CN="PFPL":MAILTO:potpublib@pottsvillelibrary.org
END:VEVENT
BEGIN:VEVENT
DTSTART;TZID=UTC:20260716T173000
DTEND;TZID=UTC:20260716T183000
DTSTAMP:20260423T234816
CREATED:20260415T160002Z
LAST-MODIFIED:20260415T160002Z
UID:4928-1784223000-1784226600@www.pottsvillelibrary.org
SUMMARY:Teen Advisory Board
DESCRIPTION:Want to have a say in what the library offers to teens\, or do you want to hang out with your peers and do activities and crafts for teens the join our Teen Advisory Board. For ages 12-18. Tell us your coming by emailing potchild@pottsvillelibrary.org\, call 570-622-8880 ext. 12 or come tell us in person. We meet the third Thursday of the month which for the summer is June 18th\, July 16th and August 20th at 5:30 pm.
URL:https://www.pottsvillelibrary.org/event/teen-advisory-board-16/
LOCATION:Pottsville Library\, 215 W Market St\, Pottsville\, 17901\, United States
ATTACH;FMTTYPE=image/webp:https://www.pottsvillelibrary.org/wp-content/uploads/2026/04/TeenAdvisoryBoard2026.webp
ORGANIZER;CN="PFPL":MAILTO:potpublib@pottsvillelibrary.org
END:VEVENT
BEGIN:VEVENT
DTSTART;TZID=UTC:20260720T103000
DTEND;TZID=UTC:20260720T113000
DTSTAMP:20260423T234816
CREATED:20260413T201643Z
LAST-MODIFIED:20260413T202812Z
UID:4835-1784543400-1784547000@www.pottsvillelibrary.org
SUMMARY:Summer Story Time
DESCRIPTION:Join us for our Summer session of Story Times for ages 1-5 (siblings welcome) Mondays from June 15th to August 3rd at 10:30 am. Join us for stories\, songs and crafts. Registration encouraged by emailing potchild@pottsvillelibrary.org\, calling 570-622-8880 ext. 12 or coming to the library and telling us in person.
URL:https://www.pottsvillelibrary.org/event/summer-story-time-6/
LOCATION:Pottsville Library\, 215 W Market St\, Pottsville\, 17901\, United States
ATTACH;FMTTYPE=image/webp:https://www.pottsvillelibrary.org/wp-content/uploads/2026/04/Summer_StoryTime-1.webp
ORGANIZER;CN="PFPL":MAILTO:potpublib@pottsvillelibrary.org
END:VEVENT
BEGIN:VEVENT
DTSTART;TZID=UTC:20260722T103000
DTEND;TZID=UTC:20260722T113000
DTSTAMP:20260423T234816
CREATED:20260415T152045Z
LAST-MODIFIED:20260415T152045Z
UID:4879-1784716200-1784719800@www.pottsvillelibrary.org
SUMMARY:Kids Summer Reading Club
DESCRIPTION:Join us at the Pottsville Free Public Library on Wednesdays at 10:30am from June 17th until August 5th for crafts and activities on the theme of unearth a story as part of Summer Reading. Recommended for ages 6-12. Registration encouraged by emailing potchild@pottsvillelibrary.org\, calling 570-622-8880 ext. 12 or coming to the library and telling us in person.
URL:https://www.pottsvillelibrary.org/event/kids-summer-reading-club-14/
LOCATION:Pottsville Library\, 215 W Market St\, Pottsville\, 17901\, United States
ATTACH;FMTTYPE=image/webp:https://www.pottsvillelibrary.org/wp-content/uploads/2026/04/summer-reading-club-1.webp
ORGANIZER;CN="PFPL":MAILTO:potpublib@pottsvillelibrary.org
END:VEVENT
BEGIN:VEVENT
DTSTART;TZID=UTC:20260723T103000
DTEND;TZID=UTC:20260723T113000
DTSTAMP:20260423T234816
CREATED:20260415T153521Z
LAST-MODIFIED:20260415T153521Z
UID:4904-1784802600-1784806200@www.pottsvillelibrary.org
SUMMARY:Teen Summer Reading Crew
DESCRIPTION:Join us at the Pottsville Free Public Library on Thursdays at 10:30am from June 18th until August 6th for crafts and activities on the theme of unearth a story as part of Summer Reading. Recommended for ages 12-17. Registration encouraged by emailing potchild@pottsvillelibrary.org\, calling 570-622-8880 ext. 12 or coming to the library and telling us in person.
URL:https://www.pottsvillelibrary.org/event/teen-summer-reading-crew-14/
LOCATION:Pottsville Library\, 215 W Market St\, Pottsville\, 17901\, United States
ATTACH;FMTTYPE=image/webp:https://www.pottsvillelibrary.org/wp-content/uploads/2026/04/summer-reading-crew.webp
ORGANIZER;CN="PFPL":MAILTO:potpublib@pottsvillelibrary.org
END:VEVENT
BEGIN:VEVENT
DTSTART;TZID=UTC:20260723T153000
DTEND;TZID=UTC:20260723T170000
DTSTAMP:20260423T234816
CREATED:20260421T232303Z
LAST-MODIFIED:20260422T144728Z
UID:4974-1784820600-1784826000@www.pottsvillelibrary.org
SUMMARY:Adventure Book Club
DESCRIPTION:Join us at the Pottsville Free Public Library on Thursdays between June 18th and August 6th at 3:30 pm for a kids book club for ages 5-15. Read interactive fiction with your peers\, make the choices together. Get some reading done in the summer while hanging out. To register email potchild@pottsvillelibrary.org\, call 570-6622-8880 ext. 12 or come to the library and tell us in person.
URL:https://www.pottsvillelibrary.org/event/adventure-book-club-6/
LOCATION:Pottsville Library\, 215 W Market St\, Pottsville\, 17901\, United States
ATTACH;FMTTYPE=image/webp:https://www.pottsvillelibrary.org/wp-content/uploads/2026/04/adventure-book-club-1.webp
ORGANIZER;CN="PFPL":MAILTO:potpublib@pottsvillelibrary.org
END:VEVENT
BEGIN:VEVENT
DTSTART;TZID=UTC:20260727T103000
DTEND;TZID=UTC:20260727T113000
DTSTAMP:20260423T234816
CREATED:20260413T201735Z
LAST-MODIFIED:20260413T202842Z
UID:4838-1785148200-1785151800@www.pottsvillelibrary.org
SUMMARY:Summer Story Time
DESCRIPTION:Join us for our Summer session of Story Times for ages 1-5 (siblings welcome) Mondays from June 15th to August 3rd at 10:30 am. Join us for stories\, songs and crafts. Registration encouraged by emailing potchild@pottsvillelibrary.org\, calling 570-622-8880 ext. 12 or coming to the library and telling us in person.
URL:https://www.pottsvillelibrary.org/event/summer-story-time-7/
LOCATION:Pottsville Library\, 215 W Market St\, Pottsville\, 17901\, United States
ATTACH;FMTTYPE=image/webp:https://www.pottsvillelibrary.org/wp-content/uploads/2026/04/Summer_StoryTime-1.webp
ORGANIZER;CN="PFPL":MAILTO:potpublib@pottsvillelibrary.org
END:VEVENT
BEGIN:VEVENT
DTSTART;TZID=UTC:20260729T103000
DTEND;TZID=UTC:20260729T113000
DTSTAMP:20260423T234816
CREATED:20260415T152429Z
LAST-MODIFIED:20260415T152429Z
UID:4882-1785321000-1785324600@www.pottsvillelibrary.org
SUMMARY:Kids Summer Reading Club
DESCRIPTION:Join us at the Pottsville Free Public Library on Wednesdays at 10:30am from June 17th until August 5th for crafts and activities on the theme of unearth a story as part of Summer Reading. Recommended for ages 6-12. Registration encouraged by emailing potchild@pottsvillelibrary.org\, calling 570-622-8880 ext. 12 or coming to the library and telling us in person.
URL:https://www.pottsvillelibrary.org/event/kids-summer-reading-club-15/
LOCATION:Pottsville Library\, 215 W Market St\, Pottsville\, 17901\, United States
ATTACH;FMTTYPE=image/webp:https://www.pottsvillelibrary.org/wp-content/uploads/2026/04/summer-reading-club-1.webp
ORGANIZER;CN="PFPL":MAILTO:potpublib@pottsvillelibrary.org
END:VEVENT
BEGIN:VEVENT
DTSTART;TZID=UTC:20260730T103000
DTEND;TZID=UTC:20260730T113000
DTSTAMP:20260423T234816
CREATED:20260415T153622Z
LAST-MODIFIED:20260415T153622Z
UID:4907-1785407400-1785411000@www.pottsvillelibrary.org
SUMMARY:Teen Summer Reading Crew
DESCRIPTION:Join us at the Pottsville Free Public Library on Thursdays at 10:30am from June 18th until August 6th for crafts and activities on the theme of unearth a story as part of Summer Reading. Recommended for ages 12-17. Registration encouraged by emailing potchild@pottsvillelibrary.org\, calling 570-622-8880 ext. 12 or coming to the library and telling us in person.
URL:https://www.pottsvillelibrary.org/event/teen-summer-reading-crew-15/
LOCATION:Pottsville Library\, 215 W Market St\, Pottsville\, 17901\, United States
ATTACH;FMTTYPE=image/webp:https://www.pottsvillelibrary.org/wp-content/uploads/2026/04/summer-reading-crew.webp
ORGANIZER;CN="PFPL":MAILTO:potpublib@pottsvillelibrary.org
END:VEVENT
BEGIN:VEVENT
DTSTART;TZID=UTC:20260730T153000
DTEND;TZID=UTC:20260730T170000
DTSTAMP:20260423T234816
CREATED:20260421T232400Z
LAST-MODIFIED:20260422T144752Z
UID:4977-1785425400-1785430800@www.pottsvillelibrary.org
SUMMARY:Adventure Book Club
DESCRIPTION:Join us at the Pottsville Free Public Library on Thursdays between June 18th and August 6th at 3:30 pm for a kids book club for ages 5-15. Read interactive fiction with your peers\, make the choices together. Get some reading done in the summer while hanging out. To register email potchild@pottsvillelibrary.org\, call 570-6622-8880 ext. 12 or come to the library and tell us in person.
URL:https://www.pottsvillelibrary.org/event/adventure-book-club-7/
LOCATION:Pottsville Library\, 215 W Market St\, Pottsville\, 17901\, United States
ATTACH;FMTTYPE=image/webp:https://www.pottsvillelibrary.org/wp-content/uploads/2026/04/adventure-book-club-1.webp
ORGANIZER;CN="PFPL":MAILTO:potpublib@pottsvillelibrary.org
END:VEVENT
END:VCALENDAR