BEGIN:VCALENDAR
VERSION:2.0
PRODID:-//Pottsville Free Public Library - ECPv6.15.13//NONSGML v1.0//EN
CALSCALE:GREGORIAN
METHOD:PUBLISH
X-WR-CALNAME:Pottsville Free Public Library
X-ORIGINAL-URL:https://www.pottsvillelibrary.org
X-WR-CALDESC:Events for Pottsville Free Public Library
REFRESH-INTERVAL;VALUE=DURATION:PT1H
X-Robots-Tag:noindex
X-PUBLISHED-TTL:PT1H
BEGIN:VTIMEZONE
TZID:UTC
BEGIN:STANDARD
TZOFFSETFROM:+0000
TZOFFSETTO:+0000
TZNAME:UTC
DTSTART:20240101T000000
END:STANDARD
END:VTIMEZONE
BEGIN:VEVENT
DTSTART;TZID=UTC:20250106T120000
DTEND;TZID=UTC:20250106T140000
DTSTAMP:20260424T221224
CREATED:20241202T214745Z
LAST-MODIFIED:20241202T214745Z
UID:2686-1736164800-1736172000@www.pottsvillelibrary.org
SUMMARY:Used Book Sale
DESCRIPTION:Visit our monthly used book sale in the basement of the Library from 12-2 on on the 1st Monday of each month. Thank you to the Friends of the Pottsville Free Public Library for hosting our used book sales!
URL:https://www.pottsvillelibrary.org/event/used-book-sale-14/
LOCATION:Library – Basement\, 215 W. Market St.\, Pottsville\, PA\, 17901\, United States
ATTACH;FMTTYPE=image/png:https://www.pottsvillelibrary.org/wp-content/uploads/2023/11/Book_Sale_Website_Banner.png
ORGANIZER;CN="PFPL":MAILTO:potpublib@pottsvillelibrary.org
END:VEVENT
BEGIN:VEVENT
DTSTART;TZID=UTC:20250107T180000
DTEND;TZID=UTC:20250107T190000
DTSTAMP:20260424T221224
CREATED:20241209T201333Z
LAST-MODIFIED:20241209T201333Z
UID:2757-1736272800-1736276400@www.pottsvillelibrary.org
SUMMARY:Teen Advisory Board Information Session
DESCRIPTION:An informational session of the Teen Advisory Board which will be beginning properly on January 16th\, Learn how the Teen Advisory Board will operate. No registration needed for the informational session. For ages 12-18.
URL:https://www.pottsvillelibrary.org/event/teen-advisory-board-information-session/
LOCATION:Pottsville Library\, 215 W Market St\, Pottsville\, 17901\, United States
ATTACH;FMTTYPE=image/jpeg:https://www.pottsvillelibrary.org/wp-content/uploads/2024/12/TAB.jpg
ORGANIZER;CN="PFPL":MAILTO:potpublib@pottsvillelibrary.org
END:VEVENT
BEGIN:VEVENT
DTSTART;TZID=UTC:20250116T180000
DTEND;TZID=UTC:20250116T190000
DTSTAMP:20260424T221224
CREATED:20241209T201517Z
LAST-MODIFIED:20241209T201517Z
UID:2761-1737050400-1737054000@www.pottsvillelibrary.org
SUMMARY:Teen Advisory Board
DESCRIPTION:Hang out and have a say in what books\, DVDs\, games and programs the Pottsville Free Public Library offers to teens. For ages 12-18. Registration is required for this program.
URL:https://www.pottsvillelibrary.org/event/teen-advisory-board/
LOCATION:Pottsville Library\, 215 W Market St\, Pottsville\, 17901\, United States
ATTACH;FMTTYPE=image/jpeg:https://www.pottsvillelibrary.org/wp-content/uploads/2024/12/TAB.jpg
ORGANIZER;CN="PFPL":MAILTO:potpublib@pottsvillelibrary.org
END:VEVENT
BEGIN:VEVENT
DTSTART;TZID=UTC:20250118T100000
DTEND;TZID=UTC:20250118T160000
DTSTAMP:20260424T221224
CREATED:20250106T190750Z
LAST-MODIFIED:20250106T190750Z
UID:2925-1737194400-1737216000@www.pottsvillelibrary.org
SUMMARY:Winterfest
DESCRIPTION:Join the Pottsville Free Public Library for Winterfest. There will be winter themed crafts and various rec room activities all day for ages 6 and up. Additionally there will be a winter themed Storytime for ages 1-5\, though older siblings are always welcome. All activities are free.
URL:https://www.pottsvillelibrary.org/event/winterfest/
LOCATION:Pottsville Library\, 215 W Market St\, Pottsville\, 17901\, United States
ATTACH;FMTTYPE=image/jpeg:https://www.pottsvillelibrary.org/wp-content/uploads/2025/01/Winterfest2025.jpg
ORGANIZER;CN="PFPL":MAILTO:potpublib@pottsvillelibrary.org
END:VEVENT
BEGIN:VEVENT
DTSTART;TZID=UTC:20250121T173000
DTEND;TZID=UTC:20250121T190000
DTSTAMP:20260424T221224
CREATED:20250106T204153Z
LAST-MODIFIED:20250106T204153Z
UID:2929-1737480600-1737486000@www.pottsvillelibrary.org
SUMMARY:Book Trivia Family Night
DESCRIPTION:Show off your knowledge on popular books at book trivia family night at the Pottsville Free Public Library.
URL:https://www.pottsvillelibrary.org/event/book-trivia-family-night/
LOCATION:Pottsville Library\, 215 W Market St\, Pottsville\, 17901\, United States
ATTACH;FMTTYPE=image/jpeg:https://www.pottsvillelibrary.org/wp-content/uploads/2025/01/Book_Trivia_Family_Night.jpg
ORGANIZER;CN="PFPL":MAILTO:potpublib@pottsvillelibrary.org
END:VEVENT
BEGIN:VEVENT
DTSTART;TZID=UTC:20250123T173000
DTEND;TZID=UTC:20250123T190000
DTSTAMP:20260424T221224
CREATED:20241209T202301Z
LAST-MODIFIED:20241209T203957Z
UID:2767-1737653400-1737658800@www.pottsvillelibrary.org
SUMMARY:Teen Book Club
DESCRIPTION:Our continuing teen book club meets the fourth Thursday of every month. For ages 12-18\, email potchild@pottsvillelibrary.org\, call (570)-622-8880 ext 12 or come to the Youth Services desk to register.
URL:https://www.pottsvillelibrary.org/event/teen-book-club-4/
LOCATION:Pottsville Library\, 215 W Market St\, Pottsville\, 17901\, United States
ATTACH;FMTTYPE=image/jpeg:https://www.pottsvillelibrary.org/wp-content/uploads/2024/12/TeenBookClubGeneral.jpg
ORGANIZER;CN="PFPL":MAILTO:potpublib@pottsvillelibrary.org
END:VEVENT
BEGIN:VEVENT
DTSTART;TZID=UTC:20250129T170000
DTEND;TZID=UTC:20250129T190000
DTSTAMP:20260424T221224
CREATED:20241212T161342Z
LAST-MODIFIED:20241212T161342Z
UID:2910-1738170000-1738177200@www.pottsvillelibrary.org
SUMMARY:National Puzzle Day Puzzle Race
DESCRIPTION:Can you win the National Puzzle Day race? Teams up to 4 people will have up to 2 hours to complete a 500 piece puzzle. The first team to finish\, or who has the least amount of pieces left when time is called will win a prize. $5 entry fee per team.  Register fast–only 6 spots available for the race!
URL:https://www.pottsvillelibrary.org/event/national-puzzle-day-puzzle-race/
LOCATION:Pottsville Library\, 215 W Market St\, Pottsville\, 17901\, United States
ATTACH;FMTTYPE=image/jpeg:https://www.pottsvillelibrary.org/wp-content/uploads/2024/12/Puzzle-Race-Flyer.jpg
ORGANIZER;CN="PFPL":MAILTO:potpublib@pottsvillelibrary.org
END:VEVENT
END:VCALENDAR