BEGIN:VCALENDAR
VERSION:2.0
PRODID:-//Pottsville Free Public Library - ECPv6.15.13//NONSGML v1.0//EN
CALSCALE:GREGORIAN
METHOD:PUBLISH
X-ORIGINAL-URL:https://www.pottsvillelibrary.org
X-WR-CALDESC:Events for Pottsville Free Public Library
REFRESH-INTERVAL;VALUE=DURATION:PT1H
X-Robots-Tag:noindex
X-PUBLISHED-TTL:PT1H
BEGIN:VTIMEZONE
TZID:UTC
BEGIN:STANDARD
TZOFFSETFROM:+0000
TZOFFSETTO:+0000
TZNAME:UTC
DTSTART:20230101T000000
END:STANDARD
END:VTIMEZONE
BEGIN:VEVENT
DTSTART;TZID=UTC:20240401T120000
DTEND;TZID=UTC:20240401T140000
DTSTAMP:20260425T170656
CREATED:20240221T213734Z
LAST-MODIFIED:20240221T213734Z
UID:1843-1711972800-1711980000@www.pottsvillelibrary.org
SUMMARY:Used Book Sale
DESCRIPTION:Visit our monthly used book sale in the basement of the Library from 12-2 on Monday\, April 1st\, 2024. Thank you to the Friends of the Pottsville Free Public Library for hosting our used book sales!
URL:https://www.pottsvillelibrary.org/event/used-book-sale-4/
LOCATION:Library – Basement\, 215 W. Market St.\, Pottsville\, PA\, 17901\, United States
ATTACH;FMTTYPE=image/png:https://www.pottsvillelibrary.org/wp-content/uploads/2023/11/Book_Sale_Website_Banner.png
ORGANIZER;CN="PFPL":MAILTO:potpublib@pottsvillelibrary.org
END:VEVENT
BEGIN:VEVENT
DTSTART;TZID=UTC:20240402T173000
DTEND;TZID=UTC:20240402T183000
DTSTAMP:20260425T170656
CREATED:20240326T161237Z
LAST-MODIFIED:20240326T161237Z
UID:1929-1712079000-1712082600@www.pottsvillelibrary.org
SUMMARY:Lego Night
DESCRIPTION:Let your imagination run wild with our giant LEGO collection! We will have sets that you can work on\, or just use your imagination to build whatever you’d like! Legos will be available on Tuesday\, March 19th at 5:30. Email to register: potpublib@pottsvillelibrary.org
URL:https://www.pottsvillelibrary.org/event/lego-night-2/
LOCATION:Pottsville Library\, 215 W Market St\, Pottsville\, 17901\, United States
ATTACH;FMTTYPE=image/jpeg:https://www.pottsvillelibrary.org/wp-content/uploads/2024/03/Lego-Night.jpg
ORGANIZER;CN="PFPL":MAILTO:potpublib@pottsvillelibrary.org
END:VEVENT
BEGIN:VEVENT
DTSTART;TZID=UTC:20240413T103000
DTEND;TZID=UTC:20240413T113000
DTSTAMP:20260425T170656
CREATED:20240222T192450Z
LAST-MODIFIED:20240222T192450Z
UID:1851-1713004200-1713007800@www.pottsvillelibrary.org
SUMMARY:Pajama Party Storytime
DESCRIPTION:Don’t bother getting dressed on this sleepy Saturday morning–show up in your favorite pajamas for a special Saturday Storytime! Recommended for children 10 and under.  Saturday\, April 13th @ 10:30AM.  Email to register: potpublib@pottsvillelibrary.org
URL:https://www.pottsvillelibrary.org/event/pajama-party-storytime/
LOCATION:Pottsville Library\, 215 W Market St\, Pottsville\, 17901\, United States
ATTACH;FMTTYPE=image/jpeg:https://www.pottsvillelibrary.org/wp-content/uploads/2024/02/Pajama-Storytime.jpg
ORGANIZER;CN="PFPL":MAILTO:potpublib@pottsvillelibrary.org
END:VEVENT
BEGIN:VEVENT
DTSTART;TZID=UTC:20240416T173000
DTEND;TZID=UTC:20240416T183000
DTSTAMP:20260425T170656
CREATED:20240103T141438Z
LAST-MODIFIED:20240103T141438Z
UID:1686-1713288600-1713292200@www.pottsvillelibrary.org
SUMMARY:Farm Fuzzies: Stuffie Building Workshop
DESCRIPTION:Join us for another stuffie building workshop! This spring we are doing Farm Fuzzies! If you’ve been to one of these\, you know they sell out fast! Animal styles are first come\, first served. Limited quantities of each are available. You will recieve an email from the Library after payment is made to choose your animal style. \nHow it works: \n\nHand stuff your farm friend with the provided stuffing.\nPlace their wish star inside.\nZip & lock closed.\nComplete their birth certificate.\nTake them home to love!\n\nEvent is Tuesday\, April 16th at 5:30 PM. \n$25 per stuffie kit. \nPaid registration is due by April 1st. \nAvailable animals: \nBunny\, Raccoon\, Groundhog\, Horse\, Pig\, Duck\, Cow & Frog.
URL:https://www.pottsvillelibrary.org/event/farm-fuzzies-stuffie-building-workshop/
LOCATION:Pottsville Library\, 215 W Market St\, Pottsville\, 17901\, United States
ATTACH;FMTTYPE=image/jpeg:https://www.pottsvillelibrary.org/wp-content/uploads/2024/01/Farm-Fuzzies-Flyer.jpg
ORGANIZER;CN="PFPL":MAILTO:potpublib@pottsvillelibrary.org
END:VEVENT
BEGIN:VEVENT
DTSTART;TZID=UTC:20240427T110000
DTEND;TZID=UTC:20240427T150000
DTSTAMP:20260425T170656
CREATED:20231018T202609Z
LAST-MODIFIED:20231018T202609Z
UID:1581-1714215600-1714230000@www.pottsvillelibrary.org
SUMMARY:May Day Metaphysical Market
DESCRIPTION:Now accepting registrations for the May Day Metaphysical Market!\nSaturday\, April 27th\, from 11-3.\n$20 vendor fee for each space.\nPlease email ginab@pottsvillelibrary.org for the registration form. \nBrowse the historic Library building’s basement\, first and second floors filled with unique vendors! Each market gets bigger & better! Show is completely indoors.
URL:https://www.pottsvillelibrary.org/event/may-day-metaphysical-market-2/
LOCATION:Pottsville Library\, 215 W Market St\, Pottsville\, 17901\, United States
ATTACH;FMTTYPE=image/jpeg:https://www.pottsvillelibrary.org/wp-content/uploads/2023/10/May-Day-Metaphysical-24-Flyer.jpg
ORGANIZER;CN="PFPL":MAILTO:potpublib@pottsvillelibrary.org
END:VEVENT
BEGIN:VEVENT
DTSTART;TZID=UTC:20240427T110000
DTEND;TZID=UTC:20240427T150000
DTSTAMP:20260425T170656
CREATED:20240417T202039Z
LAST-MODIFIED:20240417T202053Z
UID:1998-1714215600-1714230000@www.pottsvillelibrary.org
SUMMARY:Used Book Sale
DESCRIPTION:Visit our special Saturday used book sale in the basement of the Library from 11-3 on Saturday\, April 27th\, 2024. Thank you to the Friends of the Pottsville Free Public Library for hosting our used book sales!
URL:https://www.pottsvillelibrary.org/event/used-book-sale-6/
LOCATION:Library – Basement\, 215 W. Market St.\, Pottsville\, PA\, 17901\, United States
ATTACH;FMTTYPE=image/png:https://www.pottsvillelibrary.org/wp-content/uploads/2023/11/Book_Sale_Website_Banner.png
ORGANIZER;CN="PFPL":MAILTO:potpublib@pottsvillelibrary.org
END:VEVENT
BEGIN:VEVENT
DTSTART;TZID=UTC:20240429T103000
DTEND;TZID=UTC:20240429T113000
DTSTAMP:20260425T170656
CREATED:20240423T160014Z
LAST-MODIFIED:20240423T160014Z
UID:2071-1714386600-1714390200@www.pottsvillelibrary.org
SUMMARY:Storytime
DESCRIPTION:Storytime is held Mondays at 10:30 AM.  Recommended for children 0-5 years and their caregivers.
URL:https://www.pottsvillelibrary.org/event/storytime-2/
LOCATION:Pottsville Library\, 215 W Market St\, Pottsville\, 17901\, United States
ATTACH;FMTTYPE=image/jpeg:https://www.pottsvillelibrary.org/wp-content/uploads/2024/04/Winter-Storytime.jpg
ORGANIZER;CN="PFPL":MAILTO:potpublib@pottsvillelibrary.org
END:VEVENT
BEGIN:VEVENT
DTSTART;TZID=UTC:20240430T170000
DTEND;TZID=UTC:20240430T190000
DTSTAMP:20260425T170656
CREATED:20240402T164655Z
LAST-MODIFIED:20240402T164655Z
UID:1934-1714496400-1714503600@www.pottsvillelibrary.org
SUMMARY:Puzzle Race
DESCRIPTION:Do you have what it takes to win our Puzzle Race? Register your team now to compete! Puzzle Race will begin at 5:00PM on Tuesday\, April 30th. Register your team by emailing potpublib@pottsvillelibrary.org \nRules: \n\nTeams up to 4 people may compete.\nTeam must pay a $5 entry fee.\nAll teams will work on the same puzzle.\nTeams will have up to two hours to complete.\nPrize will be awarded to first team to complete the puzzle\, or have the fewest pieces left at cutoff.\nOnly 6 teams may compete.
URL:https://www.pottsvillelibrary.org/event/puzzle-race/
LOCATION:Pottsville Library\, 215 W Market St\, Pottsville\, 17901\, United States
ATTACH;FMTTYPE=image/jpeg:https://www.pottsvillelibrary.org/wp-content/uploads/2024/04/Puzzle-Race.jpg
ORGANIZER;CN="PFPL":MAILTO:potpublib@pottsvillelibrary.org
END:VEVENT
END:VCALENDAR