BEGIN:VCALENDAR
VERSION:2.0
PRODID:-//Pottsville Free Public Library - ECPv6.15.13//NONSGML v1.0//EN
CALSCALE:GREGORIAN
METHOD:PUBLISH
X-WR-CALNAME:Pottsville Free Public Library
X-ORIGINAL-URL:https://www.pottsvillelibrary.org
X-WR-CALDESC:Events for Pottsville Free Public Library
REFRESH-INTERVAL;VALUE=DURATION:PT1H
X-Robots-Tag:noindex
X-PUBLISHED-TTL:PT1H
BEGIN:VTIMEZONE
TZID:UTC
BEGIN:STANDARD
TZOFFSETFROM:+0000
TZOFFSETTO:+0000
TZNAME:UTC
DTSTART:20240101T000000
END:STANDARD
END:VTIMEZONE
BEGIN:VEVENT
DTSTART;TZID=UTC:20250515T180000
DTEND;TZID=UTC:20250515T190000
DTSTAMP:20260425T155236
CREATED:20241210T191224Z
LAST-MODIFIED:20241210T191340Z
UID:2895-1747332000-1747335600@www.pottsvillelibrary.org
SUMMARY:Teen Advisory Board
DESCRIPTION:Hang out and have a say in what books\, DVDs\, games and programs the Pottsville Free Public Library offers to teens. For ages 12-18. Registration is required for this program.
URL:https://www.pottsvillelibrary.org/event/teen-advisory-board-5/
LOCATION:Pottsville Library\, 215 W Market St\, Pottsville\, 17901\, United States
ATTACH;FMTTYPE=image/jpeg:https://www.pottsvillelibrary.org/wp-content/uploads/2024/12/TAB.jpg
ORGANIZER;CN="PFPL":MAILTO:potpublib@pottsvillelibrary.org
END:VEVENT
BEGIN:VEVENT
DTSTART;TZID=UTC:20250517T090000
DTEND;TZID=UTC:20250517T120000
DTSTAMP:20260425T155236
CREATED:20250206T235819Z
LAST-MODIFIED:20250206T235819Z
UID:3119-1747472400-1747483200@www.pottsvillelibrary.org
SUMMARY:Open Arcade
DESCRIPTION:The Pottsville Free Public Library is opening up our arcade-style games like foosball\, billiards and a basketball shoot to everyone one day a week. No quarters required! Join us in the Library’s basement on Saturday mornings from 9 AM-12 PM. All ages and families are welcome (kids 8 and under need to have their parent or guardian with them).
URL:https://www.pottsvillelibrary.org/event/open-arcade-13/
LOCATION:Pottsville Library\, 215 W Market St\, Pottsville\, 17901\, United States
ATTACH;FMTTYPE=image/webp:https://www.pottsvillelibrary.org/wp-content/uploads/2025/02/School-Year-Open-Arcade-Sign.webp
ORGANIZER;CN="PFPL":MAILTO:potpublib@pottsvillelibrary.org
END:VEVENT
BEGIN:VEVENT
DTSTART;TZID=UTC:20250517T100000
DTEND;TZID=UTC:20250517T120000
DTSTAMP:20260425T155236
CREATED:20250317T194810Z
LAST-MODIFIED:20250317T194810Z
UID:3178-1747476000-1747483200@www.pottsvillelibrary.org
SUMMARY:Making 3-D Models
DESCRIPTION:As a part of Remake Learning Days join us in exploring 3-D models using CAD software and the library’s 3-D printer. There will be two sessions one starting at 10 am and another at 2 pm. The event is free and is recommended for ages 6 and up. Priority will be given to those who register by emailing potchild@pottsvillelibrary.org or calling (570) 622-8880 ext. 12 or by coming in and tell us you plan on dropping by.
URL:https://www.pottsvillelibrary.org/event/making-3-d-models/
LOCATION:Pottsville Library\, 215 W Market St\, Pottsville\, 17901\, United States
ATTACH;FMTTYPE=image/webp:https://www.pottsvillelibrary.org/wp-content/uploads/2025/03/Making_3-D_Models_Poster.webp
ORGANIZER;CN="PFPL":MAILTO:potpublib@pottsvillelibrary.org
END:VEVENT
BEGIN:VEVENT
DTSTART;TZID=UTC:20250517T140000
DTEND;TZID=UTC:20250517T160000
DTSTAMP:20260425T155236
CREATED:20250317T194913Z
LAST-MODIFIED:20250317T194913Z
UID:3182-1747490400-1747497600@www.pottsvillelibrary.org
SUMMARY:Making 3-D Models
DESCRIPTION:As a part of Remake Learning Days join us in exploring 3-D models using CAD software and the library’s 3-D printer. There will be two sessions one starting at 10 am and another at 2 pm. The event is free and is recommended for ages 6 and up. Priority will be given to those who register by emailing potchild@pottsvillelibrary.org or calling (570) 622-8880 ext. 12 or by coming in and tell us you plan on dropping by.
URL:https://www.pottsvillelibrary.org/event/making-3-d-models-2/
LOCATION:Pottsville Library\, 215 W Market St\, Pottsville\, 17901\, United States
ATTACH;FMTTYPE=image/webp:https://www.pottsvillelibrary.org/wp-content/uploads/2025/03/Making_3-D_Models_Poster.webp
ORGANIZER;CN="PFPL":MAILTO:potpublib@pottsvillelibrary.org
END:VEVENT
BEGIN:VEVENT
DTSTART;TZID=UTC:20250519T150000
DTEND;TZID=UTC:20250519T163000
DTSTAMP:20260425T155236
CREATED:20250328T124756Z
LAST-MODIFIED:20250328T124818Z
UID:3286-1747666800-1747672200@www.pottsvillelibrary.org
SUMMARY:Art After School: Crystalline Painting
DESCRIPTION:Join us from the week of May 19th to the 23rd for some Epsom salt water color painting to be displayed in the local artist showcase the following week. Come to the Children’s area any time between 3 and 4:30 pm\, we’ll provide the materials\, all you need to bring is your imagination. Recommended for ages 3-15.
URL:https://www.pottsvillelibrary.org/event/3286/
LOCATION:Pottsville Library\, 215 W Market St\, Pottsville\, 17901\, United States
ATTACH;FMTTYPE=image/webp:https://www.pottsvillelibrary.org/wp-content/uploads/2025/03/Childrens-art-showcase.webp
ORGANIZER;CN="PFPL":MAILTO:potpublib@pottsvillelibrary.org
END:VEVENT
BEGIN:VEVENT
DTSTART;TZID=UTC:20250519T170000
DTEND;TZID=UTC:20250519T190000
DTSTAMP:20260425T155236
CREATED:20250409T230510Z
LAST-MODIFIED:20250409T230510Z
UID:3314-1747674000-1747681200@www.pottsvillelibrary.org
SUMMARY:Magic the Gathering Night
DESCRIPTION:Join us for a night of playing Magic the Gathering in the Commander format. Registration is required so please email potchild@pottsvillelibrary.org\, call (570) 622-8880 ext. 12 or come to the library in person to register. Please also include experience with Magic the Gathering so that we can attempt to place people of a similar skill level at the same table. Recommended for ages 12 and up (though this is only a recommendation). Cards will be available to those who are new to the game.
URL:https://www.pottsvillelibrary.org/event/magic-the-gathering-night/
LOCATION:Pottsville Library\, 215 W Market St\, Pottsville\, 17901\, United States
ATTACH;FMTTYPE=image/webp:https://www.pottsvillelibrary.org/wp-content/uploads/2025/04/Magic_The_Gathering_Poster.webp
ORGANIZER;CN="PFPL":MAILTO:potpublib@pottsvillelibrary.org
END:VEVENT
BEGIN:VEVENT
DTSTART;TZID=UTC:20250520T150000
DTEND;TZID=UTC:20250520T163000
DTSTAMP:20260425T155236
CREATED:20250328T124936Z
LAST-MODIFIED:20250328T124936Z
UID:3290-1747753200-1747758600@www.pottsvillelibrary.org
SUMMARY:Art After School: Crystalline Painting
DESCRIPTION:Join us from the week of May 19th to the 23rd for some Epsom salt water color painting to be displayed in the local artist showcase the following week. Come to the Children’s area any time between 3 and 4:30 pm\, we’ll provide the materials\, all you need to bring is your imagination. Recommended for ages 3-15.
URL:https://www.pottsvillelibrary.org/event/art-after-school-crystalline-painting/
LOCATION:Pottsville Library\, 215 W Market St\, Pottsville\, 17901\, United States
ATTACH;FMTTYPE=image/webp:https://www.pottsvillelibrary.org/wp-content/uploads/2025/03/Childrens-art-showcase.webp
ORGANIZER;CN="PFPL":MAILTO:potpublib@pottsvillelibrary.org
END:VEVENT
BEGIN:VEVENT
DTSTART;TZID=UTC:20250521T150000
DTEND;TZID=UTC:20250521T163000
DTSTAMP:20260425T155236
CREATED:20250328T125042Z
LAST-MODIFIED:20250328T125042Z
UID:3294-1747839600-1747845000@www.pottsvillelibrary.org
SUMMARY:Art After School: Crystalline Painting
DESCRIPTION:Join us from the week of May 19th to the 23rd for some Epsom salt water color painting to be displayed in the local artist showcase the following week. Come to the Children’s area any time between 3 and 4:30 pm\, we’ll provide the materials\, all you need to bring is your imagination. Recommended for ages 3-15.
URL:https://www.pottsvillelibrary.org/event/art-after-school-crystalline-painting-2/
LOCATION:Pottsville Library\, 215 W Market St\, Pottsville\, 17901\, United States
ATTACH;FMTTYPE=image/webp:https://www.pottsvillelibrary.org/wp-content/uploads/2025/03/Childrens-art-showcase.webp
ORGANIZER;CN="PFPL":MAILTO:potpublib@pottsvillelibrary.org
END:VEVENT
BEGIN:VEVENT
DTSTART;TZID=UTC:20250522T150000
DTEND;TZID=UTC:20250522T163000
DTSTAMP:20260425T155236
CREATED:20250328T125222Z
LAST-MODIFIED:20250328T125222Z
UID:3297-1747926000-1747931400@www.pottsvillelibrary.org
SUMMARY:Art After School: Crystalline Painting
DESCRIPTION:Join us from the week of May 19th to the 23rd for some Epsom salt water color painting to be displayed in the local artist showcase the following week. Come to the Children’s area any time between 3 and 4:30 pm\, we’ll provide the materials\, all you need to bring is your imagination. Recommended for ages 3-15.
URL:https://www.pottsvillelibrary.org/event/art-after-school-crystalline-painting-3/
LOCATION:Pottsville Library\, 215 W Market St\, Pottsville\, 17901\, United States
ATTACH;FMTTYPE=image/webp:https://www.pottsvillelibrary.org/wp-content/uploads/2025/03/Childrens-art-showcase.webp
ORGANIZER;CN="PFPL":MAILTO:potpublib@pottsvillelibrary.org
END:VEVENT
BEGIN:VEVENT
DTSTART;TZID=UTC:20250522T173000
DTEND;TZID=UTC:20250522T190000
DTSTAMP:20260425T155236
CREATED:20241203T195059Z
LAST-MODIFIED:20241203T195059Z
UID:2734-1747935000-1747940400@www.pottsvillelibrary.org
SUMMARY:Pageturners Book Club
DESCRIPTION:If you are interested in great books and great conversation–our book club is for you! All are welcome at the Pageturners monthly meeting held the 4th Thursday of each month at 5:30 on the 2nd floor of the Library.
URL:https://www.pottsvillelibrary.org/event/pageturners-book-club-8/
LOCATION:Pottsville Library\, 215 W Market St\, Pottsville\, 17901\, United States
ATTACH;FMTTYPE=image/jpeg:https://www.pottsvillelibrary.org/wp-content/uploads/2024/12/Pageturners-Logo-scaled.jpeg
ORGANIZER;CN="PFPL":MAILTO:potpublib@pottsvillelibrary.org
END:VEVENT
BEGIN:VEVENT
DTSTART;TZID=UTC:20250522T173000
DTEND;TZID=UTC:20250522T190000
DTSTAMP:20260425T155236
CREATED:20241210T191835Z
LAST-MODIFIED:20241210T191835Z
UID:2904-1747935000-1747940400@www.pottsvillelibrary.org
SUMMARY:Teen Book Club
DESCRIPTION:Our continuing teen book club meets the fourth Thursday of every month. For ages 12-18\, email potchild@pottsvillelibrary.org\, call (570)-622-8880 ext 12 or come to the Youth Services desk to register.
URL:https://www.pottsvillelibrary.org/event/teen-book-club-8/
LOCATION:Pottsville Library\, 215 W Market St\, Pottsville\, 17901\, United States
ATTACH;FMTTYPE=image/jpeg:https://www.pottsvillelibrary.org/wp-content/uploads/2024/12/TeenBookClubGeneral.jpg
ORGANIZER;CN="PFPL":MAILTO:potpublib@pottsvillelibrary.org
END:VEVENT
BEGIN:VEVENT
DTSTART;TZID=UTC:20250523T150000
DTEND;TZID=UTC:20250523T163000
DTSTAMP:20260425T155236
CREATED:20250328T125319Z
LAST-MODIFIED:20250328T125319Z
UID:3300-1748012400-1748017800@www.pottsvillelibrary.org
SUMMARY:Art After School: Crystalline Painting
DESCRIPTION:Join us from the week of May 19th to the 23rd for some Epsom salt water color painting to be displayed in the local artist showcase the following week. Come to the Children’s area any time between 3 and 4:30 pm\, we’ll provide the materials\, all you need to bring is your imagination. Recommended for ages 3-15.
URL:https://www.pottsvillelibrary.org/event/art-after-school-crystalline-painting-4/
LOCATION:Pottsville Library\, 215 W Market St\, Pottsville\, 17901\, United States
ATTACH;FMTTYPE=image/webp:https://www.pottsvillelibrary.org/wp-content/uploads/2025/03/Childrens-art-showcase.webp
ORGANIZER;CN="PFPL":MAILTO:potpublib@pottsvillelibrary.org
END:VEVENT
BEGIN:VEVENT
DTSTART;TZID=UTC:20250524T090000
DTEND;TZID=UTC:20250524T120000
DTSTAMP:20260425T155236
CREATED:20250206T235919Z
LAST-MODIFIED:20250206T235919Z
UID:3122-1748077200-1748088000@www.pottsvillelibrary.org
SUMMARY:Open Arcade
DESCRIPTION:The Pottsville Free Public Library is opening up our arcade-style games like foosball\, billiards and a basketball shoot to everyone one day a week. No quarters required! Join us in the Library’s basement on Saturday mornings from 9 AM-12 PM. All ages and families are welcome (kids 8 and under need to have their parent or guardian with them).
URL:https://www.pottsvillelibrary.org/event/open-arcade-14/
LOCATION:Pottsville Library\, 215 W Market St\, Pottsville\, 17901\, United States
ATTACH;FMTTYPE=image/webp:https://www.pottsvillelibrary.org/wp-content/uploads/2025/02/School-Year-Open-Arcade-Sign.webp
ORGANIZER;CN="PFPL":MAILTO:potpublib@pottsvillelibrary.org
END:VEVENT
BEGIN:VEVENT
DTSTART;TZID=UTC:20250528T173000
DTEND;TZID=UTC:20250528T190000
DTSTAMP:20260425T155236
CREATED:20250115T135103Z
LAST-MODIFIED:20250115T135103Z
UID:2956-1748453400-1748458800@www.pottsvillelibrary.org
SUMMARY:Dave Day Family Paint Night
DESCRIPTION:Calling all friends and budding artists to paint a canvas in honor of Dave Naydock. The canvases will be put on display during the Dave Day celebration on Thursday\, May 29th. \nPaint\, canvas\, brushes and Dave’s favorite chocolate chip cookies are provided. \nPaint night will be held Wednesday\, May 28th at 5:30 PM. Registration is required. Please email potchild@pottsvillelibrary.org to register.
URL:https://www.pottsvillelibrary.org/event/dave-day-family-paint-night-2/
LOCATION:Pottsville Library\, 215 W Market St\, Pottsville\, 17901\, United States
ATTACH;FMTTYPE=image/jpeg:https://www.pottsvillelibrary.org/wp-content/uploads/2025/01/Dave-Day-Paint-Night-2025.jpg
ORGANIZER;CN="PFPL":MAILTO:potpublib@pottsvillelibrary.org
END:VEVENT
BEGIN:VEVENT
DTSTART;TZID=UTC:20250529T110000
DTEND;TZID=UTC:20250529T130000
DTSTAMP:20260425T155236
CREATED:20250115T140045Z
LAST-MODIFIED:20250115T140045Z
UID:2959-1748516400-1748523600@www.pottsvillelibrary.org
SUMMARY:Dave Day 2025
DESCRIPTION:Join us while we celebrate & remember artist Dave Naydock! Dave Day will feature the annual window painting\, where everyone is welcome to contribute\,; the display of artwork from budding artists completed at Family Paint Night; a proclamation from the Mayor at 11:00 AM; and of course Dave’s favorite chocolate chip cookies. Dave Day will be held on Thursday\, May 29th at 11:00AM.
URL:https://www.pottsvillelibrary.org/event/dave-day-2025/
LOCATION:Pottsville Library\, 215 W Market St\, Pottsville\, 17901\, United States
ATTACH;FMTTYPE=image/jpeg:https://www.pottsvillelibrary.org/wp-content/uploads/2025/01/Dave-Day-2025.jpg
ORGANIZER;CN="PFPL":MAILTO:potpublib@pottsvillelibrary.org
END:VEVENT
BEGIN:VEVENT
DTSTART;TZID=UTC:20250531T090000
DTEND;TZID=UTC:20250531T120000
DTSTAMP:20260425T155236
CREATED:20250207T000024Z
LAST-MODIFIED:20250207T000024Z
UID:3125-1748682000-1748692800@www.pottsvillelibrary.org
SUMMARY:Open Arcade
DESCRIPTION:The Pottsville Free Public Library is opening up our arcade-style games like foosball\, billiards and a basketball shoot to everyone one day a week. No quarters required! Join us in the Library’s basement on Saturday mornings from 9 AM-12 PM. All ages and families are welcome (kids 8 and under need to have their parent or guardian with them).
URL:https://www.pottsvillelibrary.org/event/open-arcade-15/
LOCATION:Pottsville Library\, 215 W Market St\, Pottsville\, 17901\, United States
ATTACH;FMTTYPE=image/webp:https://www.pottsvillelibrary.org/wp-content/uploads/2025/02/School-Year-Open-Arcade-Sign.webp
ORGANIZER;CN="PFPL":MAILTO:potpublib@pottsvillelibrary.org
END:VEVENT
BEGIN:VEVENT
DTSTART;TZID=UTC:20250531T130000
DTEND;TZID=UTC:20250531T160000
DTSTAMP:20260425T155236
CREATED:20250324T183227Z
LAST-MODIFIED:20250324T183227Z
UID:3190-1748696400-1748707200@www.pottsvillelibrary.org
SUMMARY:Book Signing with Michael Glore & Michael Kitsock
DESCRIPTION:Join us for a local author book signing with Michael Glore and Michael Kitsock\, who are promoting their new book “The Great Memorial Day Fire of 1945 and Other Schuylkill County Disasters”. They will be set up at the Pottsville Library on Saturday\, May 31st from 1 to 4pm. Books will be available for purchase.
URL:https://www.pottsvillelibrary.org/event/book-signing-with-michael-glore-michael-kitsock/
LOCATION:Pottsville Library\, 215 W Market St\, Pottsville\, 17901\, United States
ATTACH;FMTTYPE=image/jpeg:https://www.pottsvillelibrary.org/wp-content/uploads/2025/03/Memorial-Day-Fire-Book.jpg
ORGANIZER;CN="PFPL":MAILTO:potpublib@pottsvillelibrary.org
END:VEVENT
BEGIN:VEVENT
DTSTART;TZID=UTC:20250602T120000
DTEND;TZID=UTC:20250602T140000
DTSTAMP:20260425T155236
CREATED:20241203T145709Z
LAST-MODIFIED:20241203T145709Z
UID:2702-1748865600-1748872800@www.pottsvillelibrary.org
SUMMARY:Used Book Sale
DESCRIPTION:Visit our monthly used book sale in the basement of the Library from 12-2 on on the 1st Monday of each month. Thank you to the Friends of the Pottsville Free Public Library for hosting our used book sales!
URL:https://www.pottsvillelibrary.org/event/used-book-sale-19/
LOCATION:Library – Basement\, 215 W. Market St.\, Pottsville\, PA\, 17901\, United States
ATTACH;FMTTYPE=image/png:https://www.pottsvillelibrary.org/wp-content/uploads/2024/12/Book-Sale.png
ORGANIZER;CN="PFPL":MAILTO:potpublib@pottsvillelibrary.org
END:VEVENT
BEGIN:VEVENT
DTSTART;TZID=UTC:20250607T090000
DTEND;TZID=UTC:20250607T120000
DTSTAMP:20260425T155236
CREATED:20250207T000134Z
LAST-MODIFIED:20250207T000134Z
UID:3128-1749286800-1749297600@www.pottsvillelibrary.org
SUMMARY:Open Arcade
DESCRIPTION:The Pottsville Free Public Library is opening up our arcade-style games like foosball\, billiards and a basketball shoot to everyone one day a week. No quarters required! Join us in the Library’s basement on Saturday mornings from 9 AM-12 PM. All ages and families are welcome (kids 8 and under need to have their parent or guardian with them).
URL:https://www.pottsvillelibrary.org/event/open-arcade-16/
LOCATION:Pottsville Library\, 215 W Market St\, Pottsville\, 17901\, United States
ATTACH;FMTTYPE=image/webp:https://www.pottsvillelibrary.org/wp-content/uploads/2025/02/School-Year-Open-Arcade-Sign.webp
ORGANIZER;CN="PFPL":MAILTO:potpublib@pottsvillelibrary.org
END:VEVENT
BEGIN:VEVENT
DTSTART;TZID=UTC:20250610T173000
DTEND;TZID=UTC:20250610T190000
DTSTAMP:20260425T155236
CREATED:20250114T210202Z
LAST-MODIFIED:20250114T210202Z
UID:2952-1749576600-1749582000@www.pottsvillelibrary.org
SUMMARY:Golden Girls Bingo
DESCRIPTION:Grab “the girls” to play 10 rounds of Golden Girls themed bingo! Instead of numbers\, you’ll be matching things like shady pines\, Sophia’s purse & Stan’s traffic cone! Prizes will be awarded for each game. Light refreshments are included & this event is BYOB. Bingo will start at 5:30PM on Tuesday\, June 10th in the Library basement. $15 to play.
URL:https://www.pottsvillelibrary.org/event/golden-girls-bingo-2/
LOCATION:Pottsville Library\, 215 W Market St\, Pottsville\, 17901\, United States
ATTACH;FMTTYPE=image/jpeg:https://www.pottsvillelibrary.org/wp-content/uploads/2025/01/Golden-Girls-Bingo-Round-3.jpg
ORGANIZER;CN="PFPL":MAILTO:potpublib@pottsvillelibrary.org
END:VEVENT
BEGIN:VEVENT
DTSTART;TZID=UTC:20250614T090000
DTEND;TZID=UTC:20250614T120000
DTSTAMP:20260425T155236
CREATED:20250207T000240Z
LAST-MODIFIED:20250207T000240Z
UID:3131-1749891600-1749902400@www.pottsvillelibrary.org
SUMMARY:Open Arcade
DESCRIPTION:The Pottsville Free Public Library is opening up our arcade-style games like foosball\, billiards and a basketball shoot to everyone one day a week. No quarters required! Join us in the Library’s basement on Saturday mornings from 9 AM-12 PM. All ages and families are welcome (kids 8 and under need to have their parent or guardian with them).
URL:https://www.pottsvillelibrary.org/event/open-arcade-17/
LOCATION:Pottsville Library\, 215 W Market St\, Pottsville\, 17901\, United States
ATTACH;FMTTYPE=image/webp:https://www.pottsvillelibrary.org/wp-content/uploads/2025/02/School-Year-Open-Arcade-Sign.webp
ORGANIZER;CN="PFPL":MAILTO:potpublib@pottsvillelibrary.org
END:VEVENT
BEGIN:VEVENT
DTSTART;TZID=UTC:20250616T103000
DTEND;TZID=UTC:20250616T113000
DTSTAMP:20260425T155236
CREATED:20250422T181727Z
LAST-MODIFIED:20250422T181727Z
UID:3348-1750069800-1750073400@www.pottsvillelibrary.org
SUMMARY:Summer Storytime
DESCRIPTION:Join us for a story\, songs and a craft for our Summer Storytimes on Mondays at 10:30 am running from June 16th until August 4th. Recommended for ages 1-5\, older and younger siblings are always welcome. Register by emailing potchild@pottsvillelibrary.org\, calling 570-622-8880 ext. 12 or coming in and telling us in person.
URL:https://www.pottsvillelibrary.org/event/summer-storytime/
LOCATION:Pottsville Library\, 215 W Market St\, Pottsville\, 17901\, United States
ATTACH;FMTTYPE=image/webp:https://www.pottsvillelibrary.org/wp-content/uploads/2025/04/Summer_Storytime2025.webp
ORGANIZER;CN="PFPL":MAILTO:potpublib@pottsvillelibrary.org
END:VEVENT
BEGIN:VEVENT
DTSTART;TZID=UTC:20250617T170000
DTEND;TZID=UTC:20250617T190000
DTSTAMP:20260425T155236
CREATED:20250115T161650Z
LAST-MODIFIED:20250115T161650Z
UID:2966-1750179600-1750186800@www.pottsvillelibrary.org
SUMMARY:The Mad Planter: Succulent Planting Workshop
DESCRIPTION:Enjoy a summer evening in Wonderland! The Mad Planter is a succulent planting workshop set to the theme of Alice in Wonderland! We will be planting in mismatched teacups and decorating our creation with whimsical Wonderland themed touches. Teacup/saucer\, soil\, gloves\, a selection of decorative items and a variety of succulents are included in workshop price. Feel free to bring along anything extra you wish to add to your planter. \nThe Mad Planter will be held on Tuesday\, June 17th at 5:00 PM. Cost for each attendant is $25. The Mad Planter is a BYOB event.
URL:https://www.pottsvillelibrary.org/event/the-mad-planter-succulent-planting-workshop/
LOCATION:Library – Basement\, 215 W. Market St.\, Pottsville\, PA\, 17901\, United States
ATTACH;FMTTYPE=image/jpeg:https://www.pottsvillelibrary.org/wp-content/uploads/2025/01/Mad-Planter-Flyer.jpg
ORGANIZER;CN="PFPL":MAILTO:potpublib@pottsvillelibrary.org
END:VEVENT
BEGIN:VEVENT
DTSTART;TZID=UTC:20250617T173000
DTEND;TZID=UTC:20250617T190000
DTSTAMP:20260425T155236
CREATED:20250422T215254Z
LAST-MODIFIED:20250422T215254Z
UID:3373-1750181400-1750186800@www.pottsvillelibrary.org
SUMMARY:Video Game Tournament Family Night
DESCRIPTION:Join us for our first Family Night of Summer Reading Club\, a family video game night\, including a Mario Kart 8 tournament\, first place gets an Amazon gift card and second place gets a GameStop gift card. Register by emailing potchild@pottsvillelibrary.org\, call 570-622-8880 ext. 12 or come to the library and tell us in person.
URL:https://www.pottsvillelibrary.org/event/video-game-tournament-family-night/
LOCATION:Pottsville Library\, 215 W Market St\, Pottsville\, 17901\, United States
ATTACH;FMTTYPE=image/webp:https://www.pottsvillelibrary.org/wp-content/uploads/2025/04/Video-Game-night.webp
ORGANIZER;CN="PFPL":MAILTO:potpublib@pottsvillelibrary.org
END:VEVENT
BEGIN:VEVENT
DTSTART;TZID=UTC:20250618T103000
DTEND;TZID=UTC:20250618T120000
DTSTAMP:20260425T155236
CREATED:20250424T215549Z
LAST-MODIFIED:20250424T215549Z
UID:3427-1750242600-1750248000@www.pottsvillelibrary.org
SUMMARY:Kids Summer Reading Club
DESCRIPTION:Join us for the Kids Summer Reading Club for ages 6-12 happening every Wednesday from June 18th until August 6th\, 10:30 am until noon. Different activities and crafts every week on the theme of color our world. To register email potchild@pottsvillelibrary.org\, call 570-622-8880 ext. 12 or come to the library and tell us you plan on coming.
URL:https://www.pottsvillelibrary.org/event/kids-summer-reading-club/
LOCATION:Pottsville Library\, 215 W Market St\, Pottsville\, 17901\, United States
ATTACH;FMTTYPE=image/webp:https://www.pottsvillelibrary.org/wp-content/uploads/2025/04/Kids_Summer_Reading_Club_2025_flier.webp
ORGANIZER;CN="PFPL":MAILTO:potpublib@pottsvillelibrary.org
END:VEVENT
BEGIN:VEVENT
DTSTART;TZID=UTC:20250619T103000
DTEND;TZID=UTC:20250619T120000
DTSTAMP:20260425T155236
CREATED:20250424T221641Z
LAST-MODIFIED:20250424T221641Z
UID:3452-1750329000-1750334400@www.pottsvillelibrary.org
SUMMARY:Teen Summer Reading Crew
DESCRIPTION:Join us for the Teens Summer Reading Crew for ages 12-18 happening every Thursday from June 19th until August 7th\, 10:30 am until noon. Different activities and crafts every week on the theme of color our world. To register email potchild@pottsvillelibrary.org\, call 570-622-8880 ext. 12 or come to the library and tell us you plan on coming.
URL:https://www.pottsvillelibrary.org/event/teen-summer-reading-crew/
LOCATION:Pottsville Library\, 215 W Market St\, Pottsville\, 17901\, United States
ATTACH;FMTTYPE=image/webp:https://www.pottsvillelibrary.org/wp-content/uploads/2025/04/Teen_Summer_Reading_Crew_2025_flier.webp
ORGANIZER;CN="PFPL":MAILTO:potpublib@pottsvillelibrary.org
END:VEVENT
BEGIN:VEVENT
DTSTART;TZID=UTC:20250620T110000
DTEND;TZID=UTC:20250620T150000
DTSTAMP:20260425T155236
CREATED:20250205T211859Z
LAST-MODIFIED:20250205T211859Z
UID:3024-1750417200-1750431600@www.pottsvillelibrary.org
SUMMARY:Adopt a Shelter Cat Month with Save the Strays Schuylkill
DESCRIPTION:Join us on Friday\, June 20th from 11-3 to meet adoptable cats! Volunteers from Save the Strays Schuylkill will be bringing along some rescues–so make sure to contact them for an adoption application ahead of time if you want to be able to adopt that day! If you can’t adopt\, you can still help–we are collecting donations of wet or dry cat food\, litter\, treats\, toys\, or money towards vet fees so they can continue to do the wonderful work that they do!
URL:https://www.pottsvillelibrary.org/event/adopt-a-shelter-cat-month-with-save-the-strays-schuylkill/
LOCATION:Pottsville Library\, 215 W Market St\, Pottsville\, 17901\, United States
ATTACH;FMTTYPE=image/jpeg:https://www.pottsvillelibrary.org/wp-content/uploads/2025/02/Save-the-Strays-Flyer.jpg
ORGANIZER;CN="PFPL":MAILTO:potpublib@pottsvillelibrary.org
END:VEVENT
BEGIN:VEVENT
DTSTART;TZID=UTC:20250621T090000
DTEND;TZID=UTC:20250621T120000
DTSTAMP:20260425T155236
CREATED:20250611T182345Z
LAST-MODIFIED:20250611T182345Z
UID:3574-1750496400-1750507200@www.pottsvillelibrary.org
SUMMARY:Open Arcade
DESCRIPTION:The Pottsville Free Public Library is opening up our arcade-style games like foosball\, billiards and a basketball shoot to everyone one day a week. No quarters required! Join us in the Library’s basement on Saturday mornings from 9 AM-12 PM. All ages and families are welcome (kids 8 and under need to have their parent or guardian with them).
URL:https://www.pottsvillelibrary.org/event/open-arcade-2/
LOCATION:Pottsville Library\, 215 W Market St\, Pottsville\, 17901\, United States
ATTACH;FMTTYPE=image/webp:https://www.pottsvillelibrary.org/wp-content/uploads/2025/06/School-Year-Open-Arcade-Sign.webp
ORGANIZER;CN="PFPL":MAILTO:potpublib@pottsvillelibrary.org
END:VEVENT
BEGIN:VEVENT
DTSTART;TZID=UTC:20250621T110000
DTEND;TZID=UTC:20250621T120000
DTSTAMP:20260425T155236
CREATED:20250422T224154Z
LAST-MODIFIED:20250422T224154Z
UID:3377-1750503600-1750507200@www.pottsvillelibrary.org
SUMMARY:Imagination Saturday Storytime
DESCRIPTION:Join us for a Saturday Storytime celebrating the imaginary and fantastic on June 21st at 11 am. A story\, songs and a craft. Recommended for ages 1-5 but siblings are always welcome. Register by emailing potchild@pottsvillelibrary.org\, calling 570-622-8880 ext. 12 or coming to the library and telling us in person.
URL:https://www.pottsvillelibrary.org/event/imagination-saturday-storytime/
LOCATION:Pottsville Library\, 215 W Market St\, Pottsville\, 17901\, United States
ATTACH;FMTTYPE=image/webp:https://www.pottsvillelibrary.org/wp-content/uploads/2025/04/Imagination_Saturday_Storytime2025.webp
ORGANIZER;CN="PFPL":MAILTO:potpublib@pottsvillelibrary.org
END:VEVENT
BEGIN:VEVENT
DTSTART;TZID=UTC:20250621T140000
DTEND;TZID=UTC:20250621T160000
DTSTAMP:20260425T155236
CREATED:20250424T214339Z
LAST-MODIFIED:20250514T200954Z
UID:3411-1750514400-1750521600@www.pottsvillelibrary.org
SUMMARY:Juneteenth Celebration
DESCRIPTION:Join us at the Pottsville Free Public Library for our annual celebration of Juneteenth. Daily trivia questions will be at the library all week leading up to our annual party on Saturday June 21st at 2:00 pm. To register email potchild@pottsvillelibrary.org\, call 570-622-8880 ext. 12 or come to the library and tell us you plan on coming.
URL:https://www.pottsvillelibrary.org/event/juneteenth-celebration-2/
LOCATION:Pottsville Library\, 215 W Market St\, Pottsville\, 17901\, United States
ATTACH;FMTTYPE=image/webp:https://www.pottsvillelibrary.org/wp-content/uploads/2025/04/Juneteenth_2025-1.webp
ORGANIZER;CN="PFPL":MAILTO:potpublib@pottsvillelibrary.org
END:VEVENT
END:VCALENDAR