BEGIN:VCALENDAR
VERSION:2.0
PRODID:-//Pottsville Free Public Library - ECPv6.15.13//NONSGML v1.0//EN
CALSCALE:GREGORIAN
METHOD:PUBLISH
X-WR-CALNAME:Pottsville Free Public Library
X-ORIGINAL-URL:https://www.pottsvillelibrary.org
X-WR-CALDESC:Events for Pottsville Free Public Library
REFRESH-INTERVAL;VALUE=DURATION:PT1H
X-Robots-Tag:noindex
X-PUBLISHED-TTL:PT1H
BEGIN:VTIMEZONE
TZID:UTC
BEGIN:STANDARD
TZOFFSETFROM:+0000
TZOFFSETTO:+0000
TZNAME:UTC
DTSTART:20230101T000000
END:STANDARD
END:VTIMEZONE
BEGIN:VEVENT
DTSTART;TZID=UTC:20241008T170000
DTEND;TZID=UTC:20241008T190000
DTSTAMP:20260425T155736
CREATED:20240422T143914Z
LAST-MODIFIED:20240422T143914Z
UID:2024-1728406800-1728414000@www.pottsvillelibrary.org
SUMMARY:Tarot Tuesdays
DESCRIPTION:What is in the cards for you? Find out by booking your personal 15-20 minute reading with one of the readers of Fortune’s Favour at the Pottsville Library! Appointments start at 5:00 pm. Call or book online through our Facebook event page to reserve a time slot. Tuesday\, October 1st and 8th. $20 per reading
URL:https://www.pottsvillelibrary.org/event/tarot-tuesdays-5/
LOCATION:Pottsville Library\, 215 W Market St\, Pottsville\, 17901\, United States
ATTACH;FMTTYPE=image/jpeg:https://www.pottsvillelibrary.org/wp-content/uploads/2024/04/Tarot-Tuesdays-Flyer.jpg
ORGANIZER;CN="PFPL":MAILTO:potpublib@pottsvillelibrary.org
END:VEVENT
BEGIN:VEVENT
DTSTART;TZID=UTC:20241007T161500
DTEND;TZID=UTC:20241007T170000
DTSTAMP:20260425T155736
CREATED:20240913T154218Z
LAST-MODIFIED:20240913T171849Z
UID:2450-1728317700-1728320400@www.pottsvillelibrary.org
SUMMARY:Robot Refresh
DESCRIPTION:Explore coding and robotics with the library’s STEM kits. Recommended for ages 6-12. Please register by emailing potchild@pottsvillelibrary.org.
URL:https://www.pottsvillelibrary.org/event/robot-refresh/
LOCATION:Pottsville Library\, 215 W Market St\, Pottsville\, 17901\, United States
ATTACH;FMTTYPE=image/jpeg:https://www.pottsvillelibrary.org/wp-content/uploads/2024/09/robot_refresh_fall_2024.jpg
END:VEVENT
BEGIN:VEVENT
DTSTART;TZID=UTC:20241007T120000
DTEND;TZID=UTC:20241007T140000
DTSTAMP:20260425T155736
CREATED:20240430T181443Z
LAST-MODIFIED:20240430T181443Z
UID:2126-1728302400-1728309600@www.pottsvillelibrary.org
SUMMARY:Used Book Sale
DESCRIPTION:Visit our monthly used book sale in the basement of the Library from 12-2 on Monday\, October 7th\, 2024. Thank you to the Friends of the Pottsville Free Public Library for hosting our used book sales!
URL:https://www.pottsvillelibrary.org/event/used-book-sale-11/
LOCATION:Library – Basement\, 215 W. Market St.\, Pottsville\, PA\, 17901\, United States
ATTACH;FMTTYPE=image/png:https://www.pottsvillelibrary.org/wp-content/uploads/2023/11/Book_Sale_Website_Banner.png
ORGANIZER;CN="PFPL":MAILTO:potpublib@pottsvillelibrary.org
END:VEVENT
BEGIN:VEVENT
DTSTART;TZID=UTC:20241007T103000
DTEND;TZID=UTC:20241007T113000
DTSTAMP:20260425T155736
CREATED:20240820T152807Z
LAST-MODIFIED:20240820T152807Z
UID:2382-1728297000-1728300600@www.pottsvillelibrary.org
SUMMARY:Storytime
DESCRIPTION:Storytime runs from Monday\, September 23rd to Monday December 9th. Storytime is held each Monday at 10:30 AM.  Recommended for children up to 5 years & their caregivers.  Please email with names & ages of children to register: potchild@pottsvillelibrary.org
URL:https://www.pottsvillelibrary.org/event/storytime-16/
LOCATION:Pottsville Library\, 215 W Market St\, Pottsville\, 17901\, United States
ATTACH;FMTTYPE=image/jpeg:https://www.pottsvillelibrary.org/wp-content/uploads/2024/08/Fall-ST-24.jpg
ORGANIZER;CN="PFPL":MAILTO:potpublib@pottsvillelibrary.org
END:VEVENT
BEGIN:VEVENT
DTSTART;TZID=UTC:20241002T173000
DTEND;TZID=UTC:20241002T190000
DTSTAMP:20260425T155736
CREATED:20240514T143940Z
LAST-MODIFIED:20240514T143940Z
UID:2180-1727890200-1727895600@www.pottsvillelibrary.org
SUMMARY:Witchy Wednesday: Broom Making Workshop
DESCRIPTION:Join us for a Witchy Wednesday Workshop & fly out with a brand new broom! The Broom Making Workshop will be held on Wednesday\, October 2nd at 5:30PM. $50 fee includes all basic supplies to make your own witches broom.  Feel free to bring dried flowers\, charms or anything special you want to add to your broom. Prepaid registration is due by September 1st. No late registrations will be taken to make sure we have supplies for everyone.  Class size is limited\, so book early!
URL:https://www.pottsvillelibrary.org/event/witchy-wednesday-broom-making-workshop/
LOCATION:Pottsville Library\, 215 W Market St\, Pottsville\, 17901\, United States
ATTACH;FMTTYPE=image/jpeg:https://www.pottsvillelibrary.org/wp-content/uploads/2024/05/Broom-Making-.jpeg
ORGANIZER;CN="PFPL":MAILTO:potpublib@pottsvillelibrary.org
END:VEVENT
BEGIN:VEVENT
DTSTART;TZID=UTC:20241001T170000
DTEND;TZID=UTC:20241001T190000
DTSTAMP:20260425T155736
CREATED:20240422T143811Z
LAST-MODIFIED:20240422T143811Z
UID:2020-1727802000-1727809200@www.pottsvillelibrary.org
SUMMARY:Tarot Tuesdays
DESCRIPTION:What is in the cards for you? Find out by booking your personal 15-20 minute reading with one of the readers of Fortune’s Favour at the Pottsville Library! Appointments start at 5:00 pm. Call or book online through our Facebook event page to reserve a time slot. Tuesday\, October 1st and 8th. $20 per reading.
URL:https://www.pottsvillelibrary.org/event/tarot-tuesdays-4/
LOCATION:Pottsville Library\, 215 W Market St\, Pottsville\, 17901\, United States
ATTACH;FMTTYPE=image/jpeg:https://www.pottsvillelibrary.org/wp-content/uploads/2024/04/Tarot-Tuesdays-Flyer.jpg
ORGANIZER;CN="PFPL":MAILTO:potpublib@pottsvillelibrary.org
END:VEVENT
BEGIN:VEVENT
DTSTART;TZID=UTC:20240930T163000
DTEND;TZID=UTC:20240930T170000
DTSTAMP:20260425T155736
CREATED:20240919T210259Z
LAST-MODIFIED:20240919T210259Z
UID:2486-1727713800-1727715600@www.pottsvillelibrary.org
SUMMARY:Escape from Mr. Lemoncello's Library Escape Room
DESCRIPTION:Join us Monday\, September 30th at 4:30pm for an escape room at the Pottsville Free Public Library. Recommended for ages 6 – 12. Please register at potchild@pottsvillelibrary.org.
URL:https://www.pottsvillelibrary.org/event/escape-from-mr-lemoncellos-library-escape-room/
LOCATION:Pottsville Library\, 215 W Market St\, Pottsville\, 17901\, United States
ATTACH;FMTTYPE=image/png:https://www.pottsvillelibrary.org/wp-content/uploads/2024/09/SeptBreakout2024test.png
ORGANIZER;CN="PFPL":MAILTO:potpublib@pottsvillelibrary.org
END:VEVENT
BEGIN:VEVENT
DTSTART;TZID=UTC:20240930T103000
DTEND;TZID=UTC:20240930T113000
DTSTAMP:20260425T155736
CREATED:20240820T152709Z
LAST-MODIFIED:20240820T152709Z
UID:2379-1727692200-1727695800@www.pottsvillelibrary.org
SUMMARY:Storytime
DESCRIPTION:Storytime runs from Monday\, September 23rd to Monday December 9th. Storytime is held each Monday at 10:30 AM.  Recommended for children up to 5 years & their caregivers.  Please email with names & ages of children to register: potchild@pottsvillelibrary.org
URL:https://www.pottsvillelibrary.org/event/storytime-15/
LOCATION:Pottsville Library\, 215 W Market St\, Pottsville\, 17901\, United States
ATTACH;FMTTYPE=image/jpeg:https://www.pottsvillelibrary.org/wp-content/uploads/2024/08/Fall-ST-24.jpg
ORGANIZER;CN="PFPL":MAILTO:potpublib@pottsvillelibrary.org
END:VEVENT
BEGIN:VEVENT
DTSTART;TZID=UTC:20240926T173000
DTEND;TZID=UTC:20240926T190000
DTSTAMP:20260425T155736
CREATED:20240430T182908Z
LAST-MODIFIED:20240430T182908Z
UID:2147-1727371800-1727377200@www.pottsvillelibrary.org
SUMMARY:Pageturners Book Club
DESCRIPTION:If you are interested in great books and great conversation–our book club is for you! All are welcome at the Pageturners monthly meeting held the 4th Thursday of each month at 5:30 on the 2nd floor of the Library.
URL:https://www.pottsvillelibrary.org/event/pageturners-book-club-4/
LOCATION:Pottsville Library\, 215 W Market St\, Pottsville\, 17901\, United States
ATTACH;FMTTYPE=image/jpeg:https://www.pottsvillelibrary.org/wp-content/uploads/2024/04/Pageturners-Logo-scaled.jpeg
ORGANIZER;CN="PFPL":MAILTO:potpublib@pottsvillelibrary.org
END:VEVENT
BEGIN:VEVENT
DTSTART;TZID=UTC:20240924T170000
DTEND;TZID=UTC:20240924T190000
DTSTAMP:20260425T155736
CREATED:20240823T140921Z
LAST-MODIFIED:20240823T140921Z
UID:2421-1727197200-1727204400@www.pottsvillelibrary.org
SUMMARY:Banned Books Puzzle Race
DESCRIPTION:Celebrate Banned Books Week with us by joining in our Puzzle Race! Each team will be trying to beat the clock to complete a 500 piece banned book themed puzzle.  We can accommodate 6 teams of up to 4 people.  Teams will have up to 2 hours to complete the puzzle. The team who finishes first\, or who has the fewest pieces left at the cutoff time will win the prize.  There is a $5 entry fee per team to join. Register your team by emailing potpublib@pottsvillelibrary.org \nPuzzle Race will be held on Tuesday\, September 24th\, at 5:00 PM.
URL:https://www.pottsvillelibrary.org/event/banned-books-puzzle-race/
LOCATION:Pottsville Library\, 215 W Market St\, Pottsville\, 17901\, United States
ATTACH;FMTTYPE=image/jpeg:https://www.pottsvillelibrary.org/wp-content/uploads/2024/08/Banned-Books-Puzzle-Race-Flyer.jpg
ORGANIZER;CN="PFPL":MAILTO:potpublib@pottsvillelibrary.org
END:VEVENT
BEGIN:VEVENT
DTSTART;TZID=UTC:20240923T103000
DTEND;TZID=UTC:20240923T113000
DTSTAMP:20260425T155736
CREATED:20240820T152558Z
LAST-MODIFIED:20240820T152558Z
UID:2375-1727087400-1727091000@www.pottsvillelibrary.org
SUMMARY:Storytime
DESCRIPTION:Storytime runs from Monday\, September 23rd to Monday December 9th. Storytime is held each Monday at 10:30 AM.  Recommended for children up to 5 years & their caregivers.  Please email with names & ages of children to register: potchild@pottsvillelibrary.org
URL:https://www.pottsvillelibrary.org/event/storytime-14/
LOCATION:Pottsville Library\, 215 W Market St\, Pottsville\, 17901\, United States
ATTACH;FMTTYPE=image/jpeg:https://www.pottsvillelibrary.org/wp-content/uploads/2024/08/Fall-ST-24.jpg
ORGANIZER;CN="PFPL":MAILTO:potpublib@pottsvillelibrary.org
END:VEVENT
BEGIN:VEVENT
DTSTART;TZID=UTC:20240917T173000
DTEND;TZID=UTC:20240917T190000
DTSTAMP:20260425T155736
CREATED:20240813T203414Z
LAST-MODIFIED:20240813T203414Z
UID:2369-1726594200-1726599600@www.pottsvillelibrary.org
SUMMARY:Computer Basics Workshop
DESCRIPTION:Tuesday\, September 17 @ 5:30 PM\, in the Computer Lab (2nd Floor) at the Pottsville Free Public Library\n\nBack by popular demand\, this one-hour session covers basics like:What’s on your computer?How do you save a file?How do you delete a file?And more!All you need to know how to do is use a computer mouse.\n\nPottsville Free Public Library computer workshops are open to all residents of Schuylkill County and the Pottsville Library District. Advance registration is required because seating is limited to 8 people. Call us at 570-622-8880 to reserve your space.\n\nAdditional computer workshops will be offered this Fall.
URL:https://www.pottsvillelibrary.org/event/computer-basics-workshop-2/
LOCATION:Pottsville Library\, 215 W Market St\, Pottsville\, 17901\, United States
ATTACH;FMTTYPE=image/png:https://www.pottsvillelibrary.org/wp-content/uploads/2024/08/Computer-basics-FB-flag.png
ORGANIZER;CN="PFPL":MAILTO:potpublib@pottsvillelibrary.org
END:VEVENT
BEGIN:VEVENT
DTSTART;TZID=UTC:20240917T170000
DTEND;TZID=UTC:20240917T190000
DTSTAMP:20260425T155736
CREATED:20240828T192520Z
LAST-MODIFIED:20240828T192520Z
UID:2425-1726592400-1726599600@www.pottsvillelibrary.org
SUMMARY:Board Game Night
DESCRIPTION:Join us on Tuesday\, September 17th at 5pm for a night of fun with classic & modern board games! Bring the whole family! Register by email: potchild@pottsvillelibrary.org
URL:https://www.pottsvillelibrary.org/event/board-game-night-3/
LOCATION:Pottsville Library\, 215 W Market St\, Pottsville\, 17901\, United States
ATTACH;FMTTYPE=image/jpeg:https://www.pottsvillelibrary.org/wp-content/uploads/2024/08/Board_Game_Night_20240917.jpg
ORGANIZER;CN="PFPL":MAILTO:potpublib@pottsvillelibrary.org
END:VEVENT
BEGIN:VEVENT
DTSTART;TZID=UTC:20240903T120000
DTEND;TZID=UTC:20240903T140000
DTSTAMP:20260425T155736
CREATED:20240430T181345Z
LAST-MODIFIED:20240430T181345Z
UID:2123-1725364800-1725372000@www.pottsvillelibrary.org
SUMMARY:Used Book Sale
DESCRIPTION:Visit our monthly used book sale in the basement of the Library from 12-2 on Tuesday\, September 3rd\, 2024. Thank you to the Friends of the Pottsville Free Public Library for hosting our used book sales!
URL:https://www.pottsvillelibrary.org/event/used-book-sale-10/
LOCATION:Library – Basement\, 215 W. Market St.\, Pottsville\, PA\, 17901\, United States
ATTACH;FMTTYPE=image/png:https://www.pottsvillelibrary.org/wp-content/uploads/2023/11/Book_Sale_Website_Banner.png
ORGANIZER;CN="PFPL":MAILTO:potpublib@pottsvillelibrary.org
END:VEVENT
BEGIN:VEVENT
DTSTART;TZID=UTC:20240822T173000
DTEND;TZID=UTC:20240822T190000
DTSTAMP:20260425T155736
CREATED:20240430T182811Z
LAST-MODIFIED:20240430T182811Z
UID:2144-1724347800-1724353200@www.pottsvillelibrary.org
SUMMARY:Pageturners Book Club
DESCRIPTION:If you are interested in great books and great conversation–our book club is for you! All are welcome at the Pageturners monthly meeting held the 4th Thursday of each month at 5:30 on the 2nd floor of the Library.
URL:https://www.pottsvillelibrary.org/event/pageturners-book-club-3/
LOCATION:Pottsville Library\, 215 W Market St\, Pottsville\, 17901\, United States
ATTACH;FMTTYPE=image/jpeg:https://www.pottsvillelibrary.org/wp-content/uploads/2024/04/Pageturners-Logo-scaled.jpeg
ORGANIZER;CN="PFPL":MAILTO:potpublib@pottsvillelibrary.org
END:VEVENT
BEGIN:VEVENT
DTSTART;TZID=UTC:20240817T103000
DTEND;TZID=UTC:20240817T113000
DTSTAMP:20260425T155736
CREATED:20240506T155157Z
LAST-MODIFIED:20240506T155157Z
UID:2162-1723890600-1723894200@www.pottsvillelibrary.org
SUMMARY:Dance Party Storytime
DESCRIPTION:Join us for a special Dance Party Saturday Storytime on August 17th at 10:30AM.  Storytime is recommended for children up to 5\, however older siblings are always welcome.  Email with names and ages of children attending: potpublib@pottsvillelibrary.org
URL:https://www.pottsvillelibrary.org/event/dance-party-storytime/
LOCATION:Pottsville Library\, 215 W Market St\, Pottsville\, 17901\, United States
ATTACH;FMTTYPE=image/jpeg:https://www.pottsvillelibrary.org/wp-content/uploads/2024/05/Sance-Party-ST.jpg
ORGANIZER;CN="PFPL":MAILTO:potpublib@pottsvillelibrary.org
END:VEVENT
BEGIN:VEVENT
DTSTART;TZID=UTC:20240816T110000
DTEND;TZID=UTC:20240816T150000
DTSTAMP:20260425T155736
CREATED:20240422T141143Z
LAST-MODIFIED:20240422T141143Z
UID:2017-1723806000-1723820400@www.pottsvillelibrary.org
SUMMARY:Funday Friday!
DESCRIPTION:Stop by the Library for Funday Friday! We will have games and toys set up inside the Library\, and outside on 3rd & Market Streets\, weather permitting. Free ice cream & refreshments for children. Refreshments are sponsored by the Friends of the Pottsville Library. Games and refreshments will be available from 11-3.
URL:https://www.pottsvillelibrary.org/event/funday-friday-3/
LOCATION:Pottsville Library\, 215 W Market St\, Pottsville\, 17901\, United States
ATTACH;FMTTYPE=image/jpeg:https://www.pottsvillelibrary.org/wp-content/uploads/2024/04/Funday-Open-House-Flyer-Pic.jpg
ORGANIZER;CN="PFPL":MAILTO:potpublib@pottsvillelibrary.org
END:VEVENT
BEGIN:VEVENT
DTSTART;TZID=UTC:20240813T173000
DTEND;TZID=UTC:20240813T190000
DTSTAMP:20260425T155736
CREATED:20240417T183009Z
LAST-MODIFIED:20240417T183009Z
UID:1991-1723570200-1723575600@www.pottsvillelibrary.org
SUMMARY:Under the Sea: Stuffie Building Workshop
DESCRIPTION:Join us for another fun filled stuffie building workshop! This time we will take an adventure under the sea to find our friends! \nHow do stuffie workshops work? First we hand stuff our choice of fuzzy friend\, place a wish star inside with a secret wish\, complete their birth certificate\, and finally take them home to love! \nStuffie options are first come\, first served. Call 570-622-8880 or purchase online via our Facebook event page to reserve yours. Prepaid registration is due by August 1st. \nOptions: Seal\, Shark\, Flounder\, Mermaid Bear\, Clown Fish\, Seahorse\, or Dolphin. \nUnder the Sea will take place on Tuesday\, August 13th at 5:30. Each stuffie kit is $25.
URL:https://www.pottsvillelibrary.org/event/under-the-sea-stuffie-building-workshop/
LOCATION:Pottsville Library\, 215 W Market St\, Pottsville\, 17901\, United States
ATTACH;FMTTYPE=image/jpeg:https://www.pottsvillelibrary.org/wp-content/uploads/2024/04/Under-the-Sea-Poster.jpg
ORGANIZER;CN="PFPL":MAILTO:potpublib@pottsvillelibrary.org
END:VEVENT
BEGIN:VEVENT
DTSTART;TZID=UTC:20240810T110000
DTEND;TZID=UTC:20240810T130000
DTSTAMP:20260425T155736
CREATED:20240604T154003Z
LAST-MODIFIED:20240604T154003Z
UID:2295-1723287600-1723294800@www.pottsvillelibrary.org
SUMMARY:Boscovs Book Bingo
DESCRIPTION:Join us at Boscov’s\, located in the Fairlane Village Mall\, to play Bingo & win books! Bring a bag for your winnings!
URL:https://www.pottsvillelibrary.org/event/boscovs-book-bingo-3/
LOCATION:Boscov’s Auditorium\, 7290 Fairlane Village Mall\, Pottsville\, PA\, 17901\, United States
ATTACH;FMTTYPE=image/jpeg:https://www.pottsvillelibrary.org/wp-content/uploads/2024/06/Bocovs-Book-Bingo.jpg
ORGANIZER;CN="PFPL":MAILTO:potpublib@pottsvillelibrary.org
END:VEVENT
BEGIN:VEVENT
DTSTART;TZID=UTC:20240809T130000
DTEND;TZID=UTC:20240809T150000
DTSTAMP:20260425T155736
CREATED:20240718T191005Z
LAST-MODIFIED:20240718T191005Z
UID:2339-1723208400-1723215600@www.pottsvillelibrary.org
SUMMARY:Smokey the Bear's 80th Birthday Party
DESCRIPTION:You are invited to Smokey the Bear’s 80th Birthday Party! Join us on Friday\, August 9th at 1PM to meet Smokey\, see the firetrucks\, and enjoy a birthday treat with him! Party will be outdoors on the corner of 3rd & West Market Streets\, Pottsville. In the event of bad weather\, party will be inside the Library.  Please register by emailing potpublib@pottsvillelibrary.org with how many adults/children will be in attendance.
URL:https://www.pottsvillelibrary.org/event/smokey-the-bears-80th-birthday-party/
LOCATION:Pottsville Library\, 215 W Market St\, Pottsville\, 17901\, United States
ATTACH;FMTTYPE=image/jpeg:https://www.pottsvillelibrary.org/wp-content/uploads/2024/07/SmokeysBirthdayPoster.jpg
ORGANIZER;CN="PFPL":MAILTO:potpublib@pottsvillelibrary.org
END:VEVENT
BEGIN:VEVENT
DTSTART;TZID=UTC:20240809T110000
DTEND;TZID=UTC:20240809T150000
DTSTAMP:20260425T155736
CREATED:20240422T141053Z
LAST-MODIFIED:20240422T141053Z
UID:2014-1723201200-1723215600@www.pottsvillelibrary.org
SUMMARY:Funday Friday!
DESCRIPTION:Stop by the Library for Funday Friday! We will have games and toys set up inside the Library\, and outside on 3rd & Market Streets\, weather permitting. Free ice cream & refreshments for children. Refreshments are sponsored by the Friends of the Pottsville Library. Games and refreshments will be available from 11-3.
URL:https://www.pottsvillelibrary.org/event/funday-friday-2/
LOCATION:Pottsville Library\, 215 W Market St\, Pottsville\, 17901\, United States
ATTACH;FMTTYPE=image/jpeg:https://www.pottsvillelibrary.org/wp-content/uploads/2024/04/Funday-Open-House-Flyer-Pic.jpg
ORGANIZER;CN="PFPL":MAILTO:potpublib@pottsvillelibrary.org
END:VEVENT
BEGIN:VEVENT
DTSTART;TZID=UTC:20240808T110000
DTEND;TZID=UTC:20240808T120000
DTSTAMP:20260425T155736
CREATED:20240531T174916Z
LAST-MODIFIED:20240531T174916Z
UID:2226-1723114800-1723118400@www.pottsvillelibrary.org
SUMMARY:Teen Craft Hour--Make Your Own Magnet
DESCRIPTION:Thursday craft hour is recommended for ages 13-18.  All supplies included.
URL:https://www.pottsvillelibrary.org/event/teen-craft-hour-make-your-own-magnet/
LOCATION:Pottsville Library\, 215 W Market St\, Pottsville\, 17901\, United States
ATTACH;FMTTYPE=image/jpeg:https://www.pottsvillelibrary.org/wp-content/uploads/2024/05/Magnets.jpg
ORGANIZER;CN="PFPL":MAILTO:potpublib@pottsvillelibrary.org
END:VEVENT
BEGIN:VEVENT
DTSTART;TZID=UTC:20240807T110000
DTEND;TZID=UTC:20240807T120000
DTSTAMP:20260425T155736
CREATED:20240531T181614Z
LAST-MODIFIED:20240531T181614Z
UID:2258-1723028400-1723032000@www.pottsvillelibrary.org
SUMMARY:Kids Craft Hour--Fuse Bead Crafts
DESCRIPTION:Wednesday craft hour is recommended for ages 12 & under.  All supplies included.
URL:https://www.pottsvillelibrary.org/event/kids-craft-hour-fuse-bead-crafts/
LOCATION:Pottsville Library\, 215 W Market St\, Pottsville\, 17901\, United States
ATTACH;FMTTYPE=image/jpeg:https://www.pottsvillelibrary.org/wp-content/uploads/2024/05/fuse-beads-1.jpg
ORGANIZER;CN="PFPL":MAILTO:potpublib@pottsvillelibrary.org
END:VEVENT
BEGIN:VEVENT
DTSTART;TZID=UTC:20240807T100000
DTEND;TZID=UTC:20240807T110000
DTSTAMP:20260425T155736
CREATED:20240604T152723Z
LAST-MODIFIED:20240604T152723Z
UID:2285-1723024800-1723028400@www.pottsvillelibrary.org
SUMMARY:Click\, Tap...Cool! Basic Computer Skills for Kids Ages 5-10
DESCRIPTION:Kids ages 5-10 can brush up on their computer mouse and typing skills on a computer\, and learn some of the basics of using Microsoft Word. This free class has three sessions – July 10\, July 24\, and August 7 – from 10 AM to 11 AM. Each session will build on the previous one\, and kids who sign up are expected to attend all three. Class size is limited to 6 kids so advance registration is required. Email potpublib@pottsvillelibrary.org or call 570-622-8880 with the name and age of the child who will be attending.
URL:https://www.pottsvillelibrary.org/event/click-tap-cool-basic-computer-skills-for-kids-ages-5-10-3/
LOCATION:Pottsville Library\, 215 W Market St\, Pottsville\, 17901\, United States
ORGANIZER;CN="PFPL":MAILTO:potpublib@pottsvillelibrary.org
END:VEVENT
BEGIN:VEVENT
DTSTART;TZID=UTC:20240806T173000
DTEND;TZID=UTC:20240806T190000
DTSTAMP:20260425T155736
CREATED:20240422T184454Z
LAST-MODIFIED:20240422T184454Z
UID:2042-1722965400-1722970800@www.pottsvillelibrary.org
SUMMARY:Andrew's Big Show
DESCRIPTION:Come out for a night of magic & fun with Andrew’s Big Show! Show is free\, family friendly & for all ages! Show starts at 5:30PM on Tuesday\, August 6th.  Please email to register with how many adults/children are in your party: potpublib@pottsvillelibrary.org. Show is sponsored by the Friends of the Pottsville Library.
URL:https://www.pottsvillelibrary.org/event/andrews-big-show/
LOCATION:Pottsville Library\, 215 W Market St\, Pottsville\, 17901\, United States
ATTACH;FMTTYPE=image/jpeg:https://www.pottsvillelibrary.org/wp-content/uploads/2024/04/Andrews-Big-Show.jpg
ORGANIZER;CN="PFPL":MAILTO:potpublib@pottsvillelibrary.org
END:VEVENT
BEGIN:VEVENT
DTSTART;TZID=UTC:20240805T120000
DTEND;TZID=UTC:20240805T140000
DTSTAMP:20260425T155736
CREATED:20240430T181233Z
LAST-MODIFIED:20240430T181233Z
UID:2120-1722859200-1722866400@www.pottsvillelibrary.org
SUMMARY:Used Book Sale
DESCRIPTION:Visit our monthly used book sale in the basement of the Library from 12-2 on Monday\, August 5th\, 2024. Thank you to the Friends of the Pottsville Free Public Library for hosting our used book sales!
URL:https://www.pottsvillelibrary.org/event/used-book-sale-9/
LOCATION:Library – Basement\, 215 W. Market St.\, Pottsville\, PA\, 17901\, United States
ATTACH;FMTTYPE=image/png:https://www.pottsvillelibrary.org/wp-content/uploads/2023/11/Book_Sale_Website_Banner.png
ORGANIZER;CN="PFPL":MAILTO:potpublib@pottsvillelibrary.org
END:VEVENT
BEGIN:VEVENT
DTSTART;TZID=UTC:20240805T103000
DTEND;TZID=UTC:20240805T113000
DTSTAMP:20260425T155736
CREATED:20240430T155911Z
LAST-MODIFIED:20240430T155911Z
UID:2111-1722853800-1722857400@www.pottsvillelibrary.org
SUMMARY:Storytime
DESCRIPTION:Join us on Monday mornings at 10:30 for Storytime! Recommended for children up to 5 years & their caregivers. Older siblings are always welcome! Summer session runs from Monday\, June 17th to Monday\, August 5th. Email potpublib@pottsvillelibrary.org with names and ages of children attending to register.
URL:https://www.pottsvillelibrary.org/event/storytime-13/
LOCATION:Pottsville Library\, 215 W Market St\, Pottsville\, 17901\, United States
ATTACH;FMTTYPE=image/jpeg:https://www.pottsvillelibrary.org/wp-content/uploads/2024/04/Summer-Storytime-24.jpg
ORGANIZER;CN="PFPL":MAILTO:potpublib@pottsvillelibrary.org
END:VEVENT
BEGIN:VEVENT
DTSTART;TZID=UTC:20240802T110000
DTEND;TZID=UTC:20240802T150000
DTSTAMP:20260425T155736
CREATED:20240422T141002Z
LAST-MODIFIED:20240422T141002Z
UID:2010-1722596400-1722610800@www.pottsvillelibrary.org
SUMMARY:Funday Friday!
DESCRIPTION:Stop by the Library for Funday Friday! We will have games and toys set up inside the Library\, and outside on 3rd & Market Streets\, weather permitting. Free ice cream & refreshments for children. Refreshments are sponsored by the Friends of the Pottsville Library. Games and refreshments will be available from 11-3.
URL:https://www.pottsvillelibrary.org/event/funday-friday/
LOCATION:Pottsville Library\, 215 W Market St\, Pottsville\, 17901\, United States
ATTACH;FMTTYPE=image/jpeg:https://www.pottsvillelibrary.org/wp-content/uploads/2024/04/Funday-Open-House-Flyer-Pic.jpg
ORGANIZER;CN="PFPL":MAILTO:potpublib@pottsvillelibrary.org
END:VEVENT
BEGIN:VEVENT
DTSTART;TZID=UTC:20240801T110000
DTEND;TZID=UTC:20240801T120000
DTSTAMP:20260425T155736
CREATED:20240531T173438Z
LAST-MODIFIED:20240531T173438Z
UID:2222-1722510000-1722513600@www.pottsvillelibrary.org
SUMMARY:Teen Craft Hour--Altered Books
DESCRIPTION:Thursday craft hour is recommended for ages 13-18.  All supplies included.
URL:https://www.pottsvillelibrary.org/event/teen-craft-hour-altered-books/
LOCATION:Pottsville Library\, 215 W Market St\, Pottsville\, 17901\, United States
ATTACH;FMTTYPE=image/jpeg:https://www.pottsvillelibrary.org/wp-content/uploads/2024/05/Altered-Books.jpg
ORGANIZER;CN="PFPL":MAILTO:potpublib@pottsvillelibrary.org
END:VEVENT
BEGIN:VEVENT
DTSTART;TZID=UTC:20240731T110000
DTEND;TZID=UTC:20240731T120000
DTSTAMP:20260425T155736
CREATED:20240531T181241Z
LAST-MODIFIED:20240531T181241Z
UID:2254-1722423600-1722427200@www.pottsvillelibrary.org
SUMMARY:Kids Craft Hour--Paint a Suncatcher
DESCRIPTION:Wednesday craft hour is recommended for ages 12 & under.  All supplies included.
URL:https://www.pottsvillelibrary.org/event/kids-craft-hour-paint-a-suncatcher/
LOCATION:Pottsville Library\, 215 W Market St\, Pottsville\, 17901\, United States
ATTACH;FMTTYPE=image/jpeg:https://www.pottsvillelibrary.org/wp-content/uploads/2024/05/suncatcher.jpg
ORGANIZER;CN="PFPL":MAILTO:potpublib@pottsvillelibrary.org
END:VEVENT
END:VCALENDAR