BEGIN:VCALENDAR
VERSION:2.0
PRODID:-//Pottsville Free Public Library - ECPv6.15.13//NONSGML v1.0//EN
CALSCALE:GREGORIAN
METHOD:PUBLISH
X-WR-CALNAME:Pottsville Free Public Library
X-ORIGINAL-URL:https://www.pottsvillelibrary.org
X-WR-CALDESC:Events for Pottsville Free Public Library
REFRESH-INTERVAL;VALUE=DURATION:PT1H
X-Robots-Tag:noindex
X-PUBLISHED-TTL:PT1H
BEGIN:VTIMEZONE
TZID:UTC
BEGIN:STANDARD
TZOFFSETFROM:+0000
TZOFFSETTO:+0000
TZNAME:UTC
DTSTART:20220101T000000
END:STANDARD
END:VTIMEZONE
BEGIN:VEVENT
DTSTART;TZID=UTC:20230905T120000
DTEND;TZID=UTC:20230905T140000
DTSTAMP:20260426T012732
CREATED:20230831T154834Z
LAST-MODIFIED:20230831T154834Z
UID:1520-1693915200-1693922400@www.pottsvillelibrary.org
SUMMARY:Friends of the Library Used Book Sale
DESCRIPTION:Used Book Sale will be held in the Library basement by the Friends of the Library group from 12-2 PM.
URL:https://www.pottsvillelibrary.org/event/friends-of-the-library-used-book-sale/
LOCATION:Pottsville Library\, 215 W Market St\, Pottsville\, 17901\, United States
ATTACH;FMTTYPE=image/jpeg:https://www.pottsvillelibrary.org/wp-content/uploads/2023/08/FriendsBookSale-September.jpg
ORGANIZER;CN="PFPL":MAILTO:potpublib@pottsvillelibrary.org
END:VEVENT
BEGIN:VEVENT
DTSTART;TZID=UTC:20230826T080000
DTEND;TZID=UTC:20230826T170000
DTSTAMP:20260426T012732
CREATED:20230826T202514Z
LAST-MODIFIED:20230826T202514Z
UID:1508-1693036800-1693069200@www.pottsvillelibrary.org
SUMMARY:Computer Basics Workshop
DESCRIPTION:This in-person\, hands-on workshop is for adults who are new to using a PC or want to build more confidence using Windows. Attendees will learn how to navigate the Windows operating system\, use applications\, find and manage files and folders\, and more. The workshop is open to all residents of Schuylkill County and the Pottsville Library District\, no library card required.\nWe will be offering the Computer Basics program twice this Fall\, with additional dates possible if necessary.\nRegistration is requested due to the limited seating available in the computer lab. Call the Library at 570-622-8880 to sign up with your name\, phone number\, and the date you wish to attend.\nAttendees will receive a “swag bag” of goodies and be entered into the prize drawing for the workshop. There will also be a grand prize drawing at the end of our Fall series of computer workshops for a new Chromebook laptop.
URL:https://www.pottsvillelibrary.org/event/computer-basics-workshop/
CATEGORIES:Training or Information Session
ATTACH;FMTTYPE=image/jpeg:https://www.pottsvillelibrary.org/wp-content/uploads/2023/08/Computer-basics-FB-flag.jpg
END:VEVENT
BEGIN:VEVENT
DTSTART;TZID=UTC:20230815T173000
DTEND;TZID=UTC:20230815T190000
DTSTAMP:20260426T012732
CREATED:20230715T180156Z
LAST-MODIFIED:20230715T180156Z
UID:1404-1692120600-1692126000@www.pottsvillelibrary.org
SUMMARY:Affordable Connectivity Program (ACP) Basics
DESCRIPTION:This in-person workshop is for those who are interested in learning more about the Affordable Connectivity Program (ACP). The ACP helps qualifying families and households receive a discount on internet service with participating providers. In this workshop\, participants will learn about the information they need to apply for the program\, how to apply for the program\, and how to use the benefit.\nThis program is scheduled for Tuesday\, August 15 at 5:30 PM in the Library’s computer lab. Seating is limited to 8 people so advance registration is required. Register by contacting the Reference Department at 570-622-8880 x11\, or by email at potref@pottsvillelibrary.org. A Pottsville Library card is not required to attend this program which is open to all residents of Schuylkill County.\nIf you are interested in this program but you are not able to attend\, or if you have additional questions\, please contact the Reference Department. We will be scheduling additional sessions of this program in the near future.
URL:https://www.pottsvillelibrary.org/event/affordable-connectivity-program-acp-basics/
LOCATION:Pottsville Library\, 215 W Market St\, Pottsville\, 17901\, United States
CATEGORIES:Training or Information Session
ATTACH;FMTTYPE=image/jpeg:https://www.pottsvillelibrary.org/wp-content/uploads/2023/07/flag.jpg
ORGANIZER;CN="PFPL":MAILTO:potpublib@pottsvillelibrary.org
END:VEVENT
BEGIN:VEVENT
DTSTART;TZID=UTC:20230812T130000
DTEND;TZID=UTC:20230812T140000
DTSTAMP:20260426T012732
CREATED:20230717T132755Z
LAST-MODIFIED:20230717T132755Z
UID:1407-1691845200-1691848800@www.pottsvillelibrary.org
SUMMARY:Redtail Solar: Informational Session
DESCRIPTION:Interested in solar? Join us for an informational session on solar energy and its benefits.\nSolar themed crafts for kids will be available!\nBring a copy of your electric bill for a free estimate.
URL:https://www.pottsvillelibrary.org/event/redtail-solar-informational-session/
LOCATION:Pottsville Library\, 215 W Market St\, Pottsville\, 17901\, United States
ATTACH;FMTTYPE=image/jpeg:https://www.pottsvillelibrary.org/wp-content/uploads/2023/07/Redtail-4.jpg
ORGANIZER;CN="PFPL":MAILTO:potpublib@pottsvillelibrary.org
END:VEVENT
BEGIN:VEVENT
DTSTART;TZID=UTC:20230812T110000
DTEND;TZID=UTC:20230812T130000
DTSTAMP:20260426T012732
CREATED:20230414T132907Z
LAST-MODIFIED:20230414T132907Z
UID:1219-1691838000-1691845200@www.pottsvillelibrary.org
SUMMARY:Book Bingo: Summer Reading on the Road!
DESCRIPTION:Visit Boscov’s Auditorium at the Fairlane Village Mall for Book Bingo! Make sure to bring a bag to carry your winnings!
URL:https://www.pottsvillelibrary.org/event/book-bingo-summer-reading-on-the-road-3/
LOCATION:Boscov’s Auditorium\, 7290 Fairlane Village Mall\, Pottsville\, PA\, 17901\, United States
ATTACH;FMTTYPE=image/jpeg:https://www.pottsvillelibrary.org/wp-content/uploads/2023/04/Book-Bingo.jpg
ORGANIZER;CN="PFPL":MAILTO:potpublib@pottsvillelibrary.org
END:VEVENT
BEGIN:VEVENT
DTSTART;TZID=UTC:20230812T110000
DTEND;TZID=UTC:20230812T120000
DTSTAMP:20260426T012732
CREATED:20230713T183745Z
LAST-MODIFIED:20230713T183745Z
UID:1393-1691838000-1691841600@www.pottsvillelibrary.org
SUMMARY:Saturday Storytime with author Margie Peterson
DESCRIPTION:Join us for a special Saturday Storytime led by author Margie Peterson. She will be reading her book The Boy Who Never Threw Anything Out\, and she will have copies available for sale. NO purchase is necessary to attend the Storytime. Please register by emailing potpublib@pottsvillelibrary.org with how many children will be attending.
URL:https://www.pottsvillelibrary.org/event/saturday-storytime-with-author-margie-peterson/
LOCATION:Pottsville Library\, 215 W Market St\, Pottsville\, 17901\, United States
ATTACH;FMTTYPE=image/jpeg:https://www.pottsvillelibrary.org/wp-content/uploads/2023/07/Margie-Peterson.jpg
ORGANIZER;CN="PFPL":MAILTO:potpublib@pottsvillelibrary.org
END:VEVENT
BEGIN:VEVENT
DTSTART;TZID=UTC:20230725T173000
DTEND;TZID=UTC:20230725T173000
DTSTAMP:20260426T012732
CREATED:20230516T154212Z
LAST-MODIFIED:20230516T154212Z
UID:1293-1690306200-1690306200@www.pottsvillelibrary.org
SUMMARY:An Evening with Chippy Chipmunk by Kathy Miller
DESCRIPTION:Join us for an evening with Chippy Chipmunk & author Kathy Miller. All ages welcome! Please register by emailing potpublib@pottsvillelibrary.org.  Thank you to the Friends of the Library for sponsoring this program!
URL:https://www.pottsvillelibrary.org/event/an-evening-with-chippy-chipmunk-by-kathy-miller/
LOCATION:Pottsville Library\, 215 W Market St\, Pottsville\, 17901\, United States
ATTACH;FMTTYPE=image/jpeg:https://www.pottsvillelibrary.org/wp-content/uploads/2023/05/Chippy-Chipmunk.jpg
ORGANIZER;CN="PFPL":MAILTO:potpublib@pottsvillelibrary.org
END:VEVENT
BEGIN:VEVENT
DTSTART;TZID=UTC:20230722T130000
DTEND;TZID=UTC:20230722T150000
DTSTAMP:20260426T012732
CREATED:20230516T131332Z
LAST-MODIFIED:20230516T131332Z
UID:1289-1690030800-1690038000@www.pottsvillelibrary.org
SUMMARY:Plant & Sip
DESCRIPTION:Join us on Saturday\, July 22nd for an afternoon of fun! First you will enjoy a FREE wine tasting demonstrated by a Traveling Vineyard Wine Guide. Wines will be available for order. After that we will get our hands dirty & start on our planters! You will have a variety of plants to choose from\, as well as some additional items to add into your planter. Succulents\, planter\, soil\, & gloves are all provided. Prepaid registration is due by June 16th. Cash/check/credit/debit are accepted. Payment can be made in person at the Circulation Desk\, over the phone at 570-622-8880\, or online via our Facebook event page.
URL:https://www.pottsvillelibrary.org/event/plant-sip/
LOCATION:Pottsville Library\, 215 W Market St\, Pottsville\, 17901\, United States
ATTACH;FMTTYPE=image/jpeg:https://www.pottsvillelibrary.org/wp-content/uploads/2023/05/Plant-Sip-July-Flyer.jpg
ORGANIZER;CN="PFPL":MAILTO:potpublib@pottsvillelibrary.org
END:VEVENT
BEGIN:VEVENT
DTSTART;TZID=UTC:20230718T173000
DTEND;TZID=UTC:20230718T183000
DTSTAMP:20260426T012732
CREATED:20230504T154117Z
LAST-MODIFIED:20230504T154117Z
UID:1277-1689701400-1689705000@www.pottsvillelibrary.org
SUMMARY:Magic Rich
DESCRIPTION:Join us for an all ages magic show presented by Magic Rich on Tuesday\, July 18th at 5:30 PM.  Free admission! Register by emailing potpublib@pottsvillelibrary.org.
URL:https://www.pottsvillelibrary.org/event/magic-rich/
LOCATION:Pottsville Library\, 215 W Market St\, Pottsville\, 17901\, United States
ATTACH;FMTTYPE=image/jpeg:https://www.pottsvillelibrary.org/wp-content/uploads/2023/05/Magic-Rich.jpg
ORGANIZER;CN="PFPL":MAILTO:potpublib@pottsvillelibrary.org
END:VEVENT
BEGIN:VEVENT
DTSTART;TZID=UTC:20230711T173000
DTEND;TZID=UTC:20230711T183000
DTSTAMP:20260426T012732
CREATED:20230524T165317Z
LAST-MODIFIED:20230524T165317Z
UID:1309-1689096600-1689100200@www.pottsvillelibrary.org
SUMMARY:Porcupine Pat Presents Olde Tyme Appalachian Mountain Toys
DESCRIPTION:Join us for an evening with Porcupine Pat as he demonstrates Olde Tyme Appalachian Mountain Toys! Tuesday\, July 11th at 5:30 pm.  Email to register: potpublib@pottsvillelibrary.org
URL:https://www.pottsvillelibrary.org/event/porcupine-pat-presents-olde-tyme-appalachian-mountain-toys/
LOCATION:Pottsville Library\, 215 W Market St\, Pottsville\, 17901\, United States
ATTACH;FMTTYPE=image/jpeg:https://www.pottsvillelibrary.org/wp-content/uploads/2023/05/Porcupine-Pat.jpg
ORGANIZER;CN="PFPL":MAILTO:potpublib@pottsvillelibrary.org
END:VEVENT
BEGIN:VEVENT
DTSTART;TZID=UTC:20230708T110000
DTEND;TZID=UTC:20230708T130000
DTSTAMP:20260426T012732
CREATED:20230414T132805Z
LAST-MODIFIED:20230414T132805Z
UID:1216-1688814000-1688821200@www.pottsvillelibrary.org
SUMMARY:Book Bingo: Summer Reading on the Road!
DESCRIPTION:Visit Boscov’s Auditorium at the Fairlane Village Mall for Book Bingo! Make sure to bring a bag to carry your winnings!
URL:https://www.pottsvillelibrary.org/event/book-bingo-summer-reading-on-the-road-2/
LOCATION:Boscov’s Auditorium\, 7290 Fairlane Village Mall\, Pottsville\, PA\, 17901\, United States
ATTACH;FMTTYPE=image/jpeg:https://www.pottsvillelibrary.org/wp-content/uploads/2023/04/Book-Bingo.jpg
ORGANIZER;CN="PFPL":MAILTO:potpublib@pottsvillelibrary.org
END:VEVENT
BEGIN:VEVENT
DTSTART;TZID=UTC:20230627T173000
DTEND;TZID=UTC:20230627T183000
DTSTAMP:20260426T012732
CREATED:20230504T145005Z
LAST-MODIFIED:20230504T145005Z
UID:1273-1687887000-1687890600@www.pottsvillelibrary.org
SUMMARY:A Night With PT Reptiles
DESCRIPTION:PT Reptiles will be presenting us with a special meet & greet with some slithering guests! They will be here on Tuesday\, June 27th at 5:30PM.  Email to register: potpublib@pottsvillelibrary.org \nProgram is sponsored by the Friends of the Pottsville Free Public Library.
URL:https://www.pottsvillelibrary.org/event/a-night-with-pt-reptiles/
LOCATION:Pottsville Library\, 215 W Market St\, Pottsville\, 17901\, United States
ATTACH;FMTTYPE=image/jpeg:https://www.pottsvillelibrary.org/wp-content/uploads/2023/05/PT-Reptiles.jpg
ORGANIZER;CN="PFPL":MAILTO:potpublib@pottsvillelibrary.org
END:VEVENT
BEGIN:VEVENT
DTSTART;TZID=UTC:20230623T100000
DTEND;TZID=UTC:20230623T140000
DTSTAMP:20260426T012732
CREATED:20230125T163135Z
LAST-MODIFIED:20230323T155902Z
UID:997-1687514400-1687528800@www.pottsvillelibrary.org
SUMMARY:Craft Supply Swap
DESCRIPTION:Are you a crafter with supplies to destash? This swap is for you! \nYou can sell\, buy or swap supplies with other crafters to destash or restock! \nPlease call 570-622-8880 to register for a table. Tables are $10 & must be prepaid. All variations of craft supplies are welcome.
URL:https://www.pottsvillelibrary.org/event/craft-supply-swap/
LOCATION:Pottsville Library\, 215 W Market St\, Pottsville\, 17901\, United States
ATTACH;FMTTYPE=image/jpeg:https://www.pottsvillelibrary.org/wp-content/uploads/2023/01/Craft-Supply-Swap-Flyer.jpg
ORGANIZER;CN="PFPL":MAILTO:potpublib@pottsvillelibrary.org
END:VEVENT
BEGIN:VEVENT
DTSTART;TZID=UTC:20230620T173000
DTEND;TZID=UTC:20230620T183000
DTSTAMP:20260426T012732
CREATED:20230504T132230Z
LAST-MODIFIED:20230504T132230Z
UID:1269-1687282200-1687285800@www.pottsvillelibrary.org
SUMMARY:Family Book Bingo
DESCRIPTION:Come out for a round of Book Bingo at the Library! There will be book prizes for all ages to choose from! Bring a bag to carry your winnings! Book Bingo will start at 5:30 on Tuesday\, June 20th.  To register\, please email potpublib@pottsvillelibrary.org with number of people attending.
URL:https://www.pottsvillelibrary.org/event/family-book-bingo/
LOCATION:Pottsville Library\, 215 W Market St\, Pottsville\, 17901\, United States
ATTACH;FMTTYPE=image/jpeg:https://www.pottsvillelibrary.org/wp-content/uploads/2023/05/Family-Book-Bingo.jpg
ORGANIZER;CN="PFPL":MAILTO:potpublib@pottsvillelibrary.org
END:VEVENT
BEGIN:VEVENT
DTSTART;TZID=UTC:20230619T170000
DTEND;TZID=UTC:20230619T190000
DTSTAMP:20260426T012732
CREATED:20230526T153609Z
LAST-MODIFIED:20230526T170800Z
UID:1334-1687194000-1687201200@www.pottsvillelibrary.org
SUMMARY:Juneteenth Celebration
DESCRIPTION:The Pottsville Free Public Library and the MLK Family Enrichment Center/Schuylkill County welcome everyone to join us in celebrating Juneteenth at the Library! This free\, all-ages event on Monday\, June 19th\, from 5-7 PM\, will honor one of the oldest freedom celebrations in our nation. This community-centered event will include food\, games\, and a little bit of local history. Details will be announced on the Facebook event page.
URL:https://www.pottsvillelibrary.org/event/juneteenth-celebration/
LOCATION:Pottsville Library\, 215 W Market St\, Pottsville\, 17901\, United States
CATEGORIES:Celebration
ATTACH;FMTTYPE=image/png:https://www.pottsvillelibrary.org/wp-content/uploads/2023/05/Juneteenth-Celebration-flag.png
ORGANIZER;CN="PFPL":MAILTO:potpublib@pottsvillelibrary.org
END:VEVENT
BEGIN:VEVENT
DTSTART;TZID=UTC:20230616T110000
DTEND;TZID=UTC:20230616T150000
DTSTAMP:20260426T012732
CREATED:20230123T204524Z
LAST-MODIFIED:20230323T155937Z
UID:982-1686913200-1686927600@www.pottsvillelibrary.org
SUMMARY:Adopt a Shelter Cat Month Meet & Greet
DESCRIPTION:Stop by the Library from 11-3 on Friday\, June 16th to meet available cats & kittens from Hillside SPCA! There will be an employee from Hillside on site to answer any questions you may have about adoption. Donations are welcome for the shelter.
URL:https://www.pottsvillelibrary.org/event/adopt-a-shelter-cat-month-meet-greet/
LOCATION:Pottsville Library\, 215 W Market St\, Pottsville\, 17901\, United States
ATTACH;FMTTYPE=image/jpeg:https://www.pottsvillelibrary.org/wp-content/uploads/2023/01/Adopt-a-Shelter-Cat-Month.jpg
ORGANIZER;CN="PFPL":MAILTO:potpublib@pottsvillelibrary.org
END:VEVENT
BEGIN:VEVENT
DTSTART;TZID=UTC:20230613T173000
DTEND;TZID=UTC:20230613T183000
DTSTAMP:20260426T012732
CREATED:20230503T201312Z
LAST-MODIFIED:20230503T201312Z
UID:1265-1686677400-1686681000@www.pottsvillelibrary.org
SUMMARY:Live Wildlife Night with Red Creek Wildlife Center
DESCRIPTION:Join us Tuesday\, June 13th to have a meet & greet with the animals from Red Creek Wildlife Center. Program starts at 5:30 & is free to attend!
URL:https://www.pottsvillelibrary.org/event/live-wildlife-night-with-red-creek-wildlife-center/
LOCATION:Pottsville Library\, 215 W Market St\, Pottsville\, 17901\, United States
ATTACH;FMTTYPE=image/jpeg:https://www.pottsvillelibrary.org/wp-content/uploads/2023/05/Red-Creek-Wildlife.jpg
ORGANIZER;CN="PFPL":MAILTO:potpublib@pottsvillelibrary.org
END:VEVENT
BEGIN:VEVENT
DTSTART;TZID=UTC:20230609T100000
DTEND;TZID=UTC:20230609T140000
DTSTAMP:20260426T012732
CREATED:20230123T215110Z
LAST-MODIFIED:20230123T215110Z
UID:987-1686304800-1686319200@www.pottsvillelibrary.org
SUMMARY:Flea Market Friday
DESCRIPTION:Sell your unwanted clutter at the Pottsville Library indoor flea market! We will have tables set up throughout the library for buying\, selling & swapping! Come out on Friday\, June 9th from 10-2–you never know what bargains will be here! \nTo reserve a table to sell\, please contact the library at 570-622-8880. Each table reservation is $10. Tables must be prepaid by June 1st\, 2023.
URL:https://www.pottsvillelibrary.org/event/flea-market-friday/
LOCATION:Pottsville Library\, 215 W Market St\, Pottsville\, 17901\, United States
ATTACH;FMTTYPE=image/jpeg:https://www.pottsvillelibrary.org/wp-content/uploads/2023/01/Flea-Market-Flyer.jpg
ORGANIZER;CN="PFPL":MAILTO:potpublib@pottsvillelibrary.org
END:VEVENT
BEGIN:VEVENT
DTSTART;TZID=UTC:20230603T110000
DTEND;TZID=UTC:20230603T130000
DTSTAMP:20260426T012732
CREATED:20230414T132615Z
LAST-MODIFIED:20230414T132615Z
UID:1212-1685790000-1685797200@www.pottsvillelibrary.org
SUMMARY:Book Bingo: Summer Reading on the Road!
DESCRIPTION:Visit Boscov’s Auditorium at the Fairlane Village Mall for Book Bingo! Make sure to bring a bag to carry your winnings!
URL:https://www.pottsvillelibrary.org/event/book-bingo-summer-reading-on-the-road/
LOCATION:Boscov’s Auditorium\, 7290 Fairlane Village Mall\, Pottsville\, PA\, 17901\, United States
ATTACH;FMTTYPE=image/jpeg:https://www.pottsvillelibrary.org/wp-content/uploads/2023/04/Book-Bingo.jpg
ORGANIZER;CN="PFPL":MAILTO:potpublib@pottsvillelibrary.org
END:VEVENT
BEGIN:VEVENT
DTSTART;TZID=UTC:20230527T120000
DTEND;TZID=UTC:20230527T140000
DTSTAMP:20260426T012732
CREATED:20230322T183528Z
LAST-MODIFIED:20230322T183528Z
UID:1162-1685188800-1685196000@www.pottsvillelibrary.org
SUMMARY:Meet the Author: Book Signing with Bob Alonge
DESCRIPTION:Join us on Saturday\, May 27th at noon for a very special afternoon meeting local author Bob Alonge. He will have books available for signing. \n 
URL:https://www.pottsvillelibrary.org/event/meet-the-author-book-signing-with-bob-alonge/
LOCATION:Pottsville Library\, 215 W Market St\, Pottsville\, 17901\, United States
ATTACH;FMTTYPE=image/jpeg:https://www.pottsvillelibrary.org/wp-content/uploads/2023/03/Bob-Alonge-Book-Signing-Flyer.jpg
ORGANIZER;CN="PFPL":MAILTO:potpublib@pottsvillelibrary.org
END:VEVENT
BEGIN:VEVENT
DTSTART;TZID=UTC:20230526T110000
DTEND;TZID=UTC:20230526T130000
DTSTAMP:20260426T012732
CREATED:20230418T132352Z
LAST-MODIFIED:20230418T132352Z
UID:1235-1685098800-1685106000@www.pottsvillelibrary.org
SUMMARY:Dave Day 2023
DESCRIPTION:Join us on Friday\, May 26th for our annual Dave Day celebration! There will be a proclamation from the Mayor of Pottsville at 11:00 AM.  We will be serving Dave’s favorite chocolate chip cookies & have our annual window painting for Dave!
URL:https://www.pottsvillelibrary.org/event/dave-day-2023/
LOCATION:Pottsville Library\, 215 W Market St\, Pottsville\, 17901\, United States
ATTACH;FMTTYPE=image/jpeg:https://www.pottsvillelibrary.org/wp-content/uploads/2023/04/Dave-Day-Flyer.jpg
ORGANIZER;CN="PFPL":MAILTO:potpublib@pottsvillelibrary.org
END:VEVENT
BEGIN:VEVENT
DTSTART;TZID=UTC:20230525T180000
DTEND;TZID=UTC:20230525T190000
DTSTAMP:20260426T012732
CREATED:20230323T155722Z
LAST-MODIFIED:20230323T155722Z
UID:1167-1685037600-1685041200@www.pottsvillelibrary.org
SUMMARY:Dave Day 2023: Family Paint Night
DESCRIPTION:Calling all friends and budding artists to come out & paint a canvas in honor of Dave Naydock! All canvases will be displayed during the Dave Day celebration of Friday\, May 26th. \nPain\, brushes\, canvas & Dave’s favorite chocolate chip cookies are provided! \nLimited space\, registration required. \nEmail potpublib@pottsvillelibrary.org to register.
URL:https://www.pottsvillelibrary.org/event/dave-day-2023-family-paint-night/
LOCATION:Pottsville Library\, 215 W Market St\, Pottsville\, 17901\, United States
ATTACH;FMTTYPE=image/jpeg:https://www.pottsvillelibrary.org/wp-content/uploads/2023/03/Dave-Day.jpg
ORGANIZER;CN="PFPL":MAILTO:potpublib@pottsvillelibrary.org
END:VEVENT
BEGIN:VEVENT
DTSTART;TZID=UTC:20230520T090000
DTEND;TZID=UTC:20230520T160000
DTSTAMP:20260426T012732
CREATED:20230504T215829Z
LAST-MODIFIED:20230504T215829Z
UID:1286-1684573200-1684598400@www.pottsvillelibrary.org
SUMMARY:Open Scan Day
DESCRIPTION:Get ready for reunions this summer by scanning family photos so you can share them with everyone! Have old family documents that you want to preserve? Our scanner can handle up to 11″ x 17″. Want to watch old family movies but your VCR is long gone? We can convert home movies from VHS to MP4 files to watch on your computer. Even better\, there is no cost for this digitization service: the equipment was provided by a grant from the Institute of Museum and Library Services\, administered by the Pennsylvania Department of Education through the Office of Commonwealth Libraries\, called ScanPA. \nWe are also looking for photos showing the history of Pottsville and all of Schuylkill County. We’d like to add these photos to the Schuylkill County Photographs collection in PA Photos and Documents\, a statewide project to document people\, places and events. \nAll you need to do is bring your photos or VHS tapes\, as well as a flash drive or external drive so you can take the digital files home with you. \nCall 570-622-8880 x11 or email potref@pottsvillelibrary.org to find out more or make an appointment.
URL:https://www.pottsvillelibrary.org/event/open-scan-day/
LOCATION:Pottsville Library\, 215 W Market St\, Pottsville\, 17901\, United States
CATEGORIES:Family History
ATTACH;FMTTYPE=image/jpeg:https://www.pottsvillelibrary.org/wp-content/uploads/2023/05/ScanDay-May-2023-flag.jpg
END:VEVENT
BEGIN:VEVENT
DTSTART;TZID=UTC:20230513T130000
DTEND;TZID=UTC:20230513T150000
DTSTAMP:20260426T012732
CREATED:20230315T174538Z
LAST-MODIFIED:20230315T174538Z
UID:1154-1683982800-1683990000@www.pottsvillelibrary.org
SUMMARY:Plant & Sip with special guest Traveling Vineyard
DESCRIPTION:Join us on Saturday\, May 13th at 1PM for our first ever Plant & Sip! \nWe will enjoy a complementary wine tasting from our Wine Guide from Traveling Vineyard. Wine will be available for purchase. MUST be 21. \nYou will also get to create your own amazing succulent planter–all supplies included! Choose from a variety of beautiful succulents\, and arrange them in the planter provided to make your own arrangement. \n$25 per person. Prepaid registration due by May 1st. \nCash\, check\, credit/debit accepted. Online payments can be made on our Facebook event page.
URL:https://www.pottsvillelibrary.org/event/plant-sip-with-special-guest-traveling-vineyard/
LOCATION:Pottsville Library\, 215 W Market St\, Pottsville\, 17901\, United States
ATTACH;FMTTYPE=image/jpeg:https://www.pottsvillelibrary.org/wp-content/uploads/2023/03/Plant-Sip-Flyer.jpg
ORGANIZER;CN="PFPL":MAILTO:potpublib@pottsvillelibrary.org
END:VEVENT
BEGIN:VEVENT
DTSTART;TZID=UTC:20230510T120000
DTEND;TZID=UTC:20230511T120000
DTSTAMP:20260426T012732
CREATED:20230417T145250Z
LAST-MODIFIED:20230417T145250Z
UID:1230-1683720000-1683806400@www.pottsvillelibrary.org
SUMMARY:Schuylkill Gives
DESCRIPTION:Visit www.schuylkillgives.com on May 10th & 11th between noon and noon to donate! The Pottsville Library is looking to add to our popular Things Library collection! This collection has items such as lawn & yard games\, household tools\, craft supplies\, and much more for the community to enjoy without having to buy! Please see our flyer to see some of the items you can sponsor!\nWe thank everyone for their continued support!
URL:https://www.pottsvillelibrary.org/event/schuylkill-gives/
LOCATION:Pottsville Library\, 215 W Market St\, Pottsville\, 17901\, United States
ATTACH;FMTTYPE=image/jpeg:https://www.pottsvillelibrary.org/wp-content/uploads/2023/04/Schuylkill-Gives-Flyer.jpg
ORGANIZER;CN="PFPL":MAILTO:potpublib@pottsvillelibrary.org
END:VEVENT
BEGIN:VEVENT
DTSTART;TZID=UTC:20230506T090000
DTEND;TZID=UTC:20230506T160000
DTSTAMP:20260426T012732
CREATED:20230124T190151Z
LAST-MODIFIED:20230124T190151Z
UID:991-1683363600-1683388800@www.pottsvillelibrary.org
SUMMARY:Free Comic Book Day at Pottsville Library
DESCRIPTION:We love comic books. The art can be simple or complex\, the stories can be long or short. Comic books are a great way to get and keep kids (and adults!) interested in reading. So we continue to take part in the annual national Free Comic Book Day on the first Saturday in May\, thanks to support by Comics and Paperbacks Plus in Palmyra. There will be comic books for all ages that are free for you to take home\, as well as other activities that will be announced closer to the event date. Have a favorite superhero? Why not dress like them when you visit us that day?
URL:https://www.pottsvillelibrary.org/event/free-comic-book-day-at-pottsville-library/
LOCATION:Pottsville Library\, 215 W Market St\, Pottsville\, 17901\, United States
CATEGORIES:For Kids,Free Comic Book Day,Youth
ATTACH;FMTTYPE=image/jpeg:https://www.pottsvillelibrary.org/wp-content/uploads/2023/01/FCBD2023_medium.jpg
ORGANIZER;CN="PFPL":MAILTO:potpublib@pottsvillelibrary.org
END:VEVENT
BEGIN:VEVENT
DTSTART;TZID=UTC:20230429T110000
DTEND;TZID=UTC:20230429T150000
DTSTAMP:20260426T012732
CREATED:20221027T184842Z
LAST-MODIFIED:20230323T160109Z
UID:814-1682766000-1682780400@www.pottsvillelibrary.org
SUMMARY:May Day Metaphysical Market
DESCRIPTION:Downtown Pottsville will be bustling with art\, music and magic on Saturday\, April 29th! While the downtown area will be celebrating the annual Block of Art festival\, we will be hosting the May Day Metaphysical Market throughout three floors of the historic Pottsville Library.  Unique artists\, crystals\, and all things magical will be available at the Library with our variety of eclectic vendors. \nTo register as a vendor\, please email ginab@pottsvillelibrary.org\, or call 570-622-8880 ext. 18. Vendor fee is $20.00.
URL:https://www.pottsvillelibrary.org/event/may-day-metaphysical-market/
LOCATION:Pottsville Library\, 215 W Market St\, Pottsville\, 17901\, United States
ATTACH;FMTTYPE=image/jpeg:https://www.pottsvillelibrary.org/wp-content/uploads/2022/10/Metaphysical-Market-Vendor-List-Flyer.jpg
ORGANIZER;CN="PFPL":MAILTO:potpublib@pottsvillelibrary.org
END:VEVENT
BEGIN:VEVENT
DTSTART;TZID=UTC:20230425T173000
DTEND;TZID=UTC:20230425T190000
DTSTAMP:20260426T012732
CREATED:20230330T133519Z
LAST-MODIFIED:20230330T133519Z
UID:1188-1682443800-1682449200@www.pottsvillelibrary.org
SUMMARY:Family Game Night: Video Game Tournament
DESCRIPTION:Bring the whole family to the library to compete for prizes in our Family Video Game Night! High scores will be recorded throughout the evening\, and winners will be awarded prizes. 
URL:https://www.pottsvillelibrary.org/event/family-game-night-video-game-tournament/
LOCATION:Pottsville Library\, 215 W Market St\, Pottsville\, 17901\, United States
ATTACH;FMTTYPE=image/jpeg:https://www.pottsvillelibrary.org/wp-content/uploads/2023/03/Family-Game-Night-Flyer.jpg
ORGANIZER;CN="PFPL":MAILTO:potpublib@pottsvillelibrary.org
END:VEVENT
BEGIN:VEVENT
DTSTART;TZID=UTC:20230424T103000
DTEND;TZID=UTC:20230424T113000
DTSTAMP:20260426T012732
CREATED:20230322T182104Z
LAST-MODIFIED:20230322T182104Z
UID:1158-1682332200-1682335800@www.pottsvillelibrary.org
SUMMARY:Storytime with Guest Reader Mrs. Pennsylvania Regina Burhop
DESCRIPTION:Kick off National Library week with Storytime featuring a very special guest reader\, Mrs. Pennsylvania 2023 Regina Burhop!
URL:https://www.pottsvillelibrary.org/event/storytime-with-guest-reader-mrs-pennsylvania-regina-burhop/
LOCATION:Pottsville Library\, 215 W Market St\, Pottsville\, 17901\, United States
ATTACH;FMTTYPE=image/jpeg:https://www.pottsvillelibrary.org/wp-content/uploads/2023/03/Regina-Burhop.jpg
ORGANIZER;CN="PFPL":MAILTO:potpublib@pottsvillelibrary.org
END:VEVENT
BEGIN:VEVENT
DTSTART;TZID=UTC:20230404T173000
DTEND;TZID=UTC:20230404T173000
DTSTAMP:20260426T012732
CREATED:20230315T140158Z
LAST-MODIFIED:20230315T140158Z
UID:1150-1680629400-1680629400@www.pottsvillelibrary.org
SUMMARY:Easter Party
DESCRIPTION:Join us on Tuesday\, April 4th at 5:30 for a fun filled Easter party! There will be spring themed crafts\, snacks and plenty of fun for kids under 12 and their caregivers! Register by sending the name and age of the child to potpublib@pottsvillelibrary.org
URL:https://www.pottsvillelibrary.org/event/easter-party/
LOCATION:Pottsville Library\, 215 W Market St\, Pottsville\, 17901\, United States
ATTACH;FMTTYPE=image/jpeg:https://www.pottsvillelibrary.org/wp-content/uploads/2023/03/Easter-Party.jpg
ORGANIZER;CN="PFPL":MAILTO:potpublib@pottsvillelibrary.org
END:VEVENT
END:VCALENDAR