BEGIN:VCALENDAR
VERSION:2.0
PRODID:-//Pottsville Free Public Library - ECPv6.15.13//NONSGML v1.0//EN
CALSCALE:GREGORIAN
METHOD:PUBLISH
X-WR-CALNAME:Pottsville Free Public Library
X-ORIGINAL-URL:https://www.pottsvillelibrary.org
X-WR-CALDESC:Events for Pottsville Free Public Library
REFRESH-INTERVAL;VALUE=DURATION:PT1H
X-Robots-Tag:noindex
X-PUBLISHED-TTL:PT1H
BEGIN:VTIMEZONE
TZID:UTC
BEGIN:STANDARD
TZOFFSETFROM:+0000
TZOFFSETTO:+0000
TZNAME:UTC
DTSTART:20240101T000000
END:STANDARD
END:VTIMEZONE
BEGIN:VEVENT
DTSTART;TZID=UTC:20250317T173000
DTEND;TZID=UTC:20250317T190000
DTSTAMP:20260425T105407
CREATED:20250206T230951Z
LAST-MODIFIED:20250206T230951Z
UID:3076-1742232600-1742238000@www.pottsvillelibrary.org
SUMMARY:Children's St. Patrick's Day Party
DESCRIPTION:Join us for crafts\, games and refreshments to celebrate St. Patrick’s Day at the Pottsville Free Public Library. Recommended for ages 3-12\, younger and older siblings are always welcome. Please register by March 3rd.
URL:https://www.pottsvillelibrary.org/event/childrens-st-patricks-day-party/
LOCATION:Pottsville Library\, 215 W Market St\, Pottsville\, 17901\, United States
ATTACH;FMTTYPE=image/webp:https://www.pottsvillelibrary.org/wp-content/uploads/2025/02/StPatricksDayParty_Poster.webp
ORGANIZER;CN="PFPL":MAILTO:potpublib@pottsvillelibrary.org
END:VEVENT
BEGIN:VEVENT
DTSTART;TZID=UTC:20250319T150000
DTEND;TZID=UTC:20250319T163000
DTSTAMP:20260425T105407
CREATED:20250206T225415Z
LAST-MODIFIED:20250206T225415Z
UID:3048-1742396400-1742401800@www.pottsvillelibrary.org
SUMMARY:Tinkering Time
DESCRIPTION:Come join us on Wednesdays starting at 3 p.m. for a variety of activities for ages of 6-12 in the activities room at the Pottsville Free Public Library.
URL:https://www.pottsvillelibrary.org/event/tinkering-time-7/
LOCATION:Pottsville Library\, 215 W Market St\, Pottsville\, 17901\, United States
ATTACH;FMTTYPE=image/webp:https://www.pottsvillelibrary.org/wp-content/uploads/2025/02/TinkeringTime2025.webp
ORGANIZER;CN="PFPL":MAILTO:potpublib@pottsvillelibrary.org
END:VEVENT
BEGIN:VEVENT
DTSTART;TZID=UTC:20250319T170000
DTEND;TZID=UTC:20250319T180000
DTSTAMP:20260425T105407
CREATED:20241209T210536Z
LAST-MODIFIED:20241209T210536Z
UID:2782-1742403600-1742407200@www.pottsvillelibrary.org
SUMMARY:Girls Who Code
DESCRIPTION:Join us for several sessions of Girls Who Code. recommended for ages 7-13. Learn about coding and several different coding languages as well as each session having its own coding challenge. Each session will be its own thing\, make it to as many (or as few) as you can. While called Girls who Code sessions are not just for girls\, any aspiring young coder may participate. Email potchild@pottsvillelibrary.org\, call (570) 622-8880 ext. 12 or come to the Youth Services Desk to learn more or register.
URL:https://www.pottsvillelibrary.org/event/girls-who-code-4/
LOCATION:Pottsville Library\, 215 W Market St\, Pottsville\, 17901\, United States
ATTACH;FMTTYPE=image/jpeg:https://www.pottsvillelibrary.org/wp-content/uploads/2024/12/GWC.jpg
ORGANIZER;CN="PFPL":MAILTO:potpublib@pottsvillelibrary.org
END:VEVENT
BEGIN:VEVENT
DTSTART;TZID=UTC:20250320T113000
DTEND;TZID=UTC:20250320T120000
DTSTAMP:20260425T105407
CREATED:20241210T184929Z
LAST-MODIFIED:20241210T184929Z
UID:2862-1742470200-1742472000@www.pottsvillelibrary.org
SUMMARY:Winter/Spring Storytime
DESCRIPTION:The Thursday session of our Winter/Spring story time\, meeting Thursdays at 11:30 am from February 13th until May 15th. Join us for rhymes\, songs and simple stories. This session will be geared to children 12-36 months old but older and younger siblings are welcome.
URL:https://www.pottsvillelibrary.org/event/winter-spring-storytime-20/
LOCATION:Pottsville Library\, 215 W Market St\, Pottsville\, 17901\, United States
ATTACH;FMTTYPE=image/jpeg:https://www.pottsvillelibrary.org/wp-content/uploads/2024/12/Winter_Spring_Storytime.jpg
ORGANIZER;CN="PFPL":MAILTO:potpublib@pottsvillelibrary.org
END:VEVENT
BEGIN:VEVENT
DTSTART;TZID=UTC:20250320T180000
DTEND;TZID=UTC:20250320T190000
DTSTAMP:20260425T105407
CREATED:20241210T191040Z
LAST-MODIFIED:20241210T191040Z
UID:2890-1742493600-1742497200@www.pottsvillelibrary.org
SUMMARY:Teen Advisory Board
DESCRIPTION:Hang out and have a say in what books\, DVDs\, games and programs the Pottsville Free Public Library offers to teens. For ages 12-18. Registration is required for this program.
URL:https://www.pottsvillelibrary.org/event/teen-advisory-board-3/
LOCATION:Pottsville Library\, 215 W Market St\, Pottsville\, 17901\, United States
ATTACH;FMTTYPE=image/jpeg:https://www.pottsvillelibrary.org/wp-content/uploads/2024/12/TAB.jpg
ORGANIZER;CN="PFPL":MAILTO:potpublib@pottsvillelibrary.org
END:VEVENT
BEGIN:VEVENT
DTSTART;TZID=UTC:20250322T120000
DTEND;TZID=UTC:20250322T150000
DTSTAMP:20260425T105407
CREATED:20241202T212209Z
LAST-MODIFIED:20241202T212209Z
UID:2679-1742644800-1742655600@www.pottsvillelibrary.org
SUMMARY:Pysanky for beginners with Paul Corinchock
DESCRIPTION:Join us for a beginner course in the art of Pysanky\, taught by Paul Corinchock. All supplies are included. Wear old clothing! Prepaid registration is required to hold your reservation. $40 per person. This year we are offering TWO classes–choose from Saturday March 22nd or Saturday April 5th. Class runs from 12-3. Grab your tickets now–we SOLD OUT fast last year!
URL:https://www.pottsvillelibrary.org/event/pysanky-for-beginners-with-paul-corinchock-4/
LOCATION:Pottsville Library\, 215 W Market St\, Pottsville\, 17901\, United States
ATTACH;FMTTYPE=image/jpeg:https://www.pottsvillelibrary.org/wp-content/uploads/2024/12/Pysanky-Flyer.jpg
ORGANIZER;CN="PFPL":MAILTO:potpublib@pottsvillelibrary.org
END:VEVENT
BEGIN:VEVENT
DTSTART;TZID=UTC:20250324T103000
DTEND;TZID=UTC:20250324T113000
DTSTAMP:20260425T105407
CREATED:20241210T181639Z
LAST-MODIFIED:20241210T181639Z
UID:2821-1742812200-1742815800@www.pottsvillelibrary.org
SUMMARY:Winter/Spring Storytime
DESCRIPTION:The Monday session of our Winter/Spring story time\, meeting Mondays at 10:30 am from February 10th to May 12th. Join us for a story\, a craft and songs. This session will be geared to those ages 3 through 5 but older and younger siblings are welcome.
URL:https://www.pottsvillelibrary.org/event/winter-spring-storytime-7/
LOCATION:Pottsville Library\, 215 W Market St\, Pottsville\, 17901\, United States
ATTACH;FMTTYPE=image/jpeg:https://www.pottsvillelibrary.org/wp-content/uploads/2024/12/Winter_Spring_Storytime.jpg
ORGANIZER;CN="PFPL":MAILTO:potpublib@pottsvillelibrary.org
END:VEVENT
BEGIN:VEVENT
DTSTART;TZID=UTC:20250325T173000
DTEND;TZID=UTC:20250325T190000
DTSTAMP:20260425T105407
CREATED:20250206T230826Z
LAST-MODIFIED:20250206T230826Z
UID:3072-1742923800-1742929200@www.pottsvillelibrary.org
SUMMARY:Book Bingo Family Night
DESCRIPTION:Join us at the Pottsville Free Public Library for Book Bingo Family Night. Be sure to bring a bag to haul away your prize books.
URL:https://www.pottsvillelibrary.org/event/book-bingo-family-night/
LOCATION:Pottsville Library\, 215 W Market St\, Pottsville\, 17901\, United States
ATTACH;FMTTYPE=image/webp:https://www.pottsvillelibrary.org/wp-content/uploads/2025/02/BookBingoFamilyNightPoster.webp
ORGANIZER;CN="PFPL":MAILTO:potpublib@pottsvillelibrary.org
END:VEVENT
BEGIN:VEVENT
DTSTART;TZID=UTC:20250326T150000
DTEND;TZID=UTC:20250326T163000
DTSTAMP:20260425T105407
CREATED:20250206T225504Z
LAST-MODIFIED:20250206T225504Z
UID:3051-1743001200-1743006600@www.pottsvillelibrary.org
SUMMARY:Tinkering Time
DESCRIPTION:Come join us on Wednesdays starting at 3 p.m. for a variety of activities for ages of 6-12 in the activities room at the Pottsville Free Public Library.
URL:https://www.pottsvillelibrary.org/event/tinkering-time-8/
LOCATION:Pottsville Library\, 215 W Market St\, Pottsville\, 17901\, United States
ATTACH;FMTTYPE=image/webp:https://www.pottsvillelibrary.org/wp-content/uploads/2025/02/TinkeringTime2025.webp
ORGANIZER;CN="PFPL":MAILTO:potpublib@pottsvillelibrary.org
END:VEVENT
BEGIN:VEVENT
DTSTART;TZID=UTC:20250326T170000
DTEND;TZID=UTC:20250326T180000
DTSTAMP:20260425T105407
CREATED:20241209T210636Z
LAST-MODIFIED:20241209T210636Z
UID:2785-1743008400-1743012000@www.pottsvillelibrary.org
SUMMARY:Girls Who Code
DESCRIPTION:Join us for several sessions of Girls Who Code. recommended for ages 7-13. Learn about coding and several different coding languages as well as each session having its own coding challenge. Each session will be its own thing\, make it to as many (or as few) as you can. While called Girls who Code sessions are not just for girls\, any aspiring young coder may participate. Email potchild@pottsvillelibrary.org\, call (570) 622-8880 ext. 12 or come to the Youth Services Desk to learn more or register.
URL:https://www.pottsvillelibrary.org/event/girls-who-code-5/
LOCATION:Pottsville Library\, 215 W Market St\, Pottsville\, 17901\, United States
ATTACH;FMTTYPE=image/jpeg:https://www.pottsvillelibrary.org/wp-content/uploads/2024/12/GWC.jpg
ORGANIZER;CN="PFPL":MAILTO:potpublib@pottsvillelibrary.org
END:VEVENT
BEGIN:VEVENT
DTSTART;TZID=UTC:20250326T173000
DTEND;TZID=UTC:20250326T190000
DTSTAMP:20260425T105407
CREATED:20250117T185031Z
LAST-MODIFIED:20250117T185031Z
UID:2981-1743010200-1743015600@www.pottsvillelibrary.org
SUMMARY:Internet Basics - free computer class
DESCRIPTION:This in-person workshop is for adults who are new to the internet or want to build more confidence finding information online and navigating websites. Attendees will learn about web browsers and search engines\, build skills to navigate the internet\, and discover tips and tricks for basic and advanced searching online.\n\nThe workshop is open to all residents of Schuylkill County and the Pottsville Library District\, no library card required.\nWe will be offering the Internet Basics program on Wed.\, March 26th @ 5:30 PM.\n\nRegistration is requested due to the limited seating available in the computer lab. Call the Library at 570-622-8880 to sign up with your name and phone number. 
URL:https://www.pottsvillelibrary.org/event/internet-basics-free-computer-class/
LOCATION:Pottsville Library Computer Lab\, 215 W Market St\, Pottsville\, PA\, 17901
CATEGORIES:Computer Class
ATTACH;FMTTYPE=image/webp:https://www.pottsvillelibrary.org/wp-content/uploads/2025/01/Internet-basics-FB-flag.webp
ORGANIZER;CN="PFPL":MAILTO:potpublib@pottsvillelibrary.org
END:VEVENT
BEGIN:VEVENT
DTSTART;TZID=UTC:20250327T113000
DTEND;TZID=UTC:20250327T120000
DTSTAMP:20260425T105407
CREATED:20241210T185116Z
LAST-MODIFIED:20241210T185116Z
UID:2866-1743075000-1743076800@www.pottsvillelibrary.org
SUMMARY:Winter/Spring Storytime
DESCRIPTION:The Thursday session of our Winter/Spring story time\, meeting Thursdays at 11:30 am from February 13th until May 15th. Join us for rhymes\, songs and simple stories. This session will be geared to children 12-36 months old but older and younger siblings are welcome.
URL:https://www.pottsvillelibrary.org/event/winter-spring-storytime-21/
LOCATION:Pottsville Library\, 215 W Market St\, Pottsville\, 17901\, United States
ATTACH;FMTTYPE=image/jpeg:https://www.pottsvillelibrary.org/wp-content/uploads/2024/12/Winter_Spring_Storytime.jpg
ORGANIZER;CN="PFPL":MAILTO:potpublib@pottsvillelibrary.org
END:VEVENT
BEGIN:VEVENT
DTSTART;TZID=UTC:20250327T173000
DTEND;TZID=UTC:20250327T190000
DTSTAMP:20260425T105407
CREATED:20241203T194909Z
LAST-MODIFIED:20241203T194909Z
UID:2728-1743096600-1743102000@www.pottsvillelibrary.org
SUMMARY:Pageturners Book Club
DESCRIPTION:If you are interested in great books and great conversation–our book club is for you! All are welcome at the Pageturners monthly meeting held the 4th Thursday of each month at 5:30 on the 2nd floor of the Library.
URL:https://www.pottsvillelibrary.org/event/pageturners-book-club-6/
LOCATION:Pottsville Library\, 215 W Market St\, Pottsville\, 17901\, United States
ATTACH;FMTTYPE=image/jpeg:https://www.pottsvillelibrary.org/wp-content/uploads/2024/12/Pageturners-Logo-scaled.jpeg
ORGANIZER;CN="PFPL":MAILTO:potpublib@pottsvillelibrary.org
END:VEVENT
BEGIN:VEVENT
DTSTART;TZID=UTC:20250327T173000
DTEND;TZID=UTC:20250327T190000
DTSTAMP:20260425T105407
CREATED:20241210T191614Z
LAST-MODIFIED:20241210T191614Z
UID:2898-1743096600-1743102000@www.pottsvillelibrary.org
SUMMARY:Teen Book Club
DESCRIPTION:Our continuing teen book club meets the fourth Thursday of every month. For ages 12-18\, email potchild@pottsvillelibrary.org\, call (570)-622-8880 ext 12 or come to the Youth Services desk to register.
URL:https://www.pottsvillelibrary.org/event/teen-book-club-6/
LOCATION:Pottsville Library\, 215 W Market St\, Pottsville\, 17901\, United States
ATTACH;FMTTYPE=image/jpeg:https://www.pottsvillelibrary.org/wp-content/uploads/2024/12/TeenBookClubGeneral.jpg
ORGANIZER;CN="PFPL":MAILTO:potpublib@pottsvillelibrary.org
END:VEVENT
BEGIN:VEVENT
DTSTART;TZID=UTC:20250329T090000
DTEND;TZID=UTC:20250329T120000
DTSTAMP:20260425T105407
CREATED:20250206T233531Z
LAST-MODIFIED:20250206T233531Z
UID:3102-1743238800-1743249600@www.pottsvillelibrary.org
SUMMARY:Open Arcade
DESCRIPTION:The Pottsville Free Public Library is opening up our arcade-style games like foosball\, billiards and a basketball shoot to everyone one day a week. No quarters required! Join us in the Library’s basement on Saturday mornings from 9 AM-12 PM. All ages and families are welcome (kids 8 and under need to have their parent or guardian with them).
URL:https://www.pottsvillelibrary.org/event/open-arcade-7/
LOCATION:Pottsville Library\, 215 W Market St\, Pottsville\, 17901\, United States
ATTACH;FMTTYPE=image/webp:https://www.pottsvillelibrary.org/wp-content/uploads/2025/02/School-Year-Open-Arcade-Sign.webp
ORGANIZER;CN="PFPL":MAILTO:potpublib@pottsvillelibrary.org
END:VEVENT
BEGIN:VEVENT
DTSTART;TZID=UTC:20250331T103000
DTEND;TZID=UTC:20250331T113000
DTSTAMP:20260425T105407
CREATED:20241210T181731Z
LAST-MODIFIED:20241210T181731Z
UID:2824-1743417000-1743420600@www.pottsvillelibrary.org
SUMMARY:Winter/Spring Storytime
DESCRIPTION:The Monday session of our Winter/Spring story time\, meeting Mondays at 10:30 am from February 10th to May 12th. Join us for a story\, a craft and songs. This session will be geared to those ages 3 through 5 but older and younger siblings are welcome.
URL:https://www.pottsvillelibrary.org/event/winter-spring-storytime-8/
LOCATION:Pottsville Library\, 215 W Market St\, Pottsville\, 17901\, United States
ATTACH;FMTTYPE=image/jpeg:https://www.pottsvillelibrary.org/wp-content/uploads/2024/12/Winter_Spring_Storytime.jpg
ORGANIZER;CN="PFPL":MAILTO:potpublib@pottsvillelibrary.org
END:VEVENT
BEGIN:VEVENT
DTSTART;TZID=UTC:20250402T150000
DTEND;TZID=UTC:20250402T163000
DTSTAMP:20260425T105407
CREATED:20250206T225548Z
LAST-MODIFIED:20250206T225548Z
UID:3054-1743606000-1743611400@www.pottsvillelibrary.org
SUMMARY:Tinkering Time
DESCRIPTION:Come join us on Wednesdays starting at 3 p.m. for a variety of activities for ages of 6-12 in the activities room at the Pottsville Free Public Library.
URL:https://www.pottsvillelibrary.org/event/tinkering-time-9/
LOCATION:Pottsville Library\, 215 W Market St\, Pottsville\, 17901\, United States
ATTACH;FMTTYPE=image/webp:https://www.pottsvillelibrary.org/wp-content/uploads/2025/02/TinkeringTime2025.webp
ORGANIZER;CN="PFPL":MAILTO:potpublib@pottsvillelibrary.org
END:VEVENT
BEGIN:VEVENT
DTSTART;TZID=UTC:20250402T170000
DTEND;TZID=UTC:20250402T180000
DTSTAMP:20260425T105407
CREATED:20241209T210813Z
LAST-MODIFIED:20241209T210813Z
UID:2788-1743613200-1743616800@www.pottsvillelibrary.org
SUMMARY:Girls Who Code
DESCRIPTION:Join us for several sessions of Girls Who Code. recommended for ages 7-13. Learn about coding and several different coding languages as well as each session having its own coding challenge. Each session will be its own thing\, make it to as many (or as few) as you can. While called Girls who Code sessions are not just for girls\, any aspiring young coder may participate. Email potchild@pottsvillelibrary.org\, call (570) 622-8880 ext. 12 or come to the Youth Services Desk to learn more or register.
URL:https://www.pottsvillelibrary.org/event/girls-who-code-6/
LOCATION:Pottsville Library\, 215 W Market St\, Pottsville\, 17901\, United States
ATTACH;FMTTYPE=image/jpeg:https://www.pottsvillelibrary.org/wp-content/uploads/2024/12/GWC.jpg
ORGANIZER;CN="PFPL":MAILTO:potpublib@pottsvillelibrary.org
END:VEVENT
BEGIN:VEVENT
DTSTART;TZID=UTC:20250403T113000
DTEND;TZID=UTC:20250403T120000
DTSTAMP:20260425T105407
CREATED:20241210T185337Z
LAST-MODIFIED:20241210T185337Z
UID:2869-1743679800-1743681600@www.pottsvillelibrary.org
SUMMARY:Winter/Spring Storytime
DESCRIPTION:The Thursday session of our Winter/Spring story time\, meeting Thursdays at 11:30 am from February 13th until May 15th. Join us for rhymes\, songs and simple stories. This session will be geared to children 12-36 months old but older and younger siblings are welcome.
URL:https://www.pottsvillelibrary.org/event/winter-spring-storytime-22/
LOCATION:Pottsville Library\, 215 W Market St\, Pottsville\, 17901\, United States
ATTACH;FMTTYPE=image/jpeg:https://www.pottsvillelibrary.org/wp-content/uploads/2024/12/Winter_Spring_Storytime.jpg
ORGANIZER;CN="PFPL":MAILTO:potpublib@pottsvillelibrary.org
END:VEVENT
BEGIN:VEVENT
DTSTART;TZID=UTC:20250405T120000
DTEND;TZID=UTC:20250405T150000
DTSTAMP:20260425T105407
CREATED:20241202T212317Z
LAST-MODIFIED:20241202T212317Z
UID:2683-1743854400-1743865200@www.pottsvillelibrary.org
SUMMARY:Pysanky for beginners with Paul Corinchock
DESCRIPTION:Join us for a beginner course in the art of Pysanky\, taught by Paul Corinchock. All supplies are included. Wear old clothing! Prepaid registration is required to hold your reservation. $40 per person. This year we are offering TWO classes–choose Saturday March 22nd or Saturday April 5th. Class runs from 12-3. Grab your tickets now–we SOLD OUT fast last year!
URL:https://www.pottsvillelibrary.org/event/pysanky-for-beginners-with-paul-corinchock-5/
LOCATION:Pottsville Library\, 215 W Market St\, Pottsville\, 17901\, United States
ATTACH;FMTTYPE=image/jpeg:https://www.pottsvillelibrary.org/wp-content/uploads/2024/12/Pysanky-Flyer.jpg
ORGANIZER;CN="PFPL":MAILTO:potpublib@pottsvillelibrary.org
END:VEVENT
BEGIN:VEVENT
DTSTART;TZID=UTC:20250405T130000
DTEND;TZID=UTC:20250405T143000
DTSTAMP:20260425T105407
CREATED:20250206T231058Z
LAST-MODIFIED:20250206T231058Z
UID:3079-1743858000-1743863400@www.pottsvillelibrary.org
SUMMARY:Financial Literacy Story Time
DESCRIPTION:Join us for a Story Time\, and games using the Thinking Money for Kids program to help children learn financial literacy. Recommended for ages 3-8
URL:https://www.pottsvillelibrary.org/event/financial-literacy-story-time/
LOCATION:Pottsville Library\, 215 W Market St\, Pottsville\, 17901\, United States
ATTACH;FMTTYPE=image/webp:https://www.pottsvillelibrary.org/wp-content/uploads/2025/02/Financial_Literacy_Storytime_Poster.webp
ORGANIZER;CN="PFPL":MAILTO:potpublib@pottsvillelibrary.org
END:VEVENT
BEGIN:VEVENT
DTSTART;TZID=UTC:20250407T083000
DTEND;TZID=UTC:20250407T193000
DTSTAMP:20260425T105407
CREATED:20250327T213813Z
LAST-MODIFIED:20250327T213813Z
UID:3199-1744014600-1744054200@www.pottsvillelibrary.org
SUMMARY:2025 Library Scavenger Hunt
DESCRIPTION:Did you know that library’s in Pennsylvania are divided into districts? Come on down to your local library within the Pottsville District from April 7th until May 9th to join the scavenger hunt and find each library’s copy of the 2025 PA One Book: “Arlo Draws An Octopus”. Don’t have time to make it to every library within the month\, that’s okay\, make it to at least five and enter the drawing for a Dunkin’ gift card. Come to the desk and say hi when you are here.
URL:https://www.pottsvillelibrary.org/event/2025-library-scavenger-hunt/
LOCATION:Pottsville Library\, 215 W Market St\, Pottsville\, 17901\, United States
ATTACH;FMTTYPE=image/webp:https://www.pottsvillelibrary.org/wp-content/uploads/2025/03/Scavenger-Hunt-Flyer.webp
ORGANIZER;CN="PFPL":MAILTO:potpublib@pottsvillelibrary.org
END:VEVENT
BEGIN:VEVENT
DTSTART;TZID=UTC:20250407T103000
DTEND;TZID=UTC:20250407T113000
DTSTAMP:20260425T105407
CREATED:20241210T181900Z
LAST-MODIFIED:20241210T181900Z
UID:2827-1744021800-1744025400@www.pottsvillelibrary.org
SUMMARY:Winter/Spring Storytime
DESCRIPTION:The Monday session of our Winter/Spring story time\, meeting Mondays at 10:30 am from February 10th to May 12th. Join us for a story\, a craft and songs. This session will be geared to those ages 3 through 5 but older and younger siblings are welcome.
URL:https://www.pottsvillelibrary.org/event/winter-spring-storytime-9/
LOCATION:Pottsville Library\, 215 W Market St\, Pottsville\, 17901\, United States
ATTACH;FMTTYPE=image/jpeg:https://www.pottsvillelibrary.org/wp-content/uploads/2024/12/Winter_Spring_Storytime.jpg
ORGANIZER;CN="PFPL":MAILTO:potpublib@pottsvillelibrary.org
END:VEVENT
BEGIN:VEVENT
DTSTART;TZID=UTC:20250407T120000
DTEND;TZID=UTC:20250407T140000
DTSTAMP:20260425T105407
CREATED:20241203T145524Z
LAST-MODIFIED:20241203T145524Z
UID:2695-1744027200-1744034400@www.pottsvillelibrary.org
SUMMARY:Used Book Sale
DESCRIPTION:Visit our monthly used book sale in the basement of the Library from 12-2 on on the 1st Monday of each month. Thank you to the Friends of the Pottsville Free Public Library for hosting our used book sales!
URL:https://www.pottsvillelibrary.org/event/used-book-sale-17/
LOCATION:Library – Basement\, 215 W. Market St.\, Pottsville\, PA\, 17901\, United States
ATTACH;FMTTYPE=image/png:https://www.pottsvillelibrary.org/wp-content/uploads/2024/12/Book-Sale.png
ORGANIZER;CN="PFPL":MAILTO:potpublib@pottsvillelibrary.org
END:VEVENT
BEGIN:VEVENT
DTSTART;TZID=UTC:20250408T083000
DTEND;TZID=UTC:20250408T193000
DTSTAMP:20260425T105407
CREATED:20250327T214133Z
LAST-MODIFIED:20250327T214133Z
UID:3203-1744101000-1744140600@www.pottsvillelibrary.org
SUMMARY:2025 Library Scavenger Hunt
DESCRIPTION:Did you know that library’s in Pennsylvania are divided into districts? Come on down to your local library within the Pottsville District from April 7th until May 9th to join the scavenger hunt and find each library’s copy of the 2025 PA One Book: “Arlo Draws An Octopus”. Don’t have time to make it to every library within the month\, that’s okay\, make it to at least five and enter the drawing for a Dunkin’ gift card. Come to the desk and say hi when you are here.
URL:https://www.pottsvillelibrary.org/event/2025-library-scavenger-hunt-2/
LOCATION:Pottsville Library\, 215 W Market St\, Pottsville\, 17901\, United States
ATTACH;FMTTYPE=image/webp:https://www.pottsvillelibrary.org/wp-content/uploads/2025/03/Scavenger-Hunt-Flyer.webp
ORGANIZER;CN="PFPL":MAILTO:potpublib@pottsvillelibrary.org
END:VEVENT
BEGIN:VEVENT
DTSTART;TZID=UTC:20250408T173000
DTEND;TZID=UTC:20250408T190000
DTSTAMP:20260425T105407
CREATED:20241202T200605Z
LAST-MODIFIED:20241202T200605Z
UID:2675-1744133400-1744138800@www.pottsvillelibrary.org
SUMMARY:Easter Basket Pals: Stuffie Building Workshop
DESCRIPTION:It’s time for another fun filled stuffie workshop! This time we will make the perfect Easter or springtime pal! How does it work? You choose your pal from a selection of a lamb\, piglet\, elephant\, duck or teddy bear–then we stuff them & fill out a birth certificate for our new friend. This is a great activity for kids and adults! \nEaster Basket Pals will be held on Tuesday\, April 8th at 5:30 PM.  $25 per stuffie kit.
URL:https://www.pottsvillelibrary.org/event/easter-basket-pals-stuffie-building-workshop/
LOCATION:Pottsville Library\, 215 W Market St\, Pottsville\, 17901\, United States
ATTACH;FMTTYPE=image/jpeg:https://www.pottsvillelibrary.org/wp-content/uploads/2024/12/Easter-Basket-Pals-Flyer.jpg
ORGANIZER;CN="PFPL":MAILTO:potpublib@pottsvillelibrary.org
END:VEVENT
BEGIN:VEVENT
DTSTART;TZID=UTC:20250409T083000
DTEND;TZID=UTC:20250409T193000
DTSTAMP:20260425T105407
CREATED:20250327T214353Z
LAST-MODIFIED:20250327T214353Z
UID:3206-1744187400-1744227000@www.pottsvillelibrary.org
SUMMARY:2025 Library Scavenger Hunt
DESCRIPTION:Did you know that library’s in Pennsylvania are divided into districts? Come on down to your local library within the Pottsville District from April 7th until May 9th to join the scavenger hunt and find each library’s copy of the 2025 PA One Book: “Arlo Draws An Octopus”. Don’t have time to make it to every library within the month\, that’s okay\, make it to at least five and enter the drawing for a Dunkin’ gift card. Come to the desk and say hi when you are here.
URL:https://www.pottsvillelibrary.org/event/2025-library-scavenger-hunt-3/
LOCATION:Pottsville Library\, 215 W Market St\, Pottsville\, 17901\, United States
ATTACH;FMTTYPE=image/webp:https://www.pottsvillelibrary.org/wp-content/uploads/2025/03/Scavenger-Hunt-Flyer.webp
ORGANIZER;CN="PFPL":MAILTO:potpublib@pottsvillelibrary.org
END:VEVENT
BEGIN:VEVENT
DTSTART;TZID=UTC:20250409T150000
DTEND;TZID=UTC:20250409T163000
DTSTAMP:20260425T105407
CREATED:20250206T225636Z
LAST-MODIFIED:20250206T225636Z
UID:3057-1744210800-1744216200@www.pottsvillelibrary.org
SUMMARY:Tinkering Time
DESCRIPTION:Come join us on Wednesdays starting at 3 p.m. for a variety of activities for ages of 6-12 in the activities room at the Pottsville Free Public Library.
URL:https://www.pottsvillelibrary.org/event/tinkering-time-10/
LOCATION:Pottsville Library\, 215 W Market St\, Pottsville\, 17901\, United States
ATTACH;FMTTYPE=image/webp:https://www.pottsvillelibrary.org/wp-content/uploads/2025/02/TinkeringTime2025.webp
ORGANIZER;CN="PFPL":MAILTO:potpublib@pottsvillelibrary.org
END:VEVENT
BEGIN:VEVENT
DTSTART;TZID=UTC:20250409T170000
DTEND;TZID=UTC:20250409T180000
DTSTAMP:20260425T105407
CREATED:20241209T210929Z
LAST-MODIFIED:20241209T210929Z
UID:2791-1744218000-1744221600@www.pottsvillelibrary.org
SUMMARY:Girls Who Code
DESCRIPTION:Join us for several sessions of Girls Who Code. recommended for ages 7-13. Learn about coding and several different coding languages as well as each session having its own coding challenge. Each session will be its own thing\, make it to as many (or as few) as you can. While called Girls who Code sessions are not just for girls\, any aspiring young coder may participate. Email potchild@pottsvillelibrary.org\, call (570) 622-8880 ext. 12 or come to the Youth Services Desk to learn more or register.
URL:https://www.pottsvillelibrary.org/event/girls-who-code-7/
LOCATION:Pottsville Library\, 215 W Market St\, Pottsville\, 17901\, United States
ATTACH;FMTTYPE=image/jpeg:https://www.pottsvillelibrary.org/wp-content/uploads/2024/12/GWC.jpg
ORGANIZER;CN="PFPL":MAILTO:potpublib@pottsvillelibrary.org
END:VEVENT
BEGIN:VEVENT
DTSTART;TZID=UTC:20250409T173000
DTEND;TZID=UTC:20250409T190000
DTSTAMP:20260425T105407
CREATED:20250117T205900Z
LAST-MODIFIED:20250117T205900Z
UID:2985-1744219800-1744225200@www.pottsvillelibrary.org
SUMMARY:Windows Next Steps - free computer class
DESCRIPTION:  \nYou know the basics of using a computer. Now it’s time to learn how to personalize your computer and make it more useful! \nIn this FREE computer course\, we will cover learning more about what kind of system you have\, how to install a new application\, how to add shortcuts to your computer’s desktop\, how to change some of the defaults and settings\, how to uninstall an application you don’t want\, and some safety tips. \nThe one-hour course is a mix of demonstrations and practice time\, and is open to all residents of Schuylkill County and the Pottsville Library District. \nCall the front desk at 570-622-8880 to sign up; seating is limited due to the small computer lab.
URL:https://www.pottsvillelibrary.org/event/windows-next-steps-free-computer-class/
LOCATION:Pottsville Library Computer Lab\, 215 W Market St\, Pottsville\, PA\, 17901
CATEGORIES:Computer Class
ATTACH;FMTTYPE=image/jpeg:https://www.pottsvillelibrary.org/wp-content/uploads/2025/01/Facebook-event-flag.jpg
ORGANIZER;CN="PFPL":MAILTO:potpublib@pottsvillelibrary.org
END:VEVENT
END:VCALENDAR