BEGIN:VCALENDAR
VERSION:2.0
PRODID:-//Pottsville Free Public Library - ECPv6.15.13//NONSGML v1.0//EN
CALSCALE:GREGORIAN
METHOD:PUBLISH
X-WR-CALNAME:Pottsville Free Public Library
X-ORIGINAL-URL:https://www.pottsvillelibrary.org
X-WR-CALDESC:Events for Pottsville Free Public Library
REFRESH-INTERVAL;VALUE=DURATION:PT1H
X-Robots-Tag:noindex
X-PUBLISHED-TTL:PT1H
BEGIN:VTIMEZONE
TZID:UTC
BEGIN:STANDARD
TZOFFSETFROM:+0000
TZOFFSETTO:+0000
TZNAME:UTC
DTSTART:20220101T000000
END:STANDARD
END:VTIMEZONE
BEGIN:VEVENT
DTSTART;TZID=UTC:20240320T103000
DTEND;TZID=UTC:20240320T120000
DTSTAMP:20260425T221024
CREATED:20240320T140336Z
LAST-MODIFIED:20240320T140336Z
UID:1911-1710930600-1710936000@www.pottsvillelibrary.org
SUMMARY:Saturday Storytime: Mother's Day Tea Party
DESCRIPTION:Join us for another special Saturday Storytime to celebrate Mother’s Day! Kids 12 & under are invited to attend with their mom\, grandmother\, or their favorite caregiver for a story\, a craft and a tea party.  Please email with names and ages of children attending to potpublib@pottsvillelibrary.org.  Event starts at 10:30AM on Saturday\, May 11th.
URL:https://www.pottsvillelibrary.org/event/saturday-storytime-mothers-day-tea-party/
LOCATION:Pottsville Library\, 215 W Market St\, Pottsville\, 17901\, United States
ATTACH;FMTTYPE=image/jpeg:https://www.pottsvillelibrary.org/wp-content/uploads/2024/03/Mothers-Day-Tea-Party.jpg
ORGANIZER;CN="PFPL":MAILTO:potpublib@pottsvillelibrary.org
END:VEVENT
BEGIN:VEVENT
DTSTART;TZID=UTC:20240319T173000
DTEND;TZID=UTC:20240319T190000
DTSTAMP:20260425T221024
CREATED:20240221T165116Z
LAST-MODIFIED:20240221T165116Z
UID:1835-1710869400-1710874800@www.pottsvillelibrary.org
SUMMARY:Lego Night
DESCRIPTION:Let your imagination run wild with our giant LEGO collection! We will have sets that you can work on\, or just use your imagination to build whatever you’d like! Legos will be available on Tuesday\, March 19th at 5:30.  Email to register: potpublib@pottsvillelibrary.org
URL:https://www.pottsvillelibrary.org/event/lego-night/
LOCATION:Pottsville Library\, 215 W Market St\, Pottsville\, 17901\, United States
ATTACH;FMTTYPE=image/jpeg:https://www.pottsvillelibrary.org/wp-content/uploads/2024/02/Lego-Night.jpg
ORGANIZER;CN="PFPL":MAILTO:potpublib@pottsvillelibrary.org
END:VEVENT
BEGIN:VEVENT
DTSTART;TZID=UTC:20240316T140000
DTEND;TZID=UTC:20240316T153000
DTSTAMP:20260425T221024
CREATED:20240208T190755Z
LAST-MODIFIED:20240208T190755Z
UID:1818-1710597600-1710603000@www.pottsvillelibrary.org
SUMMARY:Hippity Hoppity Storytime!
DESCRIPTION:Join us for a very special Hippity Hoppity Storytime! Bring a basket or bag to search the Library for Easter Eggs after a story & craft. Storytime is Saturday\, March 16th at 2PM.  Please email to register with names & age of each child attending.  Please pre-register so we make sure to have enough eggs for everyone!
URL:https://www.pottsvillelibrary.org/event/hippity-hoppity-storytime/
LOCATION:Pottsville Library\, 215 W Market St\, Pottsville\, 17901\, United States
ATTACH;FMTTYPE=image/jpeg:https://www.pottsvillelibrary.org/wp-content/uploads/2024/02/Hippity-Hoppity-Flyer.jpeg
ORGANIZER;CN="PFPL":MAILTO:potpublib@pottsvillelibrary.org
END:VEVENT
BEGIN:VEVENT
DTSTART;TZID=UTC:20240316T120000
DTEND;TZID=UTC:20240316T150000
DTSTAMP:20260425T221024
CREATED:20231108T174744Z
LAST-MODIFIED:20231108T174744Z
UID:1641-1710590400-1710601200@www.pottsvillelibrary.org
SUMMARY:Pysanky for Beginners with Paul Corinchock
DESCRIPTION:Join us for a beginner course in the art of Pysanky\, taught by Paul Corinchock. All supplies are included. Wear old clothing! Prepaid registration is required to hold your reservation. $40 per person. This year we are offering TWO classes–choose Saturday March 2nd or Saturday March 16th. Class runs from 12-3. Grab your tickets now–we SOLD OUT fast last year!
URL:https://www.pottsvillelibrary.org/event/pysanky-for-beginners-with-paul-corinchock-3/
LOCATION:Pottsville Library\, 215 W Market St\, Pottsville\, 17901\, United States
ATTACH;FMTTYPE=image/jpeg:https://www.pottsvillelibrary.org/wp-content/uploads/2023/11/Pysanky-Flyer.jpg
ORGANIZER;CN="PFPL":MAILTO:potpublib@pottsvillelibrary.org
END:VEVENT
BEGIN:VEVENT
DTSTART;TZID=UTC:20240305T173000
DTEND;TZID=UTC:20240305T190000
DTSTAMP:20260425T221024
CREATED:20240221T163608Z
LAST-MODIFIED:20240221T163608Z
UID:1831-1709659800-1709665200@www.pottsvillelibrary.org
SUMMARY:STEM Open House
DESCRIPTION:Test out some of our best STEM Kits at the Pottsville Library!  All ages are welcome to attend. Some STEM Kits may be checked out with a valid Pottsville Library Card.  STEM stations will be set up on Tuesday\, March 5th at 5:30PM. Please email to register: potpublib@pottsvillelibrary.org. Include names and ages of those attending. 
URL:https://www.pottsvillelibrary.org/event/stem-open-house/
LOCATION:Pottsville Library\, 215 W Market St\, Pottsville\, 17901\, United States
ATTACH;FMTTYPE=image/jpeg:https://www.pottsvillelibrary.org/wp-content/uploads/2024/02/Stem-Open-House.jpg
ORGANIZER;CN="PFPL":MAILTO:potpublib@pottsvillelibrary.org
END:VEVENT
BEGIN:VEVENT
DTSTART;TZID=UTC:20240304T120000
DTEND;TZID=UTC:20240304T140000
DTSTAMP:20260425T221024
CREATED:20240117T144259Z
LAST-MODIFIED:20240117T144259Z
UID:1717-1709553600-1709560800@www.pottsvillelibrary.org
SUMMARY:Used Book Sale
DESCRIPTION:Visit our monthly used book sale in the basement of the Library from 12-2 on Monday\, March 4th\, 2024. Thank you to the Friends of the Pottsville Free Public Library for hosting our used book sales!
URL:https://www.pottsvillelibrary.org/event/used-book-sale-3/
LOCATION:Library – Basement\, 215 W. Market St.\, Pottsville\, PA\, 17901\, United States
ATTACH;FMTTYPE=image/png:https://www.pottsvillelibrary.org/wp-content/uploads/2023/11/Book_Sale_Website_Banner.png
ORGANIZER;CN="PFPL":MAILTO:potpublib@pottsvillelibrary.org
END:VEVENT
BEGIN:VEVENT
DTSTART;TZID=UTC:20240302T120000
DTEND;TZID=UTC:20240302T150000
DTSTAMP:20260425T221024
CREATED:20231108T174632Z
LAST-MODIFIED:20231108T174632Z
UID:1637-1709380800-1709391600@www.pottsvillelibrary.org
SUMMARY:Pysanky for Beginners with Paul Corinchock
DESCRIPTION:Join us for a beginner course in the art of Pysanky\, taught by Paul Corinchock. All supplies are included. Wear old clothing! Prepaid registration is required to hold your reservation. $40 per person. This year we are offering TWO classes–choose Saturday March 2nd or Saturday March 16th. Class runs from 12-3. Grab your tickets now–we SOLD OUT fast last year!
URL:https://www.pottsvillelibrary.org/event/pysanky-for-beginners-with-paul-corinchock-2/
LOCATION:Pottsville Library\, 215 W Market St\, Pottsville\, 17901\, United States
ATTACH;FMTTYPE=image/jpeg:https://www.pottsvillelibrary.org/wp-content/uploads/2023/11/Pysanky-Flyer.jpg
ORGANIZER;CN="PFPL":MAILTO:potpublib@pottsvillelibrary.org
END:VEVENT
BEGIN:VEVENT
DTSTART;TZID=UTC:20240302T103000
DTEND;TZID=UTC:20240302T120000
DTSTAMP:20260425T221024
CREATED:20240208T171938Z
LAST-MODIFIED:20240208T171938Z
UID:1814-1709375400-1709380800@www.pottsvillelibrary.org
SUMMARY:Saturday Storytime: Read Across America & Happy Birthday to Dr. Seuss!
DESCRIPTION:Join us for a very special Storytime to wish Dr. Seuss a Happy Birthday\, and to celebrate Read Across America! We will have a special guest reader from Geisinger St. Luke’s. Storytime is Saturday\, March 2nd at 10:30 AM. Email to register: potpublib@pottsvillelibrary.org  Please include names & ages of children attending.
URL:https://www.pottsvillelibrary.org/event/saturday-storytime-read-across-america-happy-birthday-to-dr-seuss/
LOCATION:Pottsville Library\, 215 W Market St\, Pottsville\, 17901\, United States
ATTACH;FMTTYPE=image/jpeg:https://www.pottsvillelibrary.org/wp-content/uploads/2024/02/Read-Across-America-Flyer.jpg
ORGANIZER;CN="PFPL":MAILTO:potpublib@pottsvillelibrary.org
END:VEVENT
BEGIN:VEVENT
DTSTART;TZID=UTC:20240223T180000
DTEND;TZID=UTC:20240224T180000
DTSTAMP:20260425T221024
CREATED:20231101T202957Z
LAST-MODIFIED:20231101T202957Z
UID:1604-1708711200-1708797600@www.pottsvillelibrary.org
SUMMARY:Putting Fore Pottsville Library
DESCRIPTION:Mini Golf in the Pottsville Library? You bet! Join us for our 5th annual two day Mini Golf event! You will play 18 holes of mini golf throughout the Library building & enjoy food & drinks at the end! \nFriday\, February 23rd\, from 6-9 pm is ADULTS ONLY–must be 21 to attend.  $35 per person\, food & drinks included in price. \nSaturday\, February 24th\, from 10-3 is ALL AGES! $5 per adult\, $3 per child under 6. Ticket price includes age appropriate food & drink\, and 18 holes of mini golf. 
URL:https://www.pottsvillelibrary.org/event/putting-fore-pottsville-library/
LOCATION:Pottsville Library\, 215 W Market St\, Pottsville\, 17901\, United States
ATTACH;FMTTYPE=image/jpeg:https://www.pottsvillelibrary.org/wp-content/uploads/2023/11/Brochure-both-events.jpg
ORGANIZER;CN="PFPL":MAILTO:potpublib@pottsvillelibrary.org
END:VEVENT
BEGIN:VEVENT
DTSTART;TZID=UTC:20240220T173000
DTEND;TZID=UTC:20240220T190000
DTSTAMP:20260425T221024
CREATED:20240212T205503Z
LAST-MODIFIED:20240212T205503Z
UID:1823-1708450200-1708455600@www.pottsvillelibrary.org
SUMMARY:Family Book Bingo
DESCRIPTION:Join us for some family fun–Family Book Bingo! We will play rounds of bingo & the prizes will be–you guessed it–BOOKS! We will have a variety of books for all ages to choose from as your prize. Bring a bag to carry your winnings! Bingo starts at 5:30pm on Tuesday\, February 20th. Register by emailing potpublib@pottsvillelibrary.org with how many people are attending & their ages.
URL:https://www.pottsvillelibrary.org/event/family-book-bingo-2/
LOCATION:Pottsville Library\, 215 W Market St\, Pottsville\, 17901\, United States
ATTACH;FMTTYPE=image/jpeg:https://www.pottsvillelibrary.org/wp-content/uploads/2024/02/Family-Book-Bingo.jpg
ORGANIZER;CN="PFPL":MAILTO:potpublib@pottsvillelibrary.org
END:VEVENT
BEGIN:VEVENT
DTSTART;TZID=UTC:20240210T130000
DTEND;TZID=UTC:20240210T150000
DTSTAMP:20260425T221024
CREATED:20231023T185756Z
LAST-MODIFIED:20231023T185756Z
UID:1598-1707570000-1707577200@www.pottsvillelibrary.org
SUMMARY:Galentines Plant & Sip
DESCRIPTION:Single? Taken? Over it? We don’t judge. Join us for a girls day out! Enjoy a wine tasting with a fantastic wine guide & plant your own succulent pot. Wine will be available to order\, however no wine purchase is necessary to attend event.  Bring your besties for a day of fun! \nSaturday\, February 10th @1:00. Prepaid registration required–these do sell out FAST!  $25 per person.
URL:https://www.pottsvillelibrary.org/event/galentines-plant-sip/
LOCATION:Pottsville Library\, 215 W Market St\, Pottsville\, 17901\, United States
ATTACH;FMTTYPE=image/jpeg:https://www.pottsvillelibrary.org/wp-content/uploads/2023/10/Galentines-Flyer-1-scaled.jpeg
ORGANIZER;CN="PFPL":MAILTO:potpublib@pottsvillelibrary.org
END:VEVENT
BEGIN:VEVENT
DTSTART;TZID=UTC:20240206T180000
DTEND;TZID=UTC:20240206T190000
DTSTAMP:20260425T221024
CREATED:20240109T155626Z
LAST-MODIFIED:20240109T155626Z
UID:1703-1707242400-1707246000@www.pottsvillelibrary.org
SUMMARY:2024 African American Read-In
DESCRIPTION:MLK Jr Family Enrichment Center-Schuylkill joins the Pottsville Free Public Library and the Schuylkill NAACP for the 2024 African American Read-In on Tuesday\, Feb. 6 at 6 p.m. Guest readers will share some of their favorite stories and poems by African American authors as we celebrate the rich history of African American literature. Families and people of all ages are welcome and the event is free to attend. The Read-In will take place at the Pottsville Free Public Library\, 215 W. Market St\, Pottsville\, PA. Recommended books will also be on display in the Library’s Youth Services Department throughout the month of February.
URL:https://www.pottsvillelibrary.org/event/2024-african-american-read-in/
LOCATION:Pottsville Library\, 215 W Market St\, Pottsville\, 17901\, United States
CATEGORIES:Celebration,Literacy
ATTACH;FMTTYPE=image/png:https://www.pottsvillelibrary.org/wp-content/uploads/2024/01/2024_AARI_Host_Badge.png
END:VEVENT
BEGIN:VEVENT
DTSTART;TZID=UTC:20240205T120000
DTEND;TZID=UTC:20240205T140000
DTSTAMP:20260425T221024
CREATED:20231219T153400Z
LAST-MODIFIED:20231219T153400Z
UID:1679-1707134400-1707141600@www.pottsvillelibrary.org
SUMMARY:Used Book Sale
DESCRIPTION:Visit our monthly used book sale in the basement of the Library from 12-2 on Monday\, February 5th\, 2024. Thank you to the Friends of the Pottsville Free Public Library for hosting our used book sales!
URL:https://www.pottsvillelibrary.org/event/used-book-sale-2/
LOCATION:Library – Basement\, 215 W. Market St.\, Pottsville\, PA\, 17901\, United States
ATTACH;FMTTYPE=image/png:https://www.pottsvillelibrary.org/wp-content/uploads/2023/11/Book_Sale_Website_Banner.png
ORGANIZER;CN="PFPL":MAILTO:potpublib@pottsvillelibrary.org
END:VEVENT
BEGIN:VEVENT
DTSTART;TZID=UTC:20240205T103000
DTEND;TZID=UTC:20240205T113000
DTSTAMP:20260425T221024
CREATED:20231214T170357Z
LAST-MODIFIED:20231214T170357Z
UID:1671-1707129000-1707132600@www.pottsvillelibrary.org
SUMMARY:Storytime
DESCRIPTION:Join us Mondays at 10:30 for Storytime at the Pottsville Library! Recommended for ages 12 months to 5 years. Please register by emailing potpublib@pottsvillelibrary.org with names & ages of children attending. Storytime will start Monday\, February 5th & run until Monday\, May 20th\, 2024
URL:https://www.pottsvillelibrary.org/event/storytime/
LOCATION:Pottsville Library\, 215 W Market St\, Pottsville\, 17901\, United States
ATTACH;FMTTYPE=image/jpeg:https://www.pottsvillelibrary.org/wp-content/uploads/2023/12/Winter-Storytime.jpg
ORGANIZER;CN="PFPL":MAILTO:potpublib@pottsvillelibrary.org
END:VEVENT
BEGIN:VEVENT
DTSTART;TZID=UTC:20240203T103000
DTEND;TZID=UTC:20240203T120000
DTSTAMP:20260425T221024
CREATED:20240124T190813Z
LAST-MODIFIED:20240124T190813Z
UID:1797-1706956200-1706961600@www.pottsvillelibrary.org
SUMMARY:Cozy Time Storytime
DESCRIPTION:Join us on Saturday\, February 3rd at 10:30 AM for a special Saturday storytime!  We will have a story\, crafts\, games and hot chocolate! This special Cozy Time is to celebrate Bring Your Child to the Library Day–so with every new child’s library card\, they will get a FREE book! (For children birth to 12 years).  Email to register: potpublib@pottsvillelibrary.org
URL:https://www.pottsvillelibrary.org/event/cozy-time-storytime/
LOCATION:Pottsville Library\, 215 W Market St\, Pottsville\, 17901\, United States
ATTACH;FMTTYPE=image/jpeg:https://www.pottsvillelibrary.org/wp-content/uploads/2024/01/Cozy-Time-Storytime.jpg
ORGANIZER;CN="PFPL":MAILTO:potpublib@pottsvillelibrary.org
END:VEVENT
BEGIN:VEVENT
DTSTART;TZID=UTC:20240129T090000
DTEND;TZID=UTC:20240129T190000
DTSTAMP:20260425T221024
CREATED:20240117T142002Z
LAST-MODIFIED:20240117T142002Z
UID:1713-1706518800-1706554800@www.pottsvillelibrary.org
SUMMARY:National Puzzle Day
DESCRIPTION:Visit the Library on Monday\, January 29th to celebrate National Puzzle Day! We will have puzzles for all ages available to work on. Work alone or bring the whole family! Puzzles will be available all day.
URL:https://www.pottsvillelibrary.org/event/national-puzzle-day/
LOCATION:Pottsville Library\, 215 W Market St\, Pottsville\, 17901\, United States
ATTACH;FMTTYPE=image/jpeg:https://www.pottsvillelibrary.org/wp-content/uploads/2024/01/National-Puzzle-Day-2024.jpg
ORGANIZER;CN="PFPL":MAILTO:potpublib@pottsvillelibrary.org
END:VEVENT
BEGIN:VEVENT
DTSTART;TZID=UTC:20240102T120000
DTEND;TZID=UTC:20240102T140000
DTSTAMP:20260425T221024
CREATED:20231214T172635Z
LAST-MODIFIED:20231214T172635Z
UID:1675-1704196800-1704204000@www.pottsvillelibrary.org
SUMMARY:Used Book Sale
DESCRIPTION:Visit our monthly used book sale in the basement of the Library from 12-2 on Tuesday\, January 2nd\, 2024. Thank you to the Friends of the Pottsville Free Public Library for hosting our used book sales!
URL:https://www.pottsvillelibrary.org/event/used-book-sale/
LOCATION:Pottsville Library\, 215 W Market St\, Pottsville\, 17901\, United States
ATTACH;FMTTYPE=image/png:https://www.pottsvillelibrary.org/wp-content/uploads/2023/11/Book_Sale_Website_Banner.png
ORGANIZER;CN="PFPL":MAILTO:potpublib@pottsvillelibrary.org
END:VEVENT
BEGIN:VEVENT
DTSTART;TZID=UTC:20231219T173000
DTEND;TZID=UTC:20231219T183000
DTSTAMP:20260425T221024
CREATED:20231102T205004Z
LAST-MODIFIED:20231102T205004Z
UID:1612-1703007000-1703010600@www.pottsvillelibrary.org
SUMMARY:Christmas Party
DESCRIPTION:Bring the kids to celebrate with Santa at our yearly Christmas Party! There will be crafts & treats & of course an opportunity to talk to Santa! Please register by calling 570-622-8880 ext 10\, or emailing potpublib@pottsvillelibrary.org. Party will be Tuesday\, December 19th at 5:30. Please register by December 5th.
URL:https://www.pottsvillelibrary.org/event/christmas-party/
LOCATION:Pottsville Library\, 215 W Market St\, Pottsville\, 17901\, United States
ATTACH;FMTTYPE=image/jpeg:https://www.pottsvillelibrary.org/wp-content/uploads/2023/11/Christmas-party-2023-scaled.jpg
ORGANIZER;CN="PFPL":MAILTO:potpublib@pottsvillelibrary.org
END:VEVENT
BEGIN:VEVENT
DTSTART;TZID=UTC:20231213T180000
DTEND;TZID=UTC:20231213T200000
DTSTAMP:20260425T221024
CREATED:20231110T204831Z
LAST-MODIFIED:20231110T204831Z
UID:1645-1702490400-1702497600@www.pottsvillelibrary.org
SUMMARY:No Wrong Way to Boilo! with Coal Country Boilo
DESCRIPTION:Join us for an evening of flavor as we make a delicious batch of Coal Country Boilo and discuss all the amazing potential held within this traditional coal region brew. Learn tips\, tricks and boilo techniques while hearning all of the wellness benefits hidden within its ingredients. We’ll even throw in a big dash of fun as we create a delicious batch of Coal Country Boilo for you to take along and enjoy at home. \nThis is BYOB \nBring your own container\, a pint jar will do just fine\, with 4oz (approximately 1/2 cup) of your favorite Spirit to add to our special batch. A list of my personal favorites can be found below for those looking for recommendations.Tickets are required and are $30 which includes your entry for the evening\, demonstration\, informational discussion and a take home batch we will make that evening for you to add to your favorite spirit. \nYou’ll also receive a package of Coal Country Boilo\, which makes 3 more batches\, for you to take home and enjoy throughout the season. \nCoal Country Boilos Top Picks:•Traditional Four Queens or any of your favorite whiskeys• Brandy\, bourbon or moonshine• Flavored options such as Fireball or Cinnamon liquors\, Carmel Apple\, Whipped Cream\, Vanilla… get creative! \nWednesday\, December 13th\, 6-8pm\, $30 per person. Preregistration is required.
URL:https://www.pottsvillelibrary.org/event/no-wrong-way-to-boilo-with-coal-country-boilo/
LOCATION:Pottsville Library\, 215 W Market St\, Pottsville\, 17901\, United States
ATTACH;FMTTYPE=image/jpeg:https://www.pottsvillelibrary.org/wp-content/uploads/2023/11/No-Wrong-Way-to-Boilo-Flyer.jpg
ORGANIZER;CN="PFPL":MAILTO:potpublib@pottsvillelibrary.org
END:VEVENT
BEGIN:VEVENT
DTSTART;TZID=UTC:20231212T173000
DTEND;TZID=UTC:20231212T190000
DTSTAMP:20260425T221024
CREATED:20230913T135220Z
LAST-MODIFIED:20230913T135941Z
UID:1531-1702402200-1702407600@www.pottsvillelibrary.org
SUMMARY:Santa's Workshop: Stuffie Building Workshop
DESCRIPTION:We need elves for Santa’s Workshop! Each child will be an elf on the assembly line creating their own holiday stuffie! We have 6 choices of holiday friends (designs are first come\, first served) who need a home for Christmas! We will have a special guest for this event–SANTA! \nPrepaid registration is required for this event–book fast\, as it will likely sell out! Event will be Tuesday\, December 12th @ 5:30.  $25 per stuffie kit. 
URL:https://www.pottsvillelibrary.org/event/1531/
LOCATION:Pottsville Library\, 215 W Market St\, Pottsville\, 17901\, United States
ATTACH;FMTTYPE=image/jpeg:https://www.pottsvillelibrary.org/wp-content/uploads/2023/09/Santas-Workshop-Flyer.jpg
ORGANIZER;CN="PFPL":MAILTO:potpublib@pottsvillelibrary.org
END:VEVENT
BEGIN:VEVENT
DTSTART;TZID=UTC:20231206T173000
DTEND;TZID=UTC:20231206T190000
DTSTAMP:20260425T221024
CREATED:20231023T185049Z
LAST-MODIFIED:20231023T185049Z
UID:1594-1701883800-1701889200@www.pottsvillelibrary.org
SUMMARY:Holiday House DIY
DESCRIPTION:Join us for a night out to create your own Holiday House decoration! We will be transforming plastic dollhouses into gingerbread houses\, candy land\, or whatever holiday theme you’d like! Your imagination is the limit! We will supply paints\, embellishments & the houses–but feel free to bring along anything special you’d like to add to your house! \nPrepaid registration is required by December 1st.  $25 per person. Register by calling the Circulation Desk or via our Facebook event page.
URL:https://www.pottsvillelibrary.org/event/holiday-house-diy/
LOCATION:Pottsville Library\, 215 W Market St\, Pottsville\, 17901\, United States
ATTACH;FMTTYPE=image/jpeg:https://www.pottsvillelibrary.org/wp-content/uploads/2023/10/Holiday-House-Flyer.jpg
ORGANIZER;CN="PFPL":MAILTO:potpublib@pottsvillelibrary.org
END:VEVENT
BEGIN:VEVENT
DTSTART;TZID=UTC:20231204T120000
DTEND;TZID=UTC:20231204T140000
DTSTAMP:20260425T221024
CREATED:20231103T140251Z
LAST-MODIFIED:20231103T140251Z
UID:1620-1701691200-1701698400@www.pottsvillelibrary.org
SUMMARY:Friends of the Library Used Book Sale
DESCRIPTION:Join us every first Monday of the month from 12-2 for our used book sale! This is held in the basement of the Library.
URL:https://www.pottsvillelibrary.org/event/friends-of-the-library-used-book-sale-3/
LOCATION:Library – Basement\, 215 W. Market St.\, Pottsville\, PA\, 17901\, United States
ATTACH;FMTTYPE=image/png:https://www.pottsvillelibrary.org/wp-content/uploads/2023/11/Book_Sale_Website_Banner.png
ORGANIZER;CN="PFPL":MAILTO:potpublib@pottsvillelibrary.org
END:VEVENT
BEGIN:VEVENT
DTSTART;TZID=UTC:20231128T090000
DTEND;TZID=UTC:20231128T190000
DTSTAMP:20260425T221024
CREATED:20231018T203125Z
LAST-MODIFIED:20231018T203125Z
UID:1585-1701162000-1701198000@www.pottsvillelibrary.org
SUMMARY:Pet Food Pantry: Giving Tuesday
DESCRIPTION:Now seeking donations for our Giving Tuesday event! This year we will be helping our pet parents provide for their furry friends. Donate new/sealed dry or wet pet food or new/sealed pet toys–they will be distributed to the community for free for anyone in need on Tuesday\, November 28th from 9am to 7pm.  No income requirements or ID needed–this is for everyone in the community. \nPlease bring donations to the front circulation desk. 
URL:https://www.pottsvillelibrary.org/event/pet-food-pantry-giving-tuesday/
LOCATION:Pottsville Library\, 215 W Market St\, Pottsville\, 17901\, United States
ATTACH;FMTTYPE=image/jpeg:https://www.pottsvillelibrary.org/wp-content/uploads/2023/10/Pet-Food-Pantry-Flyer.jpg
ORGANIZER;CN="PFPL":MAILTO:potpublib@pottsvillelibrary.org
END:VEVENT
BEGIN:VEVENT
DTSTART;TZID=UTC:20231125T110000
DTEND;TZID=UTC:20231125T150000
DTSTAMP:20260425T221024
CREATED:20231107T145911Z
LAST-MODIFIED:20231107T145911Z
UID:1623-1700910000-1700924400@www.pottsvillelibrary.org
SUMMARY:Friends of the Library Used Book Sale
DESCRIPTION:Stop by for the Friends of the Library’s special Saturday Used Book Sale during our Small Business Saturday celebration! The Library will have vendors\, food & our amazing book sale! Don’t miss it!
URL:https://www.pottsvillelibrary.org/event/friends-of-the-library-used-book-sale-4/
LOCATION:Library – Basement\, 215 W. Market St.\, Pottsville\, PA\, 17901\, United States
ATTACH;FMTTYPE=image/png:https://www.pottsvillelibrary.org/wp-content/uploads/2023/11/Book_Sale_Website_Banner.png
ORGANIZER;CN="PFPL":MAILTO:potpublib@pottsvillelibrary.org
END:VEVENT
BEGIN:VEVENT
DTSTART;TZID=UTC:20231125T110000
DTEND;TZID=UTC:20231125T150000
DTSTAMP:20260425T221024
CREATED:20230524T200801Z
LAST-MODIFIED:20230524T200801Z
UID:1313-1700910000-1700924400@www.pottsvillelibrary.org
SUMMARY:Small Business Saturday
DESCRIPTION:Calling all artists\, authors\, bakers\, crafters & direct sales consultants! We love to celebrate small business owners here at the Pottsville Library\, so join us for a day of one stop shopping throughout the library building! Event will be Saturday\, November 25th from 11-3.  Vendors should contact ginab@pottsvillelibrary.org for vending information.  Vendor fee is $20. 
URL:https://www.pottsvillelibrary.org/event/small-business-saturday-2/
LOCATION:Pottsville Library\, 215 W Market St\, Pottsville\, 17901\, United States
ATTACH;FMTTYPE=image/jpeg:https://www.pottsvillelibrary.org/wp-content/uploads/2023/05/Small-Business-Saturday-2023-Flyer.jpg
ORGANIZER;CN="PFPL":MAILTO:potpublib@pottsvillelibrary.org
END:VEVENT
BEGIN:VEVENT
DTSTART;TZID=UTC:20231121T180000
DTEND;TZID=UTC:20231121T190000
DTSTAMP:20260425T221024
CREATED:20231107T190751Z
LAST-MODIFIED:20231107T190751Z
UID:1633-1700589600-1700593200@www.pottsvillelibrary.org
SUMMARY:Mental Magic and Mind Reading with JB
DESCRIPTION:Be mystified by clairvoyance & premonition on Tuesday\, November 21st\, at 6PM with our special program by JB–Mental Magic and Mind Reading! This program is recommended for teens and adult audiences.
URL:https://www.pottsvillelibrary.org/event/mental-magic-and-mind-reading-with-jb/
LOCATION:Pottsville Library\, 215 W Market St\, Pottsville\, 17901\, United States
ATTACH;FMTTYPE=image/jpeg:https://www.pottsvillelibrary.org/wp-content/uploads/2023/11/Mental-magic-with-jb-scaled.jpeg
ORGANIZER;CN="PFPL":MAILTO:potpublib@pottsvillelibrary.org
END:VEVENT
BEGIN:VEVENT
DTSTART;TZID=UTC:20231116T173000
DTEND;TZID=UTC:20231116T190000
DTSTAMP:20260425T221024
CREATED:20231102T160336Z
LAST-MODIFIED:20231102T160336Z
UID:1607-1700155800-1700161200@www.pottsvillelibrary.org
SUMMARY:Bristle Bot Workshop
DESCRIPTION:Join us Thursday\, November 16th at 5:30pm for a Bristle Bot Workshop! \nThis event is a great introduction to robotics! Have fun while learning the effects of electricity and transferred energy. \nThe program includes a Bristle Bot kit with materials to customize. Build your own and race other participants in a block maze. \nDeadline to register is November 13th. Call 570-622-8880 ext. 10 to register\, or email potpublib@pottsvillelibrary.org.
URL:https://www.pottsvillelibrary.org/event/bristle-bot-workshop/
LOCATION:Pottsville Library\, 215 W Market St\, Pottsville\, 17901\, United States
ATTACH;FMTTYPE=image/jpeg:https://www.pottsvillelibrary.org/wp-content/uploads/2023/11/Bristle-Bot-Poster.jpg
ORGANIZER;CN="PFPL":MAILTO:potpublib@pottsvillelibrary.org
END:VEVENT
BEGIN:VEVENT
DTSTART;TZID=UTC:20231111T130000
DTEND;TZID=UTC:20231111T150000
DTSTAMP:20260425T221024
CREATED:20231018T201605Z
LAST-MODIFIED:20231018T201605Z
UID:1577-1699707600-1699714800@www.pottsvillelibrary.org
SUMMARY:Video Game Tournament
DESCRIPTION:Join us for a challenge on Saturday\, November 11th for a video game tournament! Individuals and families are welcome! Tournament starts at 1:00PM. Register by emailing potpublib@pottsvillelibrary.org
URL:https://www.pottsvillelibrary.org/event/video-game-tournament/
LOCATION:Pottsville Library\, 215 W Market St\, Pottsville\, 17901\, United States
ATTACH;FMTTYPE=image/jpeg:https://www.pottsvillelibrary.org/wp-content/uploads/2023/10/Video-game-tournament-2023.jpg
ORGANIZER;CN="PFPL":MAILTO:potpublib@pottsvillelibrary.org
END:VEVENT
BEGIN:VEVENT
DTSTART;TZID=UTC:20231106T120000
DTEND;TZID=UTC:20231106T140000
DTSTAMP:20260425T221024
CREATED:20231103T131537Z
LAST-MODIFIED:20231103T131537Z
UID:1616-1699272000-1699279200@www.pottsvillelibrary.org
SUMMARY:Friends of the Library Used Book Sale
DESCRIPTION:Join us every first Monday of the month from 12-2 for our used book sale! This is held in the basement of the Library.
URL:https://www.pottsvillelibrary.org/event/friends-of-the-library-used-book-sale-2/
LOCATION:Pottsville Library\, 215 W Market St\, Pottsville\, 17901\, United States
ATTACH;FMTTYPE=image/png:https://www.pottsvillelibrary.org/wp-content/uploads/2023/11/Book_Sale_Website_Banner.png
ORGANIZER;CN="PFPL":MAILTO:potpublib@pottsvillelibrary.org
END:VEVENT
BEGIN:VEVENT
DTSTART;TZID=UTC:20231104T183000
DTEND;TZID=UTC:20231104T210000
DTSTAMP:20260425T221024
CREATED:20230419T155222Z
LAST-MODIFIED:20230419T155222Z
UID:1240-1699122600-1699131600@www.pottsvillelibrary.org
SUMMARY:Murder Ahoy: A Comedy Murder Mystery Dinner Theatre
DESCRIPTION:Saturday\, November 4th\, J&L Productions presents Murder Ahoy: A Comedy Murder Mystery Dinner Theatre! \nIncluded in your ticket price is a buffet dinner catered by Beauregard Catering\, beverages\, and the interactive murder mystery show! \nEvents start at 7pm. Doors open at 6:30 pm.  Registration is required & tickets will not be sold at the door.  Pre-paid tickets must be purchased by October 27th. \nTickets are $40 per person\, or $75 per couple. \nCall for tickets\, or purchase online via our Facebook event page. 570-622-8880.
URL:https://www.pottsvillelibrary.org/event/murder-ahoy-a-comedy-murder-mystery-dinner-theatre/
LOCATION:Pottsville Library\, 215 W Market St\, Pottsville\, 17901\, United States
ATTACH;FMTTYPE=image/jpeg:https://www.pottsvillelibrary.org/wp-content/uploads/2023/04/Murder-Ahoy-Flyer.jpg
ORGANIZER;CN="PFPL":MAILTO:potpublib@pottsvillelibrary.org
END:VEVENT
END:VCALENDAR