BEGIN:VCALENDAR
VERSION:2.0
PRODID:-//Pottsville Free Public Library - ECPv6.15.13//NONSGML v1.0//EN
CALSCALE:GREGORIAN
METHOD:PUBLISH
X-WR-CALNAME:Pottsville Free Public Library
X-ORIGINAL-URL:https://www.pottsvillelibrary.org
X-WR-CALDESC:Events for Pottsville Free Public Library
REFRESH-INTERVAL;VALUE=DURATION:PT1H
X-Robots-Tag:noindex
X-PUBLISHED-TTL:PT1H
BEGIN:VTIMEZONE
TZID:UTC
BEGIN:STANDARD
TZOFFSETFROM:+0000
TZOFFSETTO:+0000
TZNAME:UTC
DTSTART:20240101T000000
END:STANDARD
END:VTIMEZONE
BEGIN:VEVENT
DTSTART;TZID=UTC:20250813T170000
DTEND;TZID=UTC:20250813T190000
DTSTAMP:20260425T132526
CREATED:20250515T182238Z
LAST-MODIFIED:20250515T182238Z
UID:3530-1755104400-1755111600@www.pottsvillelibrary.org
SUMMARY:Kitchen Kittens Puzzle Race
DESCRIPTION:Do you love puzzles? Think you are the fastest around? Test your puzzle skills at our Kitchen Kittens Puzzle Race! Race will start at 5pm on Wednesday\, August 13th. $5 entry fee per team of up to 4 people. Winning team will be awarded a prize!
URL:https://www.pottsvillelibrary.org/event/kitchen-kittens-puzzle-race/
LOCATION:Pottsville Library\, 215 W Market St\, Pottsville\, 17901\, United States
ATTACH;FMTTYPE=image/jpeg:https://www.pottsvillelibrary.org/wp-content/uploads/2025/05/Kitchen-Kittens-Puzzle-Race.jpg
ORGANIZER;CN="PFPL":MAILTO:potpublib@pottsvillelibrary.org
END:VEVENT
BEGIN:VEVENT
DTSTART;TZID=UTC:20250812T170000
DTEND;TZID=UTC:20250812T190000
DTSTAMP:20260425T132526
CREATED:20250422T160947Z
LAST-MODIFIED:20250422T160947Z
UID:3343-1755018000-1755025200@www.pottsvillelibrary.org
SUMMARY:Fairytale Friends: Stuffie Building Workshop
DESCRIPTION:Join us for a night of fairytale fun as we create our own mermaids\, unicorns & dragons! Kids (and adults) can pick their own stuffie to stuff and love! They come with all of the stuffing\, a wishing star\, a birth certificate and a tote bag.  Each stuffie kit is $25. Prepaid registration is due by August 1st. Designs are 1st come\, 1st served. Event is Tuesday\, August 12th at 5:00 PM.
URL:https://www.pottsvillelibrary.org/event/fairytale-friends-stuffie-building-workshop/
LOCATION:Pottsville Library\, 215 W Market St\, Pottsville\, 17901\, United States
ATTACH;FMTTYPE=image/jpeg:https://www.pottsvillelibrary.org/wp-content/uploads/2025/04/Fairytale-Friends-Flyer.jpg
ORGANIZER;CN="PFPL":MAILTO:potpublib@pottsvillelibrary.org
END:VEVENT
BEGIN:VEVENT
DTSTART;TZID=UTC:20250809T090000
DTEND;TZID=UTC:20250809T120000
DTSTAMP:20260425T132526
CREATED:20250611T183311Z
LAST-MODIFIED:20250611T183311Z
UID:3593-1754730000-1754740800@www.pottsvillelibrary.org
SUMMARY:Open Arcade
DESCRIPTION:The Pottsville Free Public Library is opening up our arcade-style games like foosball\, billiards and a basketball shoot to everyone one day a week. No quarters required! Join us in the Library’s basement on Saturday mornings from 9 AM-12 PM. All ages and families are welcome (kids 8 and under need to have their parent or guardian with them).
URL:https://www.pottsvillelibrary.org/event/open-arcade-20/
LOCATION:Pottsville Library\, 215 W Market St\, Pottsville\, 17901\, United States
ATTACH;FMTTYPE=image/webp:https://www.pottsvillelibrary.org/wp-content/uploads/2025/06/School-Year-Open-Arcade-Sign.webp
ORGANIZER;CN="PFPL":MAILTO:potpublib@pottsvillelibrary.org
END:VEVENT
BEGIN:VEVENT
DTSTART;TZID=UTC:20250808T110000
DTEND;TZID=UTC:20250808T150000
DTSTAMP:20260425T132526
CREATED:20250514T163523Z
LAST-MODIFIED:20250514T163523Z
UID:3509-1754650800-1754665200@www.pottsvillelibrary.org
SUMMARY:Funday Friday
DESCRIPTION:Join us for a fun filled day using our outdoor toys & games from our Things Library\, and enjoy refreshments of juice and ice cream provided by the Friends of the Pottsville Library. Funday Friday will be held from 11-3. Games will be on the inside of the Library\, and on the Market Street pavement (weather permitting).  Funday Friday is free for all to attend.
URL:https://www.pottsvillelibrary.org/event/funday-friday-5/
LOCATION:Pottsville Library\, 215 W Market St\, Pottsville\, 17901\, United States
ATTACH;FMTTYPE=image/jpeg:https://www.pottsvillelibrary.org/wp-content/uploads/2025/05/Funday-Open-House-Flyer-Pic.jpg
ORGANIZER;CN="PFPL":MAILTO:potpublib@pottsvillelibrary.org
END:VEVENT
BEGIN:VEVENT
DTSTART;TZID=UTC:20250807T103000
DTEND;TZID=UTC:20250807T120000
DTSTAMP:20260425T132526
CREATED:20250424T222641Z
LAST-MODIFIED:20250424T222641Z
UID:3474-1754562600-1754568000@www.pottsvillelibrary.org
SUMMARY:Teen Summer Reading Crew
DESCRIPTION:Join us for the Teens Summer Reading Crew for ages 12-18 happening every Thursday from June 19th until August 7th\, 10:30 am until noon. Different activities and crafts every week on the theme of color our world. To register email potchild@pottsvillelibrary.org\, call 570-622-8880 ext. 12 or come to the library and tell us you plan on coming.
URL:https://www.pottsvillelibrary.org/event/teen-summer-reading-crew-8/
LOCATION:Pottsville Library\, 215 W Market St\, Pottsville\, 17901\, United States
ATTACH;FMTTYPE=image/webp:https://www.pottsvillelibrary.org/wp-content/uploads/2025/04/Teen_Summer_Reading_Crew_2025_flier.webp
ORGANIZER;CN="PFPL":MAILTO:potpublib@pottsvillelibrary.org
END:VEVENT
BEGIN:VEVENT
DTSTART;TZID=UTC:20250806T080000
DTEND;TZID=UTC:20250806T170000
DTSTAMP:20260425T132526
CREATED:20250424T220609Z
LAST-MODIFIED:20250424T220609Z
UID:3449-1754467200-1754499600@www.pottsvillelibrary.org
SUMMARY:Kids Summer Reading Club
DESCRIPTION:Join us for the Kids Summer Reading Club for ages 6-12 happening every Wednesday from June 18th until August 6th\, 10:30 am until noon. Different activities and crafts every week on the theme of color our world. To register email potchild@pottsvillelibrary.org\, call 570-622-8880 ext. 12 or come to the library and tell us you plan on coming.
URL:https://www.pottsvillelibrary.org/event/kids-summer-reading-club-8/
LOCATION:Pottsville Library\, 215 W Market St\, Pottsville\, 17901\, United States
ATTACH;FMTTYPE=image/webp:https://www.pottsvillelibrary.org/wp-content/uploads/2025/04/Kids_Summer_Reading_Club_2025_flier.webp
ORGANIZER;CN="PFPL":MAILTO:potpublib@pottsvillelibrary.org
END:VEVENT
BEGIN:VEVENT
DTSTART;TZID=UTC:20250805T173000
DTEND;TZID=UTC:20250805T190000
DTSTAMP:20260425T132526
CREATED:20250515T180133Z
LAST-MODIFIED:20250515T180133Z
UID:3527-1754415000-1754420400@www.pottsvillelibrary.org
SUMMARY:Techniques in Printmaking Family Night
DESCRIPTION:Join the Pottsville Free Public Library and Block of Art to explore stamping and printing on paper. A night of crafting and learning\, variations on printmaking accessible to all ages. To register email potchild@pottsvillelibrary.org\, call 570-622-8880 ext. 12 or come to the library and tell us you plan on coming.
URL:https://www.pottsvillelibrary.org/event/techniques-in-printmaking-family-night/
LOCATION:Pottsville Library\, 215 W Market St\, Pottsville\, 17901\, United States
ATTACH;FMTTYPE=image/webp:https://www.pottsvillelibrary.org/wp-content/uploads/2025/05/Block-of-Art.webp
ORGANIZER;CN="PFPL":MAILTO:potpublib@pottsvillelibrary.org
END:VEVENT
BEGIN:VEVENT
DTSTART;TZID=UTC:20250804T163000
DTEND;TZID=UTC:20250804T190000
DTSTAMP:20260425T132526
CREATED:20250709T202945Z
LAST-MODIFIED:20250709T202945Z
UID:3739-1754325000-1754334000@www.pottsvillelibrary.org
SUMMARY:Magic the Gathering Night
DESCRIPTION:Come join us at the Pottsville Free Public Library for our monthly Magic the Gathering Night on Monday August 4th at 4:30 pm where we will be playing in the commander format. Don’t know very much about Magic the Gathering but want to learn a little more\, come in and we’ll take the time to introduce you to the rules and cards\, which can then be used to play. To register email potchild@pottsvillelibrary.org\, call 570-622-8880 ext. 12 or come and tell us in person. Recommended for ages 11 and up
URL:https://www.pottsvillelibrary.org/event/magic-the-gathering-night-2/
LOCATION:Pottsville Library\, 215 W Market St\, Pottsville\, 17901\, United States
ATTACH;FMTTYPE=image/webp:https://www.pottsvillelibrary.org/wp-content/uploads/2025/07/Magic_The_Gathering_Monthly_08-04.webp
ORGANIZER;CN="PFPL":MAILTO:potpublib@pottsvillelibrary.org
END:VEVENT
BEGIN:VEVENT
DTSTART;TZID=UTC:20250804T120000
DTEND;TZID=UTC:20250804T140000
DTSTAMP:20260425T132526
CREATED:20241203T145906Z
LAST-MODIFIED:20241203T145906Z
UID:2709-1754308800-1754316000@www.pottsvillelibrary.org
SUMMARY:Used Book Sale
DESCRIPTION:Visit our monthly used book sale in the basement of the Library from 12-2 on on the 1st Monday of each month. Thank you to the Friends of the Pottsville Free Public Library for hosting our used book sales!
URL:https://www.pottsvillelibrary.org/event/used-book-sale-21/
LOCATION:Library – Basement\, 215 W. Market St.\, Pottsville\, PA\, 17901\, United States
ATTACH;FMTTYPE=image/png:https://www.pottsvillelibrary.org/wp-content/uploads/2024/12/Book-Sale.png
ORGANIZER;CN="PFPL":MAILTO:potpublib@pottsvillelibrary.org
END:VEVENT
BEGIN:VEVENT
DTSTART;TZID=UTC:20250804T103000
DTEND;TZID=UTC:20250804T113000
DTSTAMP:20260425T132526
CREATED:20250422T182439Z
LAST-MODIFIED:20250422T182439Z
UID:3370-1754303400-1754307000@www.pottsvillelibrary.org
SUMMARY:Summer Storytime
DESCRIPTION:Join us for a story\, songs and a craft for our Summer Storytimes on Mondays at 10:30 am running from June 16th until August 4th. Recommended for ages 1-5\, older and younger siblings are always welcome. Register by emailing potchild@pottsvillelibrary.org\, calling 570-622-8880 ext. 12 or coming in and telling us in person.
URL:https://www.pottsvillelibrary.org/event/summer-storytime-8/
LOCATION:Pottsville Library\, 215 W Market St\, Pottsville\, 17901\, United States
ATTACH;FMTTYPE=image/webp:https://www.pottsvillelibrary.org/wp-content/uploads/2025/04/Summer_Storytime2025.webp
ORGANIZER;CN="PFPL":MAILTO:potpublib@pottsvillelibrary.org
END:VEVENT
BEGIN:VEVENT
DTSTART;TZID=UTC:20250802T090000
DTEND;TZID=UTC:20250802T120000
DTSTAMP:20260425T132526
CREATED:20250611T183204Z
LAST-MODIFIED:20250611T183204Z
UID:3590-1754125200-1754136000@www.pottsvillelibrary.org
SUMMARY:Open Arcade
DESCRIPTION:The Pottsville Free Public Library is opening up our arcade-style games like foosball\, billiards and a basketball shoot to everyone one day a week. No quarters required! Join us in the Library’s basement on Saturday mornings from 9 AM-12 PM. All ages and families are welcome (kids 8 and under need to have their parent or guardian with them).
URL:https://www.pottsvillelibrary.org/event/open-arcade-19/
LOCATION:Pottsville Library\, 215 W Market St\, Pottsville\, 17901\, United States
ATTACH;FMTTYPE=image/webp:https://www.pottsvillelibrary.org/wp-content/uploads/2025/06/School-Year-Open-Arcade-Sign.webp
ORGANIZER;CN="PFPL":MAILTO:potpublib@pottsvillelibrary.org
END:VEVENT
BEGIN:VEVENT
DTSTART;TZID=UTC:20250801T110000
DTEND;TZID=UTC:20250801T150000
DTSTAMP:20260425T132526
CREATED:20250514T163435Z
LAST-MODIFIED:20250514T163435Z
UID:3505-1754046000-1754060400@www.pottsvillelibrary.org
SUMMARY:Funday Friday
DESCRIPTION:Join us for a fun filled day using our outdoor toys & games from our Things Library\, and enjoy refreshments of juice and ice cream provided by the Friends of the Pottsville Library. Funday Friday will be held from 11-3. Games will be on the inside of the Library\, and on the Market Street pavement (weather permitting).  Funday Friday is free for all to attend.
URL:https://www.pottsvillelibrary.org/event/funday-friday-4/
LOCATION:Pottsville Library\, 215 W Market St\, Pottsville\, 17901\, United States
ATTACH;FMTTYPE=image/jpeg:https://www.pottsvillelibrary.org/wp-content/uploads/2025/05/Funday-Open-House-Flyer-Pic.jpg
ORGANIZER;CN="PFPL":MAILTO:potpublib@pottsvillelibrary.org
END:VEVENT
BEGIN:VEVENT
DTSTART;TZID=UTC:20250731T103000
DTEND;TZID=UTC:20250731T120000
DTSTAMP:20260425T132526
CREATED:20250424T222510Z
LAST-MODIFIED:20250424T222510Z
UID:3471-1753957800-1753963200@www.pottsvillelibrary.org
SUMMARY:Teen Summer Reading Crew
DESCRIPTION:Join us for the Teens Summer Reading Crew for ages 12-18 happening every Thursday from June 19th until August 7th\, 10:30 am until noon. Different activities and crafts every week on the theme of color our world. To register email potchild@pottsvillelibrary.org\, call 570-622-8880 ext. 12 or come to the library and tell us you plan on coming.
URL:https://www.pottsvillelibrary.org/event/teen-summer-reading-crew-7/
LOCATION:Pottsville Library\, 215 W Market St\, Pottsville\, 17901\, United States
ATTACH;FMTTYPE=image/webp:https://www.pottsvillelibrary.org/wp-content/uploads/2025/04/Teen_Summer_Reading_Crew_2025_flier.webp
ORGANIZER;CN="PFPL":MAILTO:potpublib@pottsvillelibrary.org
END:VEVENT
BEGIN:VEVENT
DTSTART;TZID=UTC:20250730T103000
DTEND;TZID=UTC:20250730T120000
DTSTAMP:20260425T132526
CREATED:20250424T220525Z
LAST-MODIFIED:20250424T220525Z
UID:3446-1753871400-1753876800@www.pottsvillelibrary.org
SUMMARY:Kids Summer Reading Club
DESCRIPTION:Join us for the Kids Summer Reading Club for ages 6-12 happening every Wednesday from June 18th until August 6th\, 10:30 am until noon. Different activities and crafts every week on the theme of color our world. To register email potchild@pottsvillelibrary.org\, call 570-622-8880 ext. 12 or come to the library and tell us you plan on coming.
URL:https://www.pottsvillelibrary.org/event/kids-summer-reading-club-7/
LOCATION:Pottsville Library\, 215 W Market St\, Pottsville\, 17901\, United States
ATTACH;FMTTYPE=image/webp:https://www.pottsvillelibrary.org/wp-content/uploads/2025/04/Kids_Summer_Reading_Club_2025_flier.webp
ORGANIZER;CN="PFPL":MAILTO:potpublib@pottsvillelibrary.org
END:VEVENT
BEGIN:VEVENT
DTSTART;TZID=UTC:20250729T173000
DTEND;TZID=UTC:20250729T190000
DTSTAMP:20260425T132526
CREATED:20250424T215319Z
LAST-MODIFIED:20250424T215319Z
UID:3423-1753810200-1753815600@www.pottsvillelibrary.org
SUMMARY:Mr. Mike the Dinosaur Guy
DESCRIPTION:Come to the Pottsville Free Public Library as we are joined by Mr. Mike the Dinosaur Guy for a program celebrating Dinosaurs. Email potchild@pottsvillelibrary.org\, call 570-622-8880 ext. 12 or come to the library and tell us you plan on coming.
URL:https://www.pottsvillelibrary.org/event/mr-mike-the-dinosaur-guy/
LOCATION:Pottsville Library\, 215 W Market St\, Pottsville\, 17901\, United States
ATTACH;FMTTYPE=image/webp:https://www.pottsvillelibrary.org/wp-content/uploads/2025/04/mr-Mike-the-dino-guy.webp
ORGANIZER;CN="PFPL":MAILTO:potpublib@pottsvillelibrary.org
END:VEVENT
BEGIN:VEVENT
DTSTART;TZID=UTC:20250728T103000
DTEND;TZID=UTC:20250728T113000
DTSTAMP:20260425T132526
CREATED:20250422T182336Z
LAST-MODIFIED:20250422T182336Z
UID:3367-1753698600-1753702200@www.pottsvillelibrary.org
SUMMARY:Summer Storytime
DESCRIPTION:Join us for a story\, songs and a craft for our Summer Storytimes on Mondays at 10:30 am running from June 16th until August 4th. Recommended for ages 1-5\, older and younger siblings are always welcome. Register by emailing potchild@pottsvillelibrary.org\, calling 570-622-8880 ext. 12 or coming in and telling us in person.
URL:https://www.pottsvillelibrary.org/event/summer-storytime-7/
LOCATION:Pottsville Library\, 215 W Market St\, Pottsville\, 17901\, United States
ATTACH;FMTTYPE=image/webp:https://www.pottsvillelibrary.org/wp-content/uploads/2025/04/Summer_Storytime2025.webp
ORGANIZER;CN="PFPL":MAILTO:potpublib@pottsvillelibrary.org
END:VEVENT
BEGIN:VEVENT
DTSTART;TZID=UTC:20250726T090000
DTEND;TZID=UTC:20250726T120000
DTSTAMP:20260425T132526
CREATED:20250611T183045Z
LAST-MODIFIED:20250611T183045Z
UID:3587-1753520400-1753531200@www.pottsvillelibrary.org
SUMMARY:Open Arcade
DESCRIPTION:The Pottsville Free Public Library is opening up our arcade-style games like foosball\, billiards and a basketball shoot to everyone one day a week. No quarters required! Join us in the Library’s basement on Saturday mornings from 9 AM-12 PM. All ages and families are welcome (kids 8 and under need to have their parent or guardian with them).
URL:https://www.pottsvillelibrary.org/event/open-arcade-18/
LOCATION:Pottsville Library\, 215 W Market St\, Pottsville\, 17901\, United States
ATTACH;FMTTYPE=image/webp:https://www.pottsvillelibrary.org/wp-content/uploads/2025/06/School-Year-Open-Arcade-Sign.webp
ORGANIZER;CN="PFPL":MAILTO:potpublib@pottsvillelibrary.org
END:VEVENT
BEGIN:VEVENT
DTSTART;TZID=UTC:20250725T103000
DTEND;TZID=UTC:20250725T113000
DTSTAMP:20260425T132526
CREATED:20250611T181459Z
LAST-MODIFIED:20250611T181459Z
UID:3571-1753439400-1753443000@www.pottsvillelibrary.org
SUMMARY:Story Time with the Schuylkill County Dairy Princess
DESCRIPTION:Join us at the Library as the Schuylkill County Dairy Princess reads the book “Curious Clover” as well as dairy themed crafts after. Recommended for ages 1-7. To register please email potchild@pottsvillelibrary.org\, call 570-622-8880 ext. 12 or come to the library in person and tell us you plan on coming.
URL:https://www.pottsvillelibrary.org/event/story-time-with-the-schuylkill-county-dairy-princess/
LOCATION:Pottsville Library\, 215 W Market St\, Pottsville\, 17901\, United States
ATTACH;FMTTYPE=image/webp:https://www.pottsvillelibrary.org/wp-content/uploads/2025/06/dairy-princess-flyer.webp
ORGANIZER;CN="PFPL":MAILTO:potpublib@pottsvillelibrary.org
END:VEVENT
BEGIN:VEVENT
DTSTART;TZID=UTC:20250724T103000
DTEND;TZID=UTC:20250724T120000
DTSTAMP:20260425T132526
CREATED:20250424T222414Z
LAST-MODIFIED:20250424T222414Z
UID:3468-1753353000-1753358400@www.pottsvillelibrary.org
SUMMARY:Teen Summer Reading Crew
DESCRIPTION:Join us for the Teens Summer Reading Crew for ages 12-18 happening every Thursday from June 19th until August 7th\, 10:30 am until noon. Different activities and crafts every week on the theme of color our world. To register email potchild@pottsvillelibrary.org\, call 570-622-8880 ext. 12 or come to the library and tell us you plan on coming.
URL:https://www.pottsvillelibrary.org/event/teen-summer-reading-crew-6/
LOCATION:Pottsville Library\, 215 W Market St\, Pottsville\, 17901\, United States
ATTACH;FMTTYPE=image/webp:https://www.pottsvillelibrary.org/wp-content/uploads/2025/04/Teen_Summer_Reading_Crew_2025_flier.webp
ORGANIZER;CN="PFPL":MAILTO:potpublib@pottsvillelibrary.org
END:VEVENT
BEGIN:VEVENT
DTSTART;TZID=UTC:20250723T180000
DTEND;TZID=UTC:20250723T190000
DTSTAMP:20260425T132526
CREATED:20250712T183721Z
LAST-MODIFIED:20250712T183721Z
UID:3767-1753293600-1753297200@www.pottsvillelibrary.org
SUMMARY:Trinity Kids Night\, Christmas in July
DESCRIPTION:Come on down to the Pottsville Free Public Library on Wednesday July 23rd at 6 pm for a program with Trinity Lutheran Church for Christmas in July. A story time\, refreshments and craft. Recommended for ages 3-11.
URL:https://www.pottsvillelibrary.org/event/trinity-kids-night-christmas-in-july/
LOCATION:Pottsville Library\, 215 W Market St\, Pottsville\, 17901\, United States
ATTACH;FMTTYPE=image/webp:https://www.pottsvillelibrary.org/wp-content/uploads/2025/07/Lutheran-Christmas-in-July-1.webp
END:VEVENT
BEGIN:VEVENT
DTSTART;TZID=UTC:20250723T103000
DTEND;TZID=UTC:20250723T120000
DTSTAMP:20260425T132526
CREATED:20250424T220433Z
LAST-MODIFIED:20250424T220433Z
UID:3443-1753266600-1753272000@www.pottsvillelibrary.org
SUMMARY:Kids Summer Reading Club
DESCRIPTION:Join us for the Kids Summer Reading Club for ages 6-12 happening every Wednesday from June 18th until August 6th\, 10:30 am until noon. Different activities and crafts every week on the theme of color our world. To register email potchild@pottsvillelibrary.org\, call 570-622-8880 ext. 12 or come to the library and tell us you plan on coming.
URL:https://www.pottsvillelibrary.org/event/kids-summer-reading-club-6/
LOCATION:Pottsville Library\, 215 W Market St\, Pottsville\, 17901\, United States
ATTACH;FMTTYPE=image/webp:https://www.pottsvillelibrary.org/wp-content/uploads/2025/04/Kids_Summer_Reading_Club_2025_flier.webp
ORGANIZER;CN="PFPL":MAILTO:potpublib@pottsvillelibrary.org
END:VEVENT
BEGIN:VEVENT
DTSTART;TZID=UTC:20250722T173000
DTEND;TZID=UTC:20250722T190000
DTSTAMP:20260425T132526
CREATED:20250424T214953Z
LAST-MODIFIED:20250424T214953Z
UID:3420-1753205400-1753210800@www.pottsvillelibrary.org
SUMMARY:The Amazing Magi
DESCRIPTION:Come to the Pottsville Free Public Library as we are joined by the Amazing Magi for a spectacular magic show. To register email potchild@pottsvillelibrary.org\, call 570-622-8880 ext. 12 or come to the library and tell us you plan on coming.
URL:https://www.pottsvillelibrary.org/event/the-amazing-magi/
LOCATION:Pottsville Library\, 215 W Market St\, Pottsville\, 17901\, United States
ATTACH;FMTTYPE=image/webp:https://www.pottsvillelibrary.org/wp-content/uploads/2025/04/Amazing-Magi.webp
END:VEVENT
BEGIN:VEVENT
DTSTART;TZID=UTC:20250721T103000
DTEND;TZID=UTC:20250721T113000
DTSTAMP:20260425T132526
CREATED:20250422T182245Z
LAST-MODIFIED:20250422T182245Z
UID:3364-1753093800-1753097400@www.pottsvillelibrary.org
SUMMARY:Summer Storytime
DESCRIPTION:Join us for a story\, songs and a craft for our Summer Storytimes on Mondays at 10:30 am running from June 16th until August 4th. Recommended for ages 1-5\, older and younger siblings are always welcome. Register by emailing potchild@pottsvillelibrary.org\, calling 570-622-8880 ext. 12 or coming in and telling us in person.
URL:https://www.pottsvillelibrary.org/event/summer-storytime-6/
LOCATION:Pottsville Library\, 215 W Market St\, Pottsville\, 17901\, United States
ATTACH;FMTTYPE=image/webp:https://www.pottsvillelibrary.org/wp-content/uploads/2025/04/Summer_Storytime2025.webp
ORGANIZER;CN="PFPL":MAILTO:potpublib@pottsvillelibrary.org
END:VEVENT
BEGIN:VEVENT
DTSTART;TZID=UTC:20250719T090000
DTEND;TZID=UTC:20250719T120000
DTSTAMP:20260425T132526
CREATED:20250611T182947Z
LAST-MODIFIED:20250611T182947Z
UID:3584-1752915600-1752926400@www.pottsvillelibrary.org
SUMMARY:Open Arcade
DESCRIPTION:The Pottsville Free Public Library is opening up our arcade-style games like foosball\, billiards and a basketball shoot to everyone one day a week. No quarters required! Join us in the Library’s basement on Saturday mornings from 9 AM-12 PM. All ages and families are welcome (kids 8 and under need to have their parent or guardian with them).
URL:https://www.pottsvillelibrary.org/event/open-arcade-8/
LOCATION:Pottsville Library\, 215 W Market St\, Pottsville\, 17901\, United States
ATTACH;FMTTYPE=image/webp:https://www.pottsvillelibrary.org/wp-content/uploads/2025/06/School-Year-Open-Arcade-Sign.webp
ORGANIZER;CN="PFPL":MAILTO:potpublib@pottsvillelibrary.org
END:VEVENT
BEGIN:VEVENT
DTSTART;TZID=UTC:20250717T103000
DTEND;TZID=UTC:20250717T120000
DTSTAMP:20260425T132526
CREATED:20250424T222316Z
LAST-MODIFIED:20250424T222316Z
UID:3465-1752748200-1752753600@www.pottsvillelibrary.org
SUMMARY:Teen Summer Reading Crew
DESCRIPTION:Join us for the Teens Summer Reading Crew for ages 12-18 happening every Thursday from June 19th until August 7th\, 10:30 am until noon. Different activities and crafts every week on the theme of color our world. To register email potchild@pottsvillelibrary.org\, call 570-622-8880 ext. 12 or come to the library and tell us you plan on coming.
URL:https://www.pottsvillelibrary.org/event/teen-summer-reading-crew-5/
LOCATION:Pottsville Library\, 215 W Market St\, Pottsville\, 17901\, United States
ATTACH;FMTTYPE=image/webp:https://www.pottsvillelibrary.org/wp-content/uploads/2025/04/Teen_Summer_Reading_Crew_2025_flier.webp
ORGANIZER;CN="PFPL":MAILTO:potpublib@pottsvillelibrary.org
END:VEVENT
BEGIN:VEVENT
DTSTART;TZID=UTC:20250716T103000
DTEND;TZID=UTC:20250716T120000
DTSTAMP:20260425T132526
CREATED:20250424T220351Z
LAST-MODIFIED:20250424T220351Z
UID:3440-1752661800-1752667200@www.pottsvillelibrary.org
SUMMARY:Kids Summer Reading Club
DESCRIPTION:Join us for the Kids Summer Reading Club for ages 6-12 happening every Wednesday from June 18th until August 6th\, 10:30 am until noon. Different activities and crafts every week on the theme of color our world. To register email potchild@pottsvillelibrary.org\, call 570-622-8880 ext. 12 or come to the library and tell us you plan on coming.
URL:https://www.pottsvillelibrary.org/event/kids-summer-reading-club-5/
LOCATION:Pottsville Library\, 215 W Market St\, Pottsville\, 17901\, United States
ATTACH;FMTTYPE=image/webp:https://www.pottsvillelibrary.org/wp-content/uploads/2025/04/Kids_Summer_Reading_Club_2025_flier.webp
ORGANIZER;CN="PFPL":MAILTO:potpublib@pottsvillelibrary.org
END:VEVENT
BEGIN:VEVENT
DTSTART;TZID=UTC:20250715T173000
DTEND;TZID=UTC:20250715T190000
DTSTAMP:20260425T132526
CREATED:20250424T214653Z
LAST-MODIFIED:20250424T215019Z
UID:3415-1752600600-1752606000@www.pottsvillelibrary.org
SUMMARY:"Hemlock" Hannah and the Colors of Wildlife\, Plants\, and Mushrooms Galore
DESCRIPTION:Come to the Pottsville Free Public Library as we are joined by “Hemlock” Hannah from the Schuylkill Conservation District for a program celebrating color in nature. To register please email potchild@pottsvillelibrary.org\, call 570-622-8880 ext. 12 or come to the library and tell us you plan on coming.
URL:https://www.pottsvillelibrary.org/event/hemlock-hannah-and-the-colors-of-wildlife-plants-and-mushrooms-galore/
LOCATION:Pottsville Library\, 215 W Market St\, Pottsville\, 17901\, United States
ATTACH;FMTTYPE=image/webp:https://www.pottsvillelibrary.org/wp-content/uploads/2025/04/Hemlock-Hannah.webp
ORGANIZER;CN="PFPL":MAILTO:potpublib@pottsvillelibrary.org
END:VEVENT
BEGIN:VEVENT
DTSTART;TZID=UTC:20250714T103000
DTEND;TZID=UTC:20250714T113000
DTSTAMP:20260425T132526
CREATED:20250422T182146Z
LAST-MODIFIED:20250422T182146Z
UID:3361-1752489000-1752492600@www.pottsvillelibrary.org
SUMMARY:Summer Storytime
DESCRIPTION:Join us for a story\, songs and a craft for our Summer Storytimes on Mondays at 10:30 am running from June 16th until August 4th. Recommended for ages 1-5\, older and younger siblings are always welcome. Register by emailing potchild@pottsvillelibrary.org\, calling 570-622-8880 ext. 12 or coming in and telling us in person.
URL:https://www.pottsvillelibrary.org/event/summer-storytime-5/
LOCATION:Pottsville Library\, 215 W Market St\, Pottsville\, 17901\, United States
ATTACH;FMTTYPE=image/webp:https://www.pottsvillelibrary.org/wp-content/uploads/2025/04/Summer_Storytime2025.webp
ORGANIZER;CN="PFPL":MAILTO:potpublib@pottsvillelibrary.org
END:VEVENT
BEGIN:VEVENT
DTSTART;TZID=UTC:20250712T110000
DTEND;TZID=UTC:20250712T120000
DTSTAMP:20260425T132526
CREATED:20250514T203109Z
LAST-MODIFIED:20250514T203109Z
UID:3520-1752318000-1752321600@www.pottsvillelibrary.org
SUMMARY:Gummy Worm Saturday Story Time
DESCRIPTION:Join us for a Saturday Story Time celebrating gummy worms\, A themed story\, craft and of course gummy worms on Saturday July 12th. To register\, email potchild@pottsvillelibrary.org\, call 570-622-8880 ext. 12 or come to the library and tell us you’re coming.
URL:https://www.pottsvillelibrary.org/event/gummy-worm-saturday-story-time/
LOCATION:Pottsville Library\, 215 W Market St\, Pottsville\, 17901\, United States
ATTACH;FMTTYPE=image/webp:https://www.pottsvillelibrary.org/wp-content/uploads/2025/05/GummyWorm_Saturday_Storytime2025.webp
ORGANIZER;CN="PFPL":MAILTO:potpublib@pottsvillelibrary.org
END:VEVENT
BEGIN:VEVENT
DTSTART;TZID=UTC:20250712T090000
DTEND;TZID=UTC:20250712T120000
DTSTAMP:20260425T132526
CREATED:20250611T182528Z
LAST-MODIFIED:20250611T182528Z
UID:3581-1752310800-1752321600@www.pottsvillelibrary.org
SUMMARY:Open Arcade
DESCRIPTION:The Pottsville Free Public Library is opening up our arcade-style games like foosball\, billiards and a basketball shoot to everyone one day a week. No quarters required! Join us in the Library’s basement on Saturday mornings from 9 AM-12 PM. All ages and families are welcome (kids 8 and under need to have their parent or guardian with them).
URL:https://www.pottsvillelibrary.org/event/open-arcade-6/
LOCATION:Pottsville Library\, 215 W Market St\, Pottsville\, 17901\, United States
ATTACH;FMTTYPE=image/webp:https://www.pottsvillelibrary.org/wp-content/uploads/2025/06/School-Year-Open-Arcade-Sign.webp
ORGANIZER;CN="PFPL":MAILTO:potpublib@pottsvillelibrary.org
END:VEVENT
END:VCALENDAR