BEGIN:VCALENDAR
VERSION:2.0
PRODID:-//Pottsville Free Public Library - ECPv6.15.13//NONSGML v1.0//EN
CALSCALE:GREGORIAN
METHOD:PUBLISH
X-WR-CALNAME:Pottsville Free Public Library
X-ORIGINAL-URL:https://www.pottsvillelibrary.org
X-WR-CALDESC:Events for Pottsville Free Public Library
REFRESH-INTERVAL;VALUE=DURATION:PT1H
X-Robots-Tag:noindex
X-PUBLISHED-TTL:PT1H
BEGIN:VTIMEZONE
TZID:UTC
BEGIN:STANDARD
TZOFFSETFROM:+0000
TZOFFSETTO:+0000
TZNAME:UTC
DTSTART:20230101T000000
END:STANDARD
END:VTIMEZONE
BEGIN:VEVENT
DTSTART;TZID=UTC:20241021T161500
DTEND;TZID=UTC:20241021T170000
DTSTAMP:20260425T103006
CREATED:20240913T154410Z
LAST-MODIFIED:20240913T171746Z
UID:2457-1729527300-1729530000@www.pottsvillelibrary.org
SUMMARY:Robot Refresh
DESCRIPTION:Explore coding and robotics with the library’s STEM kits. Recommended for ages 6-12. Please register by emailing potchild@pottsvillelibrary.org.
URL:https://www.pottsvillelibrary.org/event/robot-refresh-3/
LOCATION:Pottsville Library\, 215 W Market St\, Pottsville\, 17901\, United States
ATTACH;FMTTYPE=image/jpeg:https://www.pottsvillelibrary.org/wp-content/uploads/2024/09/robot_refresh_fall_2024.jpg
END:VEVENT
BEGIN:VEVENT
DTSTART;TZID=UTC:20241022T173000
DTEND;TZID=UTC:20241022T190000
DTSTAMP:20260425T103006
CREATED:20240422T202501Z
LAST-MODIFIED:20240422T202501Z
UID:2054-1729618200-1729623600@www.pottsvillelibrary.org
SUMMARY:Wizarding World of Stuffies
DESCRIPTION:Enter our magical Wizarding World of Stuffies & take home a Black Cat\, Owl or Dragon. Characters are limited..don’t wait to reserve your favorite! This event will take place on Tuesday\, October 22nd at 5:30 PM. Each stuffie kit is $25. \nHow does it work: Hand stuff your magical friend; place a wish star inside; zip and lock closed; complete their birth certificate; take them home to love! \nCome dressed as your favorite magical character to this event! Call\, stop in\, or register online via the Facebook event page. \nSponsored by the Friends of the Pottsville Library.
URL:https://www.pottsvillelibrary.org/event/wizarding-world-of-stuffies/
LOCATION:Pottsville Library\, 215 W Market St\, Pottsville\, 17901\, United States
ATTACH;FMTTYPE=image/jpeg:https://www.pottsvillelibrary.org/wp-content/uploads/2024/04/Wizarding-World-Poster.jpg
ORGANIZER;CN="PFPL":MAILTO:potpublib@pottsvillelibrary.org
END:VEVENT
BEGIN:VEVENT
DTSTART;TZID=UTC:20241023T173000
DTEND;TZID=UTC:20241023T190000
DTSTAMP:20260425T103006
CREATED:20240913T173756Z
LAST-MODIFIED:20240919T210026Z
UID:2471-1729704600-1729710000@www.pottsvillelibrary.org
SUMMARY:Children's Halloween Party
DESCRIPTION:Join the Pottsville Library on Wednesday October 23rd at 5:30 pm for our annual Halloween party for games\, crafts\, and treats. For children ages 3-11 and their parents or caregivers. Please email potchild@pottsvillelibrary.org by October 9th to register.
URL:https://www.pottsvillelibrary.org/event/childrens-halloween-party-2/
LOCATION:Pottsville Library\, 215 W Market St\, Pottsville\, 17901\, United States
ATTACH;FMTTYPE=image/jpeg:https://www.pottsvillelibrary.org/wp-content/uploads/2024/09/Halloween_20241023.jpg
END:VEVENT
BEGIN:VEVENT
DTSTART;TZID=UTC:20241024T173000
DTEND;TZID=UTC:20241024T183000
DTSTAMP:20260425T103006
CREATED:20240823T133800Z
LAST-MODIFIED:20240905T192539Z
UID:2417-1729791000-1729794600@www.pottsvillelibrary.org
SUMMARY:Teen Book Club
DESCRIPTION:For ages 13 through 18 starting with Harry Potter and the Sorcerer’s Stone. We will be meeting the 4th Thursday of every month starting Oct. 24 at 5:30 PM In the Youth Services Department. email us at potchild@pottsvillelibrary.org! \n \n 
URL:https://www.pottsvillelibrary.org/event/teen-book-club/
LOCATION:Pottsville Library\, 215 W Market St\, Pottsville\, 17901\, United States
ATTACH;FMTTYPE=image/jpeg:https://www.pottsvillelibrary.org/wp-content/uploads/2024/08/TeenBookClubFall.jpg
ORGANIZER;CN="PFPL":MAILTO:potpublib@pottsvillelibrary.org
END:VEVENT
BEGIN:VEVENT
DTSTART;TZID=UTC:20241024T173000
DTEND;TZID=UTC:20241024T190000
DTSTAMP:20260425T103006
CREATED:20240430T182956Z
LAST-MODIFIED:20240430T182956Z
UID:2150-1729791000-1729796400@www.pottsvillelibrary.org
SUMMARY:Pageturners Book Club
DESCRIPTION:If you are interested in great books and great conversation–our book club is for you! All are welcome at the Pageturners monthly meeting held the 4th Thursday of each month at 5:30 on the 2nd floor of the Library.
URL:https://www.pottsvillelibrary.org/event/pageturners-book-club-5/
LOCATION:Pottsville Library\, 215 W Market St\, Pottsville\, 17901\, United States
ATTACH;FMTTYPE=image/jpeg:https://www.pottsvillelibrary.org/wp-content/uploads/2024/04/Pageturners-Logo-scaled.jpeg
ORGANIZER;CN="PFPL":MAILTO:potpublib@pottsvillelibrary.org
END:VEVENT
BEGIN:VEVENT
DTSTART;TZID=UTC:20241026T103000
DTEND;TZID=UTC:20241026T113000
DTSTAMP:20260425T103006
CREATED:20240926T193016Z
LAST-MODIFIED:20240926T193016Z
UID:2496-1729938600-1729942200@www.pottsvillelibrary.org
SUMMARY:Saturday Story Time
DESCRIPTION:A special Saturday Storytime where we will be reading “Ten Timid Ghosts” by Jennifer O’Connell. Join us for a story\, crafts and other story time activities. Recommended for children 12 months to five years old but older siblings are always welcome. Please register at potchild@pottsvillelibrary.org.
URL:https://www.pottsvillelibrary.org/event/saturday-story-time/
LOCATION:Pottsville Library\, 215 W Market St\, Pottsville\, 17901\, United States
ATTACH;FMTTYPE=image/jpeg:https://www.pottsvillelibrary.org/wp-content/uploads/2024/09/saturday_storytime_20241026.jpg
ORGANIZER;CN="PFPL":MAILTO:potpublib@pottsvillelibrary.org
END:VEVENT
BEGIN:VEVENT
DTSTART;TZID=UTC:20241028T103000
DTEND;TZID=UTC:20241028T113000
DTSTAMP:20260425T103006
CREATED:20240820T153034Z
LAST-MODIFIED:20240820T153034Z
UID:2391-1730111400-1730115000@www.pottsvillelibrary.org
SUMMARY:Storytime
DESCRIPTION:Storytime runs from Monday\, September 23rd to Monday December 9th. Storytime is held each Monday at 10:30 AM.  Recommended for children up to 5 years & their caregivers.  Please email with names & ages of children to register: potchild@pottsvillelibrary.org
URL:https://www.pottsvillelibrary.org/event/storytime-19/
LOCATION:Pottsville Library\, 215 W Market St\, Pottsville\, 17901\, United States
ATTACH;FMTTYPE=image/jpeg:https://www.pottsvillelibrary.org/wp-content/uploads/2024/08/Fall-ST-24.jpg
ORGANIZER;CN="PFPL":MAILTO:potpublib@pottsvillelibrary.org
END:VEVENT
BEGIN:VEVENT
DTSTART;TZID=UTC:20241028T161500
DTEND;TZID=UTC:20241028T170000
DTSTAMP:20260425T103006
CREATED:20240913T154532Z
LAST-MODIFIED:20240913T171712Z
UID:2460-1730132100-1730134800@www.pottsvillelibrary.org
SUMMARY:Robot Refresh
DESCRIPTION:Explore coding and robotics with the library’s STEM kits. Recommended for ages 6-12. Please register by emailing potchild@pottsvillelibrary.org.
URL:https://www.pottsvillelibrary.org/event/robot-refresh-4/
LOCATION:Pottsville Library\, 215 W Market St\, Pottsville\, 17901\, United States
ATTACH;FMTTYPE=image/jpeg:https://www.pottsvillelibrary.org/wp-content/uploads/2024/09/robot_refresh_fall_2024.jpg
END:VEVENT
BEGIN:VEVENT
DTSTART;TZID=UTC:20241101T170000
DTEND;TZID=UTC:20241101T200000
DTSTAMP:20260425T103006
CREATED:20241003T191346Z
LAST-MODIFIED:20241003T191346Z
UID:2528-1730480400-1730491200@www.pottsvillelibrary.org
SUMMARY:Artist Showcase: Stephanie Wojciechowsky's Fable & Whimsy
DESCRIPTION:Join us on Friday\, November 1st from 5pm to 8pm to enjoy an evening of ‘Fable & Whimsy’ with artist Stephanie Wojciechowsky.  Stephanie is a graduate of the University of the Arts with a Bachelor of Fine Art. She works across several mediums & has authored & illustrated two children’s books\, which will be available for sale at the event. This event is free and open to the public. Light refreshments will be served.
URL:https://www.pottsvillelibrary.org/event/artist-showcase-stephanie-wojciechowskys-fable-whimsy/
LOCATION:Pottsville Library\, 215 W Market St\, Pottsville\, 17901\, United States
ATTACH;FMTTYPE=image/jpeg:https://www.pottsvillelibrary.org/wp-content/uploads/2024/10/Stephanies-Flyer.jpg
ORGANIZER;CN="PFPL":MAILTO:potpublib@pottsvillelibrary.org
END:VEVENT
BEGIN:VEVENT
DTSTART;TZID=UTC:20241104T103000
DTEND;TZID=UTC:20241104T113000
DTSTAMP:20260425T103006
CREATED:20240820T153120Z
LAST-MODIFIED:20240820T153120Z
UID:2394-1730716200-1730719800@www.pottsvillelibrary.org
SUMMARY:Storytime
DESCRIPTION:Storytime runs from Monday\, September 23rd to Monday December 9th. Storytime is held each Monday at 10:30 AM.  Recommended for children up to 5 years & their caregivers.  Please email with names & ages of children to register: potchild@pottsvillelibrary.org
URL:https://www.pottsvillelibrary.org/event/storytime-20/
LOCATION:Pottsville Library\, 215 W Market St\, Pottsville\, 17901\, United States
ATTACH;FMTTYPE=image/jpeg:https://www.pottsvillelibrary.org/wp-content/uploads/2024/08/Fall-ST-24.jpg
ORGANIZER;CN="PFPL":MAILTO:potpublib@pottsvillelibrary.org
END:VEVENT
BEGIN:VEVENT
DTSTART;TZID=UTC:20241104T120000
DTEND;TZID=UTC:20241104T140000
DTSTAMP:20260425T103006
CREATED:20240430T181604Z
LAST-MODIFIED:20240430T181604Z
UID:2129-1730721600-1730728800@www.pottsvillelibrary.org
SUMMARY:Used Book Sale
DESCRIPTION:Visit our monthly used book sale in the basement of the Library from 12-2 on Monday\, November 4th\, 2024. Thank you to the Friends of the Pottsville Free Public Library for hosting our used book sales!
URL:https://www.pottsvillelibrary.org/event/used-book-sale-12/
LOCATION:Library – Basement\, 215 W. Market St.\, Pottsville\, PA\, 17901\, United States
ATTACH;FMTTYPE=image/png:https://www.pottsvillelibrary.org/wp-content/uploads/2023/11/Book_Sale_Website_Banner.png
ORGANIZER;CN="PFPL":MAILTO:potpublib@pottsvillelibrary.org
END:VEVENT
BEGIN:VEVENT
DTSTART;TZID=UTC:20241104T161500
DTEND;TZID=UTC:20241104T170000
DTSTAMP:20260425T103006
CREATED:20240913T154641Z
LAST-MODIFIED:20240913T171641Z
UID:2463-1730736900-1730739600@www.pottsvillelibrary.org
SUMMARY:Robot Refresh
DESCRIPTION:Explore coding and robotics with the library’s STEM kits. Recommended for ages 6-12. Please register by emailing potchild@pottsvillelibrary.org.
URL:https://www.pottsvillelibrary.org/event/robot-refresh-5/
LOCATION:Pottsville Library\, 215 W Market St\, Pottsville\, 17901\, United States
ATTACH;FMTTYPE=image/jpeg:https://www.pottsvillelibrary.org/wp-content/uploads/2024/09/robot_refresh_fall_2024.jpg
END:VEVENT
BEGIN:VEVENT
DTSTART;TZID=UTC:20241106T173000
DTEND;TZID=UTC:20241106T183000
DTSTAMP:20260425T103006
CREATED:20241008T184250Z
LAST-MODIFIED:20241008T184250Z
UID:2532-1730914200-1730917800@www.pottsvillelibrary.org
SUMMARY:Windows Next Steps
DESCRIPTION:You know the basics of using a computer. Now it’s time to learn how to personalize your computer and make it more useful! In this FREE computer course\, we will cover learning more about what kind of system you have\, how to install a new application\, how to add shortcuts to your computer’s desktop\, how to change some of the defaults and settings\, how to uninstall an application you don’t want\, and some safety tips. The one-hour course is a mix of demonstrations and practice time\, and is open to all residents of Schuylkill County and the Pottsville Library District. Call the front desk at 570-622-8880 to sign up; seating is limited due to the small computer lab.
URL:https://www.pottsvillelibrary.org/event/windows-next-steps/
LOCATION:Pottsville Library\, 215 W Market St\, Pottsville\, 17901\, United States
CATEGORIES:Computer Class
ATTACH;FMTTYPE=image/png:https://www.pottsvillelibrary.org/wp-content/uploads/2024/10/Windows-Next-Steps.png
ORGANIZER;CN="PFPL":MAILTO:potpublib@pottsvillelibrary.org
END:VEVENT
BEGIN:VEVENT
DTSTART;TZID=UTC:20241107T163000
DTEND;TZID=UTC:20241107T170000
DTSTAMP:20260425T103006
CREATED:20241003T130445Z
LAST-MODIFIED:20241003T130445Z
UID:2515-1730997000-1730998800@www.pottsvillelibrary.org
SUMMARY:Zombie Outbreak: Save the City Escape Room
DESCRIPTION:Join us Thursday\, November 7th at 4:30pm for an escape room at the Pottsville Free Public Library. Recommended for ages 13 – 18. Please register at potchild@pottsvillelibrary.org.
URL:https://www.pottsvillelibrary.org/event/zombie-outbreak-save-the-city-escape-room/
LOCATION:Pottsville Library\, 215 W Market St\, Pottsville\, 17901\, United States
ATTACH;FMTTYPE=image/jpeg:https://www.pottsvillelibrary.org/wp-content/uploads/2024/10/NovBreakout2024_2.jpg
ORGANIZER;CN="PFPL":MAILTO:potpublib@pottsvillelibrary.org
END:VEVENT
BEGIN:VEVENT
DTSTART;TZID=UTC:20241109T103000
DTEND;TZID=UTC:20241109T120000
DTSTAMP:20260425T103006
CREATED:20240913T175129Z
LAST-MODIFIED:20240913T175129Z
UID:2475-1731148200-1731153600@www.pottsvillelibrary.org
SUMMARY:Saturday Storytime
DESCRIPTION:A special Saturday Storytime where we will be reading “Dragons Love Tacos” by Adam Rubin. Join us for a story\, crafts and other story time activities. Recommended for children 12 months to five years old but older siblings are always welcome. Please register at potchild@pottsvillelibrary.org.
URL:https://www.pottsvillelibrary.org/event/saturday-storytime/
LOCATION:Pottsville Library\, 215 W Market St\, Pottsville\, 17901\, United States
ATTACH;FMTTYPE=image/jpeg:https://www.pottsvillelibrary.org/wp-content/uploads/2024/09/addtional_storytime_20241109.jpg
END:VEVENT
BEGIN:VEVENT
DTSTART;TZID=UTC:20241111T103000
DTEND;TZID=UTC:20241111T113000
DTSTAMP:20260425T103006
CREATED:20240820T153209Z
LAST-MODIFIED:20240820T153209Z
UID:2397-1731321000-1731324600@www.pottsvillelibrary.org
SUMMARY:Storytime
DESCRIPTION:Storytime runs from Monday\, September 23rd to Monday December 9th. Storytime is held each Monday at 10:30 AM.  Recommended for children up to 5 years & their caregivers.  Please email with names & ages of children to register: potchild@pottsvillelibrary.org
URL:https://www.pottsvillelibrary.org/event/storytime-21/
LOCATION:Pottsville Library\, 215 W Market St\, Pottsville\, 17901\, United States
ATTACH;FMTTYPE=image/jpeg:https://www.pottsvillelibrary.org/wp-content/uploads/2024/08/Fall-ST-24.jpg
ORGANIZER;CN="PFPL":MAILTO:potpublib@pottsvillelibrary.org
END:VEVENT
BEGIN:VEVENT
DTSTART;TZID=UTC:20241112T173000
DTEND;TZID=UTC:20241112T190000
DTSTAMP:20260425T103006
CREATED:20240828T200053Z
LAST-MODIFIED:20240828T200053Z
UID:2432-1731432600-1731438000@www.pottsvillelibrary.org
SUMMARY:Family Video Game Night
DESCRIPTION:Bring the whole family to the library to enjoy our collection of video games together on Family Video Game Night! Tuesday\, Nov 12th at 5:30. To register\, please email potchild@pottsvillelibrary.org.
URL:https://www.pottsvillelibrary.org/event/family-video-game-night-2/
LOCATION:Pottsville Library\, 215 W Market St\, Pottsville\, 17901\, United States
ATTACH;FMTTYPE=image/jpeg:https://www.pottsvillelibrary.org/wp-content/uploads/2024/08/Video_Game_Night_20241112.jpg
ORGANIZER;CN="PFPL":MAILTO:potpublib@pottsvillelibrary.org
END:VEVENT
BEGIN:VEVENT
DTSTART;TZID=UTC:20241116T180000
DTEND;TZID=UTC:20241116T210000
DTSTAMP:20260425T103006
CREATED:20240904T200403Z
LAST-MODIFIED:20240904T200403Z
UID:2441-1731780000-1731790800@www.pottsvillelibrary.org
SUMMARY:Party Like It's 1999: Celebrating 25 Years of Expansion
DESCRIPTION:Join us on Saturday\, November 16th from 6-9pm to celebrate the 25th anniversary of the expansion of the Pottsville Library! This is a catered event by Cee Bee Creative & you can enjoy live music provided by The JRK Trio. Tickets are $50 per person. Please RSVP by November 1st. Any questions\, or to pay by phone\, please call 570-622-8880.
URL:https://www.pottsvillelibrary.org/event/party-like-its-1999-celebrating-25-years-of-expansion/
LOCATION:Pottsville Library\, 215 W Market St\, Pottsville\, 17901\, United States
ATTACH;FMTTYPE=image/jpeg:https://www.pottsvillelibrary.org/wp-content/uploads/2024/09/Party-Invitation.jpg
ORGANIZER;CN="PFPL":MAILTO:potpublib@pottsvillelibrary.org
END:VEVENT
BEGIN:VEVENT
DTSTART;TZID=UTC:20241118T103000
DTEND;TZID=UTC:20241118T113000
DTSTAMP:20260425T103006
CREATED:20240820T153306Z
LAST-MODIFIED:20240820T153306Z
UID:2400-1731925800-1731929400@www.pottsvillelibrary.org
SUMMARY:Storytime
DESCRIPTION:Storytime runs from Monday\, September 23rd to Monday December 9th. Storytime is held each Monday at 10:30 AM.  Recommended for children up to 5 years & their caregivers.  Please email with names & ages of children to register: potchild@pottsvillelibrary.org
URL:https://www.pottsvillelibrary.org/event/storytime-22/
LOCATION:Pottsville Library\, 215 W Market St\, Pottsville\, 17901\, United States
ATTACH;FMTTYPE=image/jpeg:https://www.pottsvillelibrary.org/wp-content/uploads/2024/08/Fall-ST-24.jpg
ORGANIZER;CN="PFPL":MAILTO:potpublib@pottsvillelibrary.org
END:VEVENT
BEGIN:VEVENT
DTSTART;TZID=UTC:20241121T173000
DTEND;TZID=UTC:20241121T183000
DTSTAMP:20260425T103006
CREATED:20241025T125543Z
LAST-MODIFIED:20241030T172127Z
UID:2567-1732210200-1732213800@www.pottsvillelibrary.org
SUMMARY:Teen Book Club
DESCRIPTION:Our continuing teen book club meets on the 21st of November\, due to the fourth Thursday being Thanksgiving\, and begins at 5:30 pm\, we only just started. If you want to join in and need a copy of the book come to the youth services desk at the Pottsville Free Public Library and register for the book club.
URL:https://www.pottsvillelibrary.org/event/teen-book-club-2/
LOCATION:Pottsville Library\, 215 W Market St\, Pottsville\, 17901\, United States
ATTACH;FMTTYPE=image/jpeg:https://www.pottsvillelibrary.org/wp-content/uploads/2024/10/TeenBookClubGeneral.jpg
ORGANIZER;CN="PFPL":MAILTO:potpublib@pottsvillelibrary.org
END:VEVENT
BEGIN:VEVENT
DTSTART;TZID=UTC:20241125T103000
DTEND;TZID=UTC:20241125T113000
DTSTAMP:20260425T103006
CREATED:20240820T153519Z
LAST-MODIFIED:20240820T153519Z
UID:2406-1732530600-1732534200@www.pottsvillelibrary.org
SUMMARY:Storytime
DESCRIPTION:Storytime runs from Monday\, September 23rd to Monday December 9th. Storytime is held each Monday at 10:30 AM.  Recommended for children up to 5 years & their caregivers.  Please email with names & ages of children to register: potchild@pottsvillelibrary.org
URL:https://www.pottsvillelibrary.org/event/storytime-24/
LOCATION:Pottsville Library\, 215 W Market St\, Pottsville\, 17901\, United States
ATTACH;FMTTYPE=image/jpeg:https://www.pottsvillelibrary.org/wp-content/uploads/2024/08/Fall-ST-24.jpg
ORGANIZER;CN="PFPL":MAILTO:potpublib@pottsvillelibrary.org
END:VEVENT
BEGIN:VEVENT
DTSTART;TZID=UTC:20241130T110000
DTEND;TZID=UTC:20241130T150000
DTSTAMP:20260425T103006
CREATED:20240508T151605Z
LAST-MODIFIED:20240508T151605Z
UID:2170-1732964400-1732978800@www.pottsvillelibrary.org
SUMMARY:Small Business Saturday: Holiday Market
DESCRIPTION:Calling all authors\, artists\, crafters\, bakers\, or direct sales representatives to join us for a one-stop holiday shopping event! We would love to fill 3 floors of the Library with vendors and food to make a jolly shopping experience for all! Vendor fee is $20. Please email ginab@pottsvillelibrary.org for registration information.  Market will be held on Saturday\, November 30th from 11am-3pm. 
URL:https://www.pottsvillelibrary.org/event/small-business-saturday-holiday-market/
LOCATION:Pottsville Library\, 215 W Market St\, Pottsville\, 17901\, United States
ATTACH;FMTTYPE=image/jpeg:https://www.pottsvillelibrary.org/wp-content/uploads/2024/05/Small-Business-Saturday-Flyer.jpg
ORGANIZER;CN="PFPL":MAILTO:potpublib@pottsvillelibrary.org
END:VEVENT
BEGIN:VEVENT
DTSTART;TZID=UTC:20241202T103000
DTEND;TZID=UTC:20241202T113000
DTSTAMP:20260425T103006
CREATED:20240820T153617Z
LAST-MODIFIED:20240820T153617Z
UID:2408-1733135400-1733139000@www.pottsvillelibrary.org
SUMMARY:Storytime
DESCRIPTION:Storytime runs from Monday\, September 23rd to Monday December 9th. Storytime is held each Monday at 10:30 AM.  Recommended for children up to 5 years & their caregivers.  Please email with names & ages of children to register: potchild@pottsvillelibrary.org
URL:https://www.pottsvillelibrary.org/event/storytime-25/
LOCATION:Pottsville Library\, 215 W Market St\, Pottsville\, 17901\, United States
ATTACH;FMTTYPE=image/jpeg:https://www.pottsvillelibrary.org/wp-content/uploads/2024/08/Fall-ST-24.jpg
ORGANIZER;CN="PFPL":MAILTO:potpublib@pottsvillelibrary.org
END:VEVENT
BEGIN:VEVENT
DTSTART;TZID=UTC:20241202T120000
DTEND;TZID=UTC:20241202T140000
DTSTAMP:20260425T103006
CREATED:20240430T181707Z
LAST-MODIFIED:20240430T181707Z
UID:2132-1733140800-1733148000@www.pottsvillelibrary.org
SUMMARY:Used Book Sale
DESCRIPTION:Visit our monthly used book sale in the basement of the Library from 12-2 on Monday\, December 2nd\, 2024. Thank you to the Friends of the Pottsville Free Public Library for hosting our used book sales!
URL:https://www.pottsvillelibrary.org/event/used-book-sale-13/
LOCATION:Library – Basement\, 215 W. Market St.\, Pottsville\, PA\, 17901\, United States
ATTACH;FMTTYPE=image/png:https://www.pottsvillelibrary.org/wp-content/uploads/2023/11/Book_Sale_Website_Banner.png
ORGANIZER;CN="PFPL":MAILTO:potpublib@pottsvillelibrary.org
END:VEVENT
BEGIN:VEVENT
DTSTART;TZID=UTC:20241203T090000
DTEND;TZID=UTC:20241203T170000
DTSTAMP:20260425T103006
CREATED:20241014T154322Z
LAST-MODIFIED:20241014T154322Z
UID:2545-1733216400-1733245200@www.pottsvillelibrary.org
SUMMARY:Giving Tuesday
DESCRIPTION:We are collecting winter items such as gloves\, warm socks\, scarves\, hats and hand warmers to distribute to anyone in need on Tuesday\, December 3rd–Giving Tuesday.  New items only\, please.  Please drop off donations at the Pottsville Library’s Circulation Desk.
URL:https://www.pottsvillelibrary.org/event/giving-tuesday/
LOCATION:Pottsville Library\, 215 W Market St\, Pottsville\, 17901\, United States
ATTACH;FMTTYPE=image/jpeg:https://www.pottsvillelibrary.org/wp-content/uploads/2024/10/Giving-Tuesday-Flyer.jpg
ORGANIZER;CN="PFPL":MAILTO:potpublib@pottsvillelibrary.org
END:VEVENT
BEGIN:VEVENT
DTSTART;TZID=UTC:20241205T163000
DTEND;TZID=UTC:20241205T170000
DTSTAMP:20260425T103006
CREATED:20241127T145031Z
LAST-MODIFIED:20241127T145031Z
UID:2666-1733416200-1733418000@www.pottsvillelibrary.org
SUMMARY:Jack Frost Escape Room
DESCRIPTION:Join us Thursday\, December 5th at 4:30pm for an escape room at the Pottsville Free Public Library. Recommended for ages 6-12. Please register at potchild@pottsvillelibrary.org.
URL:https://www.pottsvillelibrary.org/event/jack-frost-escape-room/
LOCATION:Pottsville Library\, 215 W Market St\, Pottsville\, 17901\, United States
ATTACH;FMTTYPE=image/jpeg:https://www.pottsvillelibrary.org/wp-content/uploads/2024/11/DecBreakout2024_1.jpg
ORGANIZER;CN="PFPL":MAILTO:potpublib@pottsvillelibrary.org
END:VEVENT
BEGIN:VEVENT
DTSTART;TZID=UTC:20241207T143000
DTEND;TZID=UTC:20241207T153000
DTSTAMP:20260425T103006
CREATED:20241023T172317Z
LAST-MODIFIED:20241023T172317Z
UID:2557-1733581800-1733585400@www.pottsvillelibrary.org
SUMMARY:Story Time with Santa
DESCRIPTION:Join us Saturday\, December 7th for a special Saturday Storytime featuring Santa. We will kick off with Santa drawing the prize winners for the Pottsville Elf Hunt followed by Santa reading a story.
URL:https://www.pottsvillelibrary.org/event/story-time-with-santa/
LOCATION:Pottsville Library\, 215 W Market St\, Pottsville\, 17901\, United States
ATTACH;FMTTYPE=image/jpeg:https://www.pottsvillelibrary.org/wp-content/uploads/2024/10/StorytimeWithSanta.jpg
ORGANIZER;CN="PFPL":MAILTO:potpublib@pottsvillelibrary.org
END:VEVENT
BEGIN:VEVENT
DTSTART;TZID=UTC:20241209T103000
DTEND;TZID=UTC:20241209T113000
DTSTAMP:20260425T103006
CREATED:20240820T153722Z
LAST-MODIFIED:20240820T153722Z
UID:2411-1733740200-1733743800@www.pottsvillelibrary.org
SUMMARY:Storytime
DESCRIPTION:Storytime runs from Monday\, September 23rd to Monday December 9th. Storytime is held each Monday at 10:30 AM.  Recommended for children up to 5 years & their caregivers.  Please email with names & ages of children to register: potchild@pottsvillelibrary.org
URL:https://www.pottsvillelibrary.org/event/storytime-26/
LOCATION:Pottsville Library\, 215 W Market St\, Pottsville\, 17901\, United States
ATTACH;FMTTYPE=image/jpeg:https://www.pottsvillelibrary.org/wp-content/uploads/2024/08/Fall-ST-24.jpg
ORGANIZER;CN="PFPL":MAILTO:potpublib@pottsvillelibrary.org
END:VEVENT
BEGIN:VEVENT
DTSTART;TZID=UTC:20241210T173000
DTEND;TZID=UTC:20241210T190000
DTSTAMP:20260425T103006
CREATED:20240828T201355Z
LAST-MODIFIED:20240828T201355Z
UID:2435-1733851800-1733857200@www.pottsvillelibrary.org
SUMMARY:Marble Run Mania
DESCRIPTION:Roll out to join us on Tuesday\, Dec. 10th at 5:30 for our marble run mania. Build marble runs with the sets here at the library\, then race marbles to see which one finishes first. Ideal for ages 5-11 and their families. Email us at potchild@pottsvillelibrary.org. to register.
URL:https://www.pottsvillelibrary.org/event/marble-run-mania/
LOCATION:Pottsville Library\, 215 W Market St\, Pottsville\, 17901\, United States
ATTACH;FMTTYPE=image/jpeg:https://www.pottsvillelibrary.org/wp-content/uploads/2024/08/Marble_Run_Mania_20241210.jpg
ORGANIZER;CN="PFPL":MAILTO:potpublib@pottsvillelibrary.org
END:VEVENT
BEGIN:VEVENT
DTSTART;TZID=UTC:20241217T173000
DTEND;TZID=UTC:20241217T190000
DTSTAMP:20260425T103006
CREATED:20241003T131135Z
LAST-MODIFIED:20241025T124414Z
UID:2518-1734456600-1734462000@www.pottsvillelibrary.org
SUMMARY:Children's Christmas Party
DESCRIPTION:Bring the kids to celebrate with Santa at our yearly Christmas Party! There will be crafts & treats & of course an opportunity to talk to Santa! Recommended for ages 3-11. Please register by calling 570-622-8880 ext 12\, or emailing potchild@pottsvillelibrary.org. Party will be Tuesday\, December 17th at 5:30. Please register by December 3rd.
URL:https://www.pottsvillelibrary.org/event/2518/
LOCATION:Pottsville Library\, 215 W Market St\, Pottsville\, 17901\, United States
ATTACH;FMTTYPE=image/jpeg:https://www.pottsvillelibrary.org/wp-content/uploads/2024/10/Childrens_christmas_party.jpg
ORGANIZER;CN="PFPL":MAILTO:potpublib@pottsvillelibrary.org
END:VEVENT
END:VCALENDAR