BEGIN:VCALENDAR
VERSION:2.0
PRODID:-//Pottsville Free Public Library - ECPv6.15.13//NONSGML v1.0//EN
CALSCALE:GREGORIAN
METHOD:PUBLISH
X-WR-CALNAME:Pottsville Free Public Library
X-ORIGINAL-URL:https://www.pottsvillelibrary.org
X-WR-CALDESC:Events for Pottsville Free Public Library
REFRESH-INTERVAL;VALUE=DURATION:PT1H
X-Robots-Tag:noindex
X-PUBLISHED-TTL:PT1H
BEGIN:VTIMEZONE
TZID:UTC
BEGIN:STANDARD
TZOFFSETFROM:+0000
TZOFFSETTO:+0000
TZNAME:UTC
DTSTART:20240101T000000
END:STANDARD
END:VTIMEZONE
BEGIN:VEVENT
DTSTART;TZID=UTC:20251022T173000
DTEND;TZID=UTC:20251022T183000
DTSTAMP:20260425T155258
CREATED:20250823T151236Z
LAST-MODIFIED:20250823T151236Z
UID:3888-1761154200-1761157800@www.pottsvillelibrary.org
SUMMARY:Microsoft Word Basics
DESCRIPTION:This class covers what you really need to know to type a document like a letter or a report\, how to check your spelling\, and then save or print it. These skills also apply to apps like Google Docs or free software like LibreOffice.Thanks to the Broadband Grant\, our old computers have been replaced in the lab with new Windows 11 laptops! Attendees will have the option to use a mouse or a track pad to move the pointer around the screen.Seating is limited and advanced registration is required. Attendees must have a valid Pottsville Library card to sign up. You can call the Circulation Desk at 570-622-8880 ext. 10 to check on your card\, or you can begin the registration process from our web page at https://www.pottsvillelibrary.org/how-do-i/join/. Pottsville Library cards are free for residents of Schuylkill County and the Pottsville Library District.
URL:https://www.pottsvillelibrary.org/event/microsoft-word-basics/
LOCATION:Pottsville Library Computer Lab\, 215 W Market St\, Pottsville\, PA\, 17901
CATEGORIES:Computer Class
ATTACH;FMTTYPE=image/jpeg:https://www.pottsvillelibrary.org/wp-content/uploads/2025/08/MS-Word-class-flag-Fall-2025.jpg
END:VEVENT
BEGIN:VEVENT
DTSTART;TZID=UTC:20251022T173000
DTEND;TZID=UTC:20251022T190000
DTSTAMP:20260425T155258
CREATED:20250624T163343Z
LAST-MODIFIED:20250624T163343Z
UID:3629-1761154200-1761159600@www.pottsvillelibrary.org
SUMMARY:Witchy Wednesday: Broom Making Workshop
DESCRIPTION:Fly through witchy season on a brand new handmade broom! This year we are offering two classes\, one on Wednesday\, October 15th at 5:30PM\, and one on Wednesday\, October 22nd at 5:30PM. The class includes basic supplies including broomstick\, broomcorn\, twine\, and full instruction.  You are encouraged to bring dried/artificial flowers\, charms\, ribbons\, or whatever you’d like to decorate your custom broom.  Class size is limited\, so get your tickets early! Pre-paid registration is due by September 1st. Cost is $50 per person.
URL:https://www.pottsvillelibrary.org/event/witchy-wednesday-broom-making-workshop-3/
LOCATION:Pottsville Library\, 215 W Market St\, Pottsville\, 17901\, United States
ATTACH;FMTTYPE=image/jpeg:https://www.pottsvillelibrary.org/wp-content/uploads/2025/06/Broom-Making-Flyer.jpg
ORGANIZER;CN="PFPL":MAILTO:potpublib@pottsvillelibrary.org
END:VEVENT
BEGIN:VEVENT
DTSTART;TZID=UTC:20251023T173000
DTEND;TZID=UTC:20251023T190000
DTSTAMP:20260425T155258
CREATED:20241203T195501Z
LAST-MODIFIED:20241203T195501Z
UID:2746-1761240600-1761246000@www.pottsvillelibrary.org
SUMMARY:Pageturners Book Club
DESCRIPTION:If you are interested in great books and great conversation–our book club is for you! All are welcome at the Pageturners monthly meeting held the 4th Thursday of each month at 5:30 on the 2nd floor of the Library.
URL:https://www.pottsvillelibrary.org/event/pageturners-book-club-12/
LOCATION:Pottsville Library\, 215 W Market St\, Pottsville\, 17901\, United States
ATTACH;FMTTYPE=image/jpeg:https://www.pottsvillelibrary.org/wp-content/uploads/2024/12/Pageturners-Logo-scaled.jpeg
ORGANIZER;CN="PFPL":MAILTO:potpublib@pottsvillelibrary.org
END:VEVENT
BEGIN:VEVENT
DTSTART;TZID=UTC:20251023T173000
DTEND;TZID=UTC:20251023T190000
DTSTAMP:20260425T155258
CREATED:20250616T191955Z
LAST-MODIFIED:20250616T191955Z
UID:3609-1761240600-1761246000@www.pottsvillelibrary.org
SUMMARY:Eric Mintel Investigates: Ghosts\, UFOs\, Bigfoot\, drones & more!
DESCRIPTION:Do a deep dive with us into the world of ghosts\, UFOs\, Bigfoot & more with Eric Mintel Investigates! The presentation will be held at the Pottsville Library on Thursday\, October 23rd at 5:30. To register\, call the circulation desk at 570-622-8880\, or email potpublib@pottsvillelibrary.org. Presentation is free for all who dare! 
URL:https://www.pottsvillelibrary.org/event/eric-mintel-investigates-ghosts-ufos-bigfoot-drones-more/
LOCATION:Pottsville Library\, 215 W Market St\, Pottsville\, 17901\, United States
ATTACH;FMTTYPE=image/jpeg:https://www.pottsvillelibrary.org/wp-content/uploads/2025/06/Eric-Mintel-Flyer.jpg
ORGANIZER;CN="PFPL":MAILTO:potpublib@pottsvillelibrary.org
END:VEVENT
BEGIN:VEVENT
DTSTART;TZID=UTC:20251025T090000
DTEND;TZID=UTC:20251025T120000
DTSTAMP:20260425T155258
CREATED:20250825T133030Z
LAST-MODIFIED:20250825T133030Z
UID:3905-1761382800-1761393600@www.pottsvillelibrary.org
SUMMARY:Open Arcade
DESCRIPTION:The Pottsville Free Public Library is opening up our arcade-style games like foosball\, billiards and a basketball shoot to everyone one day a week. No quarters required! Join us in the Library’s basement on Saturday mornings from 9 AM-12 PM. All ages and families are welcome (kids 8 and under need to have their parent or guardian with them).
URL:https://www.pottsvillelibrary.org/event/open-arcade-29/
LOCATION:Pottsville Library\, 215 W Market St\, Pottsville\, 17901\, United States
ATTACH;FMTTYPE=image/webp:https://www.pottsvillelibrary.org/wp-content/uploads/2025/08/Open-Arcade.webp
ORGANIZER;CN="PFPL":MAILTO:potpublib@pottsvillelibrary.org
END:VEVENT
BEGIN:VEVENT
DTSTART;TZID=UTC:20251027T080000
DTEND;TZID=UTC:20251027T170000
DTSTAMP:20260425T155258
CREATED:20250709T200157Z
LAST-MODIFIED:20250709T200157Z
UID:3683-1761552000-1761584400@www.pottsvillelibrary.org
SUMMARY:Fall Story Time Mondays
DESCRIPTION:Join us for a story\, songs and a craft for our Fall Story Times on Mondays at 10:30 am running from September 15th until December 8th. Recommended for ages 1-5\, older and younger siblings are always welcome. Register by emailing potchild@pottsvillelibrary.org\, calling 570-622-8880 ext. 12 or coming in and telling us in person.
URL:https://www.pottsvillelibrary.org/event/fall-story-time-mondays-7/
LOCATION:Pottsville Library\, 215 W Market St\, Pottsville\, 17901\, United States
ATTACH;FMTTYPE=image/webp:https://www.pottsvillelibrary.org/wp-content/uploads/2025/07/Fall-2025-Storytime.webp
ORGANIZER;CN="PFPL":MAILTO:potpublib@pottsvillelibrary.org
END:VEVENT
BEGIN:VEVENT
DTSTART;TZID=UTC:20251028T163000
DTEND;TZID=UTC:20251028T173000
DTSTAMP:20260425T155258
CREATED:20250712T192742Z
LAST-MODIFIED:20250712T192742Z
UID:3797-1761669000-1761672600@www.pottsvillelibrary.org
SUMMARY:Robot Refresh
DESCRIPTION:Come to the Pottsville Free Public Library to explore robotics and coding with the library’s robotics STEM kits. Recommended for ages 6-12. Please email potchild@pottsvillelibrary.org\, call 570-622-8880 ext. 12 or come to the library and talk to us to register or for more information.
URL:https://www.pottsvillelibrary.org/event/robot-refresh-7/
LOCATION:Pottsville Library\, 215 W Market St\, Pottsville\, 17901\, United States
ATTACH;FMTTYPE=image/webp:https://www.pottsvillelibrary.org/wp-content/uploads/2025/07/Robot-Refresh-2025.webp
ORGANIZER;CN="PFPL":MAILTO:potpublib@pottsvillelibrary.org
END:VEVENT
BEGIN:VEVENT
DTSTART;TZID=UTC:20251029T163000
DTEND;TZID=UTC:20251029T180000
DTSTAMP:20260425T155258
CREATED:20250709T201657Z
LAST-MODIFIED:20250709T201657Z
UID:3723-1761755400-1761760800@www.pottsvillelibrary.org
SUMMARY:Girls Who Code
DESCRIPTION:Come to the Pottsville Free Public Library and learn coding with your peers. Recommended for ages 12-18 for coders with no experience\, limited experience or those in need of a refresher. Not a girl\, not a problem\, girls who code is open to any aspiring young coder. To register email potchild@pottsvillelibrary.org\, call 570-622-8880 ext 12 or come to the library and tell us in person.
URL:https://www.pottsvillelibrary.org/event/girls-who-code-17/
LOCATION:Pottsville Library\, 215 W Market St\, Pottsville\, 17901\, United States
ATTACH;FMTTYPE=image/webp:https://www.pottsvillelibrary.org/wp-content/uploads/2025/07/GWC-Fall-2025.webp
ORGANIZER;CN="PFPL":MAILTO:potpublib@pottsvillelibrary.org
END:VEVENT
BEGIN:VEVENT
DTSTART;TZID=UTC:20251101T090000
DTEND;TZID=UTC:20251101T120000
DTSTAMP:20260425T155258
CREATED:20250825T133131Z
LAST-MODIFIED:20250825T133131Z
UID:3908-1761987600-1761998400@www.pottsvillelibrary.org
SUMMARY:Open Arcade
DESCRIPTION:The Pottsville Free Public Library is opening up our arcade-style games like foosball\, billiards and a basketball shoot to everyone one day a week. No quarters required! Join us in the Library’s basement on Saturday mornings from 9 AM-12 PM. All ages and families are welcome (kids 8 and under need to have their parent or guardian with them).
URL:https://www.pottsvillelibrary.org/event/open-arcade-30/
LOCATION:Pottsville Library\, 215 W Market St\, Pottsville\, 17901\, United States
ATTACH;FMTTYPE=image/webp:https://www.pottsvillelibrary.org/wp-content/uploads/2025/08/Open-Arcade.webp
ORGANIZER;CN="PFPL":MAILTO:potpublib@pottsvillelibrary.org
END:VEVENT
BEGIN:VEVENT
DTSTART;TZID=UTC:20251103T103000
DTEND;TZID=UTC:20251103T113000
DTSTAMP:20260425T155258
CREATED:20250709T200244Z
LAST-MODIFIED:20250709T200244Z
UID:3686-1762165800-1762169400@www.pottsvillelibrary.org
SUMMARY:Fall Story Time Mondays
DESCRIPTION:Join us for a story\, songs and a craft for our Fall Story Times on Mondays at 10:30 am running from September 15th until December 8th. Recommended for ages 1-5\, older and younger siblings are always welcome. Register by emailing potchild@pottsvillelibrary.org\, calling 570-622-8880 ext. 12 or coming in and telling us in person.
URL:https://www.pottsvillelibrary.org/event/fall-story-time-mondays-8/
LOCATION:Pottsville Library\, 215 W Market St\, Pottsville\, 17901\, United States
ATTACH;FMTTYPE=image/webp:https://www.pottsvillelibrary.org/wp-content/uploads/2025/07/Fall-2025-Storytime.webp
ORGANIZER;CN="PFPL":MAILTO:potpublib@pottsvillelibrary.org
END:VEVENT
BEGIN:VEVENT
DTSTART;TZID=UTC:20251103T120000
DTEND;TZID=UTC:20251103T140000
DTSTAMP:20260425T155258
CREATED:20241203T150235Z
LAST-MODIFIED:20241203T150235Z
UID:2718-1762171200-1762178400@www.pottsvillelibrary.org
SUMMARY:Used Book Sale
DESCRIPTION:Visit our monthly used book sale in the basement of the Library from 12-2 on on the 1st Monday of each month. Thank you to the Friends of the Pottsville Free Public Library for hosting our used book sales!
URL:https://www.pottsvillelibrary.org/event/used-book-sale-24/
LOCATION:Library – Basement\, 215 W. Market St.\, Pottsville\, PA\, 17901\, United States
ATTACH;FMTTYPE=image/png:https://www.pottsvillelibrary.org/wp-content/uploads/2024/12/Book-Sale.png
ORGANIZER;CN="PFPL":MAILTO:potpublib@pottsvillelibrary.org
END:VEVENT
BEGIN:VEVENT
DTSTART;TZID=UTC:20251103T140000
DTEND;TZID=UTC:20251103T150000
DTSTAMP:20260425T155258
CREATED:20250917T182419Z
LAST-MODIFIED:20250917T182419Z
UID:3991-1762178400-1762182000@www.pottsvillelibrary.org
SUMMARY:Build Your Brain Bingo with Stacie Renninger from Providence Place
DESCRIPTION:Stick around after the Library’s monthly used book sale for a game of Bingo hosted by Stacie Renninger from Providence Place Senior Living. Stacie will have information & resources on dementia\, plus host a brain building bingo activity. Bingo is free to attend. Bingo will start on Monday\, November 3rd at 2PM in the library basement.
URL:https://www.pottsvillelibrary.org/event/build-your-brain-bingo-with-stacie-renninger-from-providence-place/
LOCATION:Library – Basement\, 215 W. Market St.\, Pottsville\, PA\, 17901\, United States
ATTACH;FMTTYPE=image/jpeg:https://www.pottsvillelibrary.org/wp-content/uploads/2025/09/Providence-Place.jpg
ORGANIZER;CN="PFPL":MAILTO:potpublib@pottsvillelibrary.org
END:VEVENT
BEGIN:VEVENT
DTSTART;TZID=UTC:20251103T163000
DTEND;TZID=UTC:20251103T190000
DTSTAMP:20260425T155258
CREATED:20250712T184412Z
LAST-MODIFIED:20250712T184412Z
UID:3779-1762187400-1762196400@www.pottsvillelibrary.org
SUMMARY:Magic the Gathering Monday
DESCRIPTION:Come join us at the Pottsville Free Public Library for our monthly Magic the Gathering Night on Monday November 3rd at 4:30 pm where we will be playing in the commander format. Don’t know very much about Magic the Gathering but want to learn a little more\, come in and we’ll take the time to introduce you to the rules and cards\, which can then be used to play. To register email potchild@pottsvillelibrary.org\, call 570-622-8880 ext. 12 or come and tell us in person. Recommended for ages 11 and up
URL:https://www.pottsvillelibrary.org/event/magic-the-gathering-monday-4/
LOCATION:Library – Basement\, 215 W. Market St.\, Pottsville\, PA\, 17901\, United States
ATTACH;FMTTYPE=image/webp:https://www.pottsvillelibrary.org/wp-content/uploads/2025/07/Fall-Magic-the-Gathering-Nights.webp
ORGANIZER;CN="PFPL":MAILTO:potpublib@pottsvillelibrary.org
END:VEVENT
BEGIN:VEVENT
DTSTART;TZID=UTC:20251104T163000
DTEND;TZID=UTC:20251104T173000
DTSTAMP:20260425T155258
CREATED:20250712T192831Z
LAST-MODIFIED:20250712T192831Z
UID:3800-1762273800-1762277400@www.pottsvillelibrary.org
SUMMARY:Robot Refresh
DESCRIPTION:Come to the Pottsville Free Public Library to explore robotics and coding with the library’s robotics STEM kits. Recommended for ages 6-12. Please email potchild@pottsvillelibrary.org\, call 570-622-8880 ext. 12 or come to the library and talk to us to register or for more information.
URL:https://www.pottsvillelibrary.org/event/robot-refresh-8/
LOCATION:Pottsville Library\, 215 W Market St\, Pottsville\, 17901\, United States
ATTACH;FMTTYPE=image/webp:https://www.pottsvillelibrary.org/wp-content/uploads/2025/07/Robot-Refresh-2025.webp
ORGANIZER;CN="PFPL":MAILTO:potpublib@pottsvillelibrary.org
END:VEVENT
BEGIN:VEVENT
DTSTART;TZID=UTC:20251105T163000
DTEND;TZID=UTC:20251105T180000
DTSTAMP:20260425T155258
CREATED:20250709T202228Z
LAST-MODIFIED:20250709T202228Z
UID:3731-1762360200-1762365600@www.pottsvillelibrary.org
SUMMARY:Girls Who Code
DESCRIPTION:Come to the Pottsville Free Public Library and learn coding with your peers. Recommended for ages 12-18 for coders with no experience\, limited experience or those in need of a refresher. Not a girl\, not a problem\, girls who code is open to any aspiring young coder. To register email potchild@pottsvillelibrary.org\, call 570-622-8880 ext 12 or come to the library and tell us in person.
URL:https://www.pottsvillelibrary.org/event/girls-who-code-18/
LOCATION:Pottsville Library\, 215 W Market St\, Pottsville\, 17901\, United States
ATTACH;FMTTYPE=image/webp:https://www.pottsvillelibrary.org/wp-content/uploads/2025/07/GWC-Fall-2025.webp
ORGANIZER;CN="PFPL":MAILTO:potpublib@pottsvillelibrary.org
END:VEVENT
BEGIN:VEVENT
DTSTART;TZID=UTC:20251108T090000
DTEND;TZID=UTC:20251108T120000
DTSTAMP:20260425T155258
CREATED:20250825T133228Z
LAST-MODIFIED:20250825T133228Z
UID:3911-1762592400-1762603200@www.pottsvillelibrary.org
SUMMARY:Open Arcade
DESCRIPTION:The Pottsville Free Public Library is opening up our arcade-style games like foosball\, billiards and a basketball shoot to everyone one day a week. No quarters required! Join us in the Library’s basement on Saturday mornings from 9 AM-12 PM. All ages and families are welcome (kids 8 and under need to have their parent or guardian with them).
URL:https://www.pottsvillelibrary.org/event/open-arcade-31/
LOCATION:Pottsville Library\, 215 W Market St\, Pottsville\, 17901\, United States
ATTACH;FMTTYPE=image/webp:https://www.pottsvillelibrary.org/wp-content/uploads/2025/08/Open-Arcade.webp
ORGANIZER;CN="PFPL":MAILTO:potpublib@pottsvillelibrary.org
END:VEVENT
BEGIN:VEVENT
DTSTART;TZID=UTC:20251108T110000
DTEND;TZID=UTC:20251108T120000
DTSTAMP:20260425T155258
CREATED:20250821T212310Z
LAST-MODIFIED:20250821T212310Z
UID:3862-1762599600-1762603200@www.pottsvillelibrary.org
SUMMARY:Drawing Story Time
DESCRIPTION:Join us at the Pottsville Free Public Library for a Saturday Story Time celebrating drawing. Come for songs\, a read aloud and\, of course\, drawing. Registration recommended\, please email potchild@pottsvillelibrary.org\, call 570-622-8880 ext. 12 or come to the library in person and tell us.
URL:https://www.pottsvillelibrary.org/event/drawing-story-time/
LOCATION:Pottsville Library\, 215 W Market St\, Pottsville\, 17901\, United States
ATTACH;FMTTYPE=image/webp:https://www.pottsvillelibrary.org/wp-content/uploads/2025/08/Drawing-Storytime.webp
ORGANIZER;CN="PFPL":MAILTO:potpublib@pottsvillelibrary.org
END:VEVENT
BEGIN:VEVENT
DTSTART;TZID=UTC:20251108T140000
DTEND;TZID=UTC:20251108T160000
DTSTAMP:20260425T155258
CREATED:20250827T194535Z
LAST-MODIFIED:20250828T123618Z
UID:3971-1762610400-1762617600@www.pottsvillelibrary.org
SUMMARY:A Day of Chess
DESCRIPTION:Join us at the Pottsville Free Public Library on Saturday\, November 8th at 2 pm for a day of chess in celebration of International Games Month. Whether you want to learn how to play or are just looking for someone to play with. Open to all ages\, registration recommended by emailing potchild@pottsvillelibrary.org\, calling 570-622-8880 ext. 12 or coming to the library and telling us in person.
URL:https://www.pottsvillelibrary.org/event/a-day-of-chess/
LOCATION:Pottsville Library\, 215 W Market St\, Pottsville\, 17901\, United States
ATTACH;FMTTYPE=image/webp:https://www.pottsvillelibrary.org/wp-content/uploads/2025/08/Chess_Night_2025-1.webp
ORGANIZER;CN="PFPL":MAILTO:potpublib@pottsvillelibrary.org
END:VEVENT
BEGIN:VEVENT
DTSTART;TZID=UTC:20251110T103000
DTEND;TZID=UTC:20251110T113000
DTSTAMP:20260425T155258
CREATED:20250709T200333Z
LAST-MODIFIED:20250709T200333Z
UID:3689-1762770600-1762774200@www.pottsvillelibrary.org
SUMMARY:Fall Story Time Mondays
DESCRIPTION:Join us for a story\, songs and a craft for our Fall Story Times on Mondays at 10:30 am running from September 15th until December 8th. Recommended for ages 1-5\, older and younger siblings are always welcome. Register by emailing potchild@pottsvillelibrary.org\, calling 570-622-8880 ext. 12 or coming in and telling us in person.
URL:https://www.pottsvillelibrary.org/event/fall-story-time-mondays-9/
LOCATION:Pottsville Library\, 215 W Market St\, Pottsville\, 17901\, United States
ATTACH;FMTTYPE=image/webp:https://www.pottsvillelibrary.org/wp-content/uploads/2025/07/Fall-2025-Storytime.webp
ORGANIZER;CN="PFPL":MAILTO:potpublib@pottsvillelibrary.org
END:VEVENT
BEGIN:VEVENT
DTSTART;TZID=UTC:20251111T173000
DTEND;TZID=UTC:20251111T190000
DTSTAMP:20260425T155258
CREATED:20250821T211856Z
LAST-MODIFIED:20250821T211856Z
UID:3859-1762882200-1762887600@www.pottsvillelibrary.org
SUMMARY:Dog Man Party
DESCRIPTION:Join us at the Pottsville Free Public Library to celebrate the release of the 14th book in the Dog Man series. There will be Dog Man themed crafts and activities as well as a chance to win your own copy of the book. Recommended for ages 5-15. Registration appreciated\, email potchild@pottsvillelibrary.org\, call 570-622-8880 ext. 12 or come in and tell us in person.
URL:https://www.pottsvillelibrary.org/event/dog-man-party/
LOCATION:Pottsville Library\, 215 W Market St\, Pottsville\, 17901\, United States
ATTACH;FMTTYPE=image/webp:https://www.pottsvillelibrary.org/wp-content/uploads/2025/08/Dog-Man-Party.webp
ORGANIZER;CN="PFPL":MAILTO:potpublib@pottsvillelibrary.org
END:VEVENT
BEGIN:VEVENT
DTSTART;TZID=UTC:20251112T163000
DTEND;TZID=UTC:20251112T180000
DTSTAMP:20260425T155258
CREATED:20250709T202311Z
LAST-MODIFIED:20250709T202311Z
UID:3733-1762965000-1762970400@www.pottsvillelibrary.org
SUMMARY:Girls Who Code
DESCRIPTION:Come to the Pottsville Free Public Library and learn coding with your peers. Recommended for ages 12-18 for coders with no experience\, limited experience or those in need of a refresher. Not a girl\, not a problem\, girls who code is open to any aspiring young coder. To register email potchild@pottsvillelibrary.org\, call 570-622-8880 ext 12 or come to the library and tell us in person.
URL:https://www.pottsvillelibrary.org/event/girls-who-code-19/
LOCATION:Pottsville Library\, 215 W Market St\, Pottsville\, 17901\, United States
ATTACH;FMTTYPE=image/webp:https://www.pottsvillelibrary.org/wp-content/uploads/2025/07/GWC-Fall-2025.webp
ORGANIZER;CN="PFPL":MAILTO:potpublib@pottsvillelibrary.org
END:VEVENT
BEGIN:VEVENT
DTSTART;TZID=UTC:20251115T090000
DTEND;TZID=UTC:20251115T120000
DTSTAMP:20260425T155258
CREATED:20250825T133324Z
LAST-MODIFIED:20250825T133324Z
UID:3914-1763197200-1763208000@www.pottsvillelibrary.org
SUMMARY:Open Arcade
DESCRIPTION:The Pottsville Free Public Library is opening up our arcade-style games like foosball\, billiards and a basketball shoot to everyone one day a week. No quarters required! Join us in the Library’s basement on Saturday mornings from 9 AM-12 PM. All ages and families are welcome (kids 8 and under need to have their parent or guardian with them).
URL:https://www.pottsvillelibrary.org/event/open-arcade-32/
LOCATION:Pottsville Library\, 215 W Market St\, Pottsville\, 17901\, United States
ATTACH;FMTTYPE=image/webp:https://www.pottsvillelibrary.org/wp-content/uploads/2025/08/Open-Arcade.webp
ORGANIZER;CN="PFPL":MAILTO:potpublib@pottsvillelibrary.org
END:VEVENT
BEGIN:VEVENT
DTSTART;TZID=UTC:20251117T103000
DTEND;TZID=UTC:20251117T113000
DTSTAMP:20260425T155258
CREATED:20250709T200416Z
LAST-MODIFIED:20250709T200416Z
UID:3692-1763375400-1763379000@www.pottsvillelibrary.org
SUMMARY:Fall Story Time Mondays
DESCRIPTION:Join us for a story\, songs and a craft for our Fall Story Times on Mondays at 10:30 am running from September 15th until December 8th. Recommended for ages 1-5\, older and younger siblings are always welcome. Register by emailing potchild@pottsvillelibrary.org\, calling 570-622-8880 ext. 12 or coming in and telling us in person.
URL:https://www.pottsvillelibrary.org/event/fall-story-time-mondays-10/
LOCATION:Pottsville Library\, 215 W Market St\, Pottsville\, 17901\, United States
ATTACH;FMTTYPE=image/webp:https://www.pottsvillelibrary.org/wp-content/uploads/2025/07/Fall-2025-Storytime.webp
ORGANIZER;CN="PFPL":MAILTO:potpublib@pottsvillelibrary.org
END:VEVENT
BEGIN:VEVENT
DTSTART;TZID=UTC:20251118T163000
DTEND;TZID=UTC:20251118T173000
DTSTAMP:20260425T155258
CREATED:20250712T192947Z
LAST-MODIFIED:20250712T192947Z
UID:3803-1763483400-1763487000@www.pottsvillelibrary.org
SUMMARY:Robot Refresh
DESCRIPTION:Come to the Pottsville Free Public Library to explore robotics and coding with the library’s robotics STEM kits. Recommended for ages 6-12. Please email potchild@pottsvillelibrary.org\, call 570-622-8880 ext. 12 or come to the library and talk to us to register or for more information.
URL:https://www.pottsvillelibrary.org/event/robot-refresh-9/
LOCATION:Pottsville Library\, 215 W Market St\, Pottsville\, 17901\, United States
ATTACH;FMTTYPE=image/webp:https://www.pottsvillelibrary.org/wp-content/uploads/2025/07/Robot-Refresh-2025.webp
ORGANIZER;CN="PFPL":MAILTO:potpublib@pottsvillelibrary.org
END:VEVENT
BEGIN:VEVENT
DTSTART;TZID=UTC:20251118T173000
DTEND;TZID=UTC:20251118T190000
DTSTAMP:20260425T155258
CREATED:20250821T212644Z
LAST-MODIFIED:20250821T212644Z
UID:3866-1763487000-1763492400@www.pottsvillelibrary.org
SUMMARY:Book Bingo Family Night
DESCRIPTION:Join us at the Pottsville Free Public Library for book bingo. Be sure to bring a bag for all your winnings. Registration recommended\, email potchild@pottsvillelibrary.org\, call 570-622-8880 ext. 12 or come to the library and tell us in person.
URL:https://www.pottsvillelibrary.org/event/book-bingo-family-night-3/
LOCATION:Pottsville Library\, 215 W Market St\, Pottsville\, 17901\, United States
ATTACH;FMTTYPE=image/webp:https://www.pottsvillelibrary.org/wp-content/uploads/2025/08/Fall-2025-Book-Bingo.webp
ORGANIZER;CN="PFPL":MAILTO:potpublib@pottsvillelibrary.org
END:VEVENT
BEGIN:VEVENT
DTSTART;TZID=UTC:20251119T163000
DTEND;TZID=UTC:20251119T180000
DTSTAMP:20260425T155258
CREATED:20250709T202726Z
LAST-MODIFIED:20250709T202726Z
UID:3736-1763569800-1763575200@www.pottsvillelibrary.org
SUMMARY:Girls Who Code
DESCRIPTION:Come to the Pottsville Free Public Library and learn coding with your peers. Recommended for ages 12-18 for coders with no experience\, limited experience or those in need of a refresher. Not a girl\, not a problem\, girls who code is open to any aspiring young coder. To register email potchild@pottsvillelibrary.org\, call 570-622-8880 ext 12 or come to the library and tell us in person.
URL:https://www.pottsvillelibrary.org/event/girls-who-code-20/
LOCATION:Pottsville Library\, 215 W Market St\, Pottsville\, 17901\, United States
ATTACH;FMTTYPE=image/webp:https://www.pottsvillelibrary.org/wp-content/uploads/2025/07/GWC-Fall-2025.webp
ORGANIZER;CN="PFPL":MAILTO:potpublib@pottsvillelibrary.org
END:VEVENT
BEGIN:VEVENT
DTSTART;TZID=UTC:20251120T160000
DTEND;TZID=UTC:20251120T170000
DTSTAMP:20260425T155258
CREATED:20250826T181755Z
LAST-MODIFIED:20250826T181755Z
UID:3943-1763654400-1763658000@www.pottsvillelibrary.org
SUMMARY:Teen Book Club
DESCRIPTION:Come to the Pottsville Free Public Library to enjoy some recreational reading at our teen book club recommended for ages 10-16 running from 4 pm to 5 pm. We will be meeting the third Thursday of every month through the fall: Sept 18th\, Oct. 16th\, Nov. 20th and Dec. 18th.
URL:https://www.pottsvillelibrary.org/event/teen-book-club-11/
LOCATION:Pottsville Library\, 215 W Market St\, Pottsville\, 17901\, United States
ATTACH;FMTTYPE=image/webp:https://www.pottsvillelibrary.org/wp-content/uploads/2025/08/teen-book-club.webp
ORGANIZER;CN="PFPL":MAILTO:potpublib@pottsvillelibrary.org
END:VEVENT
BEGIN:VEVENT
DTSTART;TZID=UTC:20251120T173000
DTEND;TZID=UTC:20251120T183000
DTSTAMP:20260425T155258
CREATED:20250826T183724Z
LAST-MODIFIED:20250826T183724Z
UID:3956-1763659800-1763663400@www.pottsvillelibrary.org
SUMMARY:Teen Advisory Board
DESCRIPTION:Come to the Pottsville Free Public Library for our Teen Advisory Board. Recommended for ages 12-18. Have a say in what the Youth Services Department adds as far as books\, DVDs\, Video Games\, etc. Also have a say in what sort of programs we offer for teens. We will be meeting on the third Thursday of every month for the fall at 5:30 pm: Sept. 18\, Oct 16\, Nov. 20\, Dec. 18.
URL:https://www.pottsvillelibrary.org/event/teen-advisory-board-8/
LOCATION:Pottsville Library\, 215 W Market St\, Pottsville\, 17901\, United States
ATTACH;FMTTYPE=image/webp:https://www.pottsvillelibrary.org/wp-content/uploads/2025/08/Teen-Advisory-Board.webp
ORGANIZER;CN="PFPL":MAILTO:potpublib@pottsvillelibrary.org
END:VEVENT
BEGIN:VEVENT
DTSTART;TZID=UTC:20251120T173000
DTEND;TZID=UTC:20251120T190000
DTSTAMP:20260425T155258
CREATED:20241203T195558Z
LAST-MODIFIED:20241203T195558Z
UID:2749-1763659800-1763665200@www.pottsvillelibrary.org
SUMMARY:Pageturners Book Club
DESCRIPTION:If you are interested in great books and great conversation–our book club is for you! All are welcome at the Pageturners monthly meeting held the 4th Thursday of each month at 5:30 on the 2nd floor of the Library.
URL:https://www.pottsvillelibrary.org/event/pageturners-book-club-13/
LOCATION:Pottsville Library\, 215 W Market St\, Pottsville\, 17901\, United States
ATTACH;FMTTYPE=image/jpeg:https://www.pottsvillelibrary.org/wp-content/uploads/2024/12/Pageturners-Logo-scaled.jpeg
ORGANIZER;CN="PFPL":MAILTO:potpublib@pottsvillelibrary.org
END:VEVENT
BEGIN:VEVENT
DTSTART;TZID=UTC:20251122T090000
DTEND;TZID=UTC:20251122T120000
DTSTAMP:20260425T155258
CREATED:20250825T133404Z
LAST-MODIFIED:20250825T133404Z
UID:3917-1763802000-1763812800@www.pottsvillelibrary.org
SUMMARY:Open Arcade
DESCRIPTION:The Pottsville Free Public Library is opening up our arcade-style games like foosball\, billiards and a basketball shoot to everyone one day a week. No quarters required! Join us in the Library’s basement on Saturday mornings from 9 AM-12 PM. All ages and families are welcome (kids 8 and under need to have their parent or guardian with them).
URL:https://www.pottsvillelibrary.org/event/open-arcade-33/
LOCATION:Pottsville Library\, 215 W Market St\, Pottsville\, 17901\, United States
ATTACH;FMTTYPE=image/webp:https://www.pottsvillelibrary.org/wp-content/uploads/2025/08/Open-Arcade.webp
ORGANIZER;CN="PFPL":MAILTO:potpublib@pottsvillelibrary.org
END:VEVENT
END:VCALENDAR