BEGIN:VCALENDAR
VERSION:2.0
PRODID:-//Pottsville Free Public Library - ECPv6.15.13//NONSGML v1.0//EN
CALSCALE:GREGORIAN
METHOD:PUBLISH
X-ORIGINAL-URL:https://www.pottsvillelibrary.org
X-WR-CALDESC:Events for Pottsville Free Public Library
REFRESH-INTERVAL;VALUE=DURATION:PT1H
X-Robots-Tag:noindex
X-PUBLISHED-TTL:PT1H
BEGIN:VTIMEZONE
TZID:UTC
BEGIN:STANDARD
TZOFFSETFROM:+0000
TZOFFSETTO:+0000
TZNAME:UTC
DTSTART:20250101T000000
END:STANDARD
END:VTIMEZONE
BEGIN:VEVENT
DTSTART;TZID=UTC:20260820T163000
DTEND;TZID=UTC:20260820T173000
DTSTAMP:20260424T091525
CREATED:20260415T154720Z
LAST-MODIFIED:20260415T154720Z
UID:4920-1787243400-1787247000@www.pottsvillelibrary.org
SUMMARY:Teen Book Club
DESCRIPTION:Looking for a place to read a book and chill with your peers then join us at the Pottsville Free Public Library for our teen book club. Recommended for ages 10-16. Summer is here again\, keep up with your reading\, bring your own book or use one of the ones we have here. We meet the third Thursday of the month\, which for the summer is June 18th\, July 16th and August 20th. Tell us your coming by emailing potchild@pottsvillelibrary.org\, call 570-622-8880 ext. 12 or come to the library and tell us in person.
URL:https://www.pottsvillelibrary.org/event/teen-book-club-20/
LOCATION:Pottsville Library\, 215 W Market St\, Pottsville\, 17901\, United States
ATTACH;FMTTYPE=image/webp:https://www.pottsvillelibrary.org/wp-content/uploads/2026/04/TeenBookClub2026.webp
ORGANIZER;CN="PFPL":MAILTO:potpublib@pottsvillelibrary.org
END:VEVENT
BEGIN:VEVENT
DTSTART;TZID=UTC:20260820T173000
DTEND;TZID=UTC:20260820T183000
DTSTAMP:20260424T091525
CREATED:20260415T160049Z
LAST-MODIFIED:20260415T160049Z
UID:4931-1787247000-1787250600@www.pottsvillelibrary.org
SUMMARY:Teen Advisory Board
DESCRIPTION:Want to have a say in what the library offers to teens\, or do you want to hang out with your peers and do activities and crafts for teens the join our Teen Advisory Board. For ages 12-18. Tell us your coming by emailing potchild@pottsvillelibrary.org\, call 570-622-8880 ext. 12 or come tell us in person. We meet the third Thursday of the month which for the summer is June 18th\, July 16th and August 20th at 5:30 pm.
URL:https://www.pottsvillelibrary.org/event/teen-advisory-board-17/
LOCATION:Pottsville Library\, 215 W Market St\, Pottsville\, 17901\, United States
ATTACH;FMTTYPE=image/webp:https://www.pottsvillelibrary.org/wp-content/uploads/2026/04/TeenAdvisoryBoard2026.webp
ORGANIZER;CN="PFPL":MAILTO:potpublib@pottsvillelibrary.org
END:VEVENT
BEGIN:VEVENT
DTSTART;TZID=UTC:20260827T173000
DTEND;TZID=UTC:20260827T190000
DTSTAMP:20260424T091525
CREATED:20251113T190653Z
LAST-MODIFIED:20251113T190653Z
UID:4081-1787851800-1787857200@www.pottsvillelibrary.org
SUMMARY:Pageturners Book Club Meeting
DESCRIPTION:If you are interested in great books and great conversation–our book club is for you! All are welcome at the Pageturners monthly meeting held the 4th Thursday of each month at 5:30 on the 2nd floor of the Library.
URL:https://www.pottsvillelibrary.org/event/pageturners-book-club-meeting-7/
LOCATION:Pottsville Library\, 215 W Market St\, Pottsville\, 17901\, United States
ATTACH;FMTTYPE=image/jpeg:https://www.pottsvillelibrary.org/wp-content/uploads/2024/12/Pageturners-Logo-scaled.jpeg
ORGANIZER;CN="PFPL":MAILTO:potpublib@pottsvillelibrary.org
END:VEVENT
BEGIN:VEVENT
DTSTART;TZID=UTC:20260829T100000
DTEND;TZID=UTC:20260829T120000
DTSTAMP:20260424T091525
CREATED:20260310T164836Z
LAST-MODIFIED:20260310T164836Z
UID:4621-1787997600-1788004800@www.pottsvillelibrary.org
SUMMARY:Knifty Knitters Scarf Workshop
DESCRIPTION:Learn how to make your own hand knit chunky scarf at the Pottsville Library! Join us Saturday\, August 29th at 10:00 am for complete instructions on making a cozy scarf just in time for fall! You will have choice of 6 stylish colors to match your winter wardrobe. Recommended for ages teen to adult\, and beginners are welcome!  Everyone will leave with a completed scarf. Class will take approximately 2 hours. No tools needed. Fee is $25 per person\, and prepaid registration is due by August 1st. Due to limited space\, payment must be made to reserve spot.
URL:https://www.pottsvillelibrary.org/event/knifty-knitters-scarf-workshop/
LOCATION:Library – Basement\, 215 W. Market St.\, Pottsville\, PA\, 17901\, United States
ATTACH;FMTTYPE=image/jpeg:https://www.pottsvillelibrary.org/wp-content/uploads/2026/03/Knifty-Knitters-Scarf-Workshop.jpg
ORGANIZER;CN="PFPL":MAILTO:potpublib@pottsvillelibrary.org
END:VEVENT
BEGIN:VEVENT
DTSTART;TZID=UTC:20260829T140000
DTEND;TZID=UTC:20260829T160000
DTSTAMP:20260424T091525
CREATED:20260310T164950Z
LAST-MODIFIED:20260310T164950Z
UID:4625-1788012000-1788019200@www.pottsvillelibrary.org
SUMMARY:Knifty Knitters Scarf Workshop
DESCRIPTION:Learn how to make your own hand knit chunky scarf at the Pottsville Library! Join us Saturday\, August 29th at 2:00 pm for complete instructions on making a cozy scarf just in time for fall! You will have choice of 6 stylish colors to match your winter wardrobe. Recommended for ages teen to adult\, and beginners are welcome!  Everyone will leave with a completed scarf. Class will take approximately 2 hours. No tools needed. Fee is $25 per person\, and prepaid registration is due by August 1st. Due to limited space\, payment must be made to reserve spot.
URL:https://www.pottsvillelibrary.org/event/knifty-knitters-scarf-workshop-2/
LOCATION:Library – Basement\, 215 W. Market St.\, Pottsville\, PA\, 17901\, United States
ATTACH;FMTTYPE=image/jpeg:https://www.pottsvillelibrary.org/wp-content/uploads/2026/03/Knifty-Knitters-Scarf-Workshop.jpg
ORGANIZER;CN="PFPL":MAILTO:potpublib@pottsvillelibrary.org
END:VEVENT
BEGIN:VEVENT
DTSTART;TZID=UTC:20260908T120000
DTEND;TZID=UTC:20260908T140000
DTSTAMP:20260424T091525
CREATED:20251113T211845Z
LAST-MODIFIED:20251113T211845Z
UID:4117-1788868800-1788876000@www.pottsvillelibrary.org
SUMMARY:Used Book Sale
DESCRIPTION:Visit our monthly used book sale in the basement of the Library from 12-2 on on the 1st Monday of each month. Thank you to the Friends of the Pottsville Free Public Library for hosting our used book sales!
URL:https://www.pottsvillelibrary.org/event/used-book-sale-35/
LOCATION:Library – Basement\, 215 W. Market St.\, Pottsville\, PA\, 17901\, United States
ATTACH;FMTTYPE=image/png:https://www.pottsvillelibrary.org/wp-content/uploads/2024/12/Book-Sale.png
ORGANIZER;CN="PFPL":MAILTO:potpublib@pottsvillelibrary.org
END:VEVENT
BEGIN:VEVENT
DTSTART;TZID=UTC:20260912T100000
DTEND;TZID=UTC:20260912T150000
DTSTAMP:20260424T091525
CREATED:20260310T182120Z
LAST-MODIFIED:20260310T182120Z
UID:4632-1789207200-1789225200@www.pottsvillelibrary.org
SUMMARY:Cozy Crafters Blanket Workshop
DESCRIPTION:Get ready for fall with your own hand knit chunky blanket! We will be making a throw sized blanket from start to finish–full instruction will be provided (with help along the way\, if needed!). Class size is limited to 10\, so book early! Additional classes may be added if there is demand. Class will run 3 to 5 hours\, so please bring snacks/refreshments for breaks! \nPrepaid registration & yarn color choice is due by August 1st. Payment is required to hold your space. \nRecommended for ages teen to adult. All experience levels are welcome. No tools needed. \nThere are 20 yarn colors to choose from–please see flyer with choices! \nClass will be held Saturday\, September 12th at 10AM. Cost is $65 per person.
URL:https://www.pottsvillelibrary.org/event/cozy-crafters-blanket-workshop-2/
LOCATION:Library – Basement\, 215 W. Market St.\, Pottsville\, PA\, 17901\, United States
ATTACH;FMTTYPE=image/jpeg:https://www.pottsvillelibrary.org/wp-content/uploads/2026/03/Blanket-Workshop-2.jpg
ORGANIZER;CN="PFPL":MAILTO:potpublib@pottsvillelibrary.org
END:VEVENT
BEGIN:VEVENT
DTSTART;TZID=UTC:20260924T173000
DTEND;TZID=UTC:20260924T190000
DTSTAMP:20260424T091525
CREATED:20251113T190753Z
LAST-MODIFIED:20251113T190753Z
UID:4084-1790271000-1790276400@www.pottsvillelibrary.org
SUMMARY:Pageturners Book Club Meeting
DESCRIPTION:If you are interested in great books and great conversation–our book club is for you! All are welcome at the Pageturners monthly meeting held the 4th Thursday of each month at 5:30 on the 2nd floor of the Library.
URL:https://www.pottsvillelibrary.org/event/pageturners-book-club-meeting-8/
LOCATION:Pottsville Library\, 215 W Market St\, Pottsville\, 17901\, United States
ATTACH;FMTTYPE=image/jpeg:https://www.pottsvillelibrary.org/wp-content/uploads/2024/12/Pageturners-Logo-scaled.jpeg
ORGANIZER;CN="PFPL":MAILTO:potpublib@pottsvillelibrary.org
END:VEVENT
BEGIN:VEVENT
DTSTART;TZID=UTC:20260926T100000
DTEND;TZID=UTC:20260926T160000
DTSTAMP:20260424T091525
CREATED:20260129T175433Z
LAST-MODIFIED:20260129T175433Z
UID:4463-1790416800-1790438400@www.pottsvillelibrary.org
SUMMARY:Cozy Crafters Blanket Workshop
DESCRIPTION:Get ready for fall with your own hand knit chunky blanket! We will be making a throw sized blanket from start to finish–full instruction will be provided (with help along the way\, if needed!). Class size is limited to 10\, so book early! Additional classes may be added if there is demand. Class will run 3 to 5 hours\, so please bring snacks/refreshments for breaks! \nPrepaid registration & yarn color choice is due by September 4th. Payment is required to hold your space. \nThere are 20 yarn colors to choose from–please see flyer with choices! \nClass will be held Saturday\, September 26th at 10AM. Cost is $65 per person.  \n 
URL:https://www.pottsvillelibrary.org/event/cozy-crafters-blanket-workshop/
LOCATION:Library – Basement\, 215 W. Market St.\, Pottsville\, PA\, 17901\, United States
ATTACH;FMTTYPE=image/jpeg:https://www.pottsvillelibrary.org/wp-content/uploads/2026/01/Blanket-Workshop-Flyer-scaled.jpeg
ORGANIZER;CN="PFPL":MAILTO:potpublib@pottsvillelibrary.org
END:VEVENT
BEGIN:VEVENT
DTSTART;TZID=UTC:20261005T120000
DTEND;TZID=UTC:20261005T140000
DTSTAMP:20260424T091525
CREATED:20251113T212801Z
LAST-MODIFIED:20251113T212801Z
UID:4122-1791201600-1791208800@www.pottsvillelibrary.org
SUMMARY:Used Book Sale
DESCRIPTION:Visit our monthly used book sale in the basement of the Library from 12-2 on on the 1st Monday of each month. Thank you to the Friends of the Pottsville Free Public Library for hosting our used book sales!
URL:https://www.pottsvillelibrary.org/event/used-book-sale-36/
LOCATION:Library – Basement\, 215 W. Market St.\, Pottsville\, PA\, 17901\, United States
ATTACH;FMTTYPE=image/png:https://www.pottsvillelibrary.org/wp-content/uploads/2024/12/Book-Sale.png
ORGANIZER;CN="PFPL":MAILTO:potpublib@pottsvillelibrary.org
END:VEVENT
BEGIN:VEVENT
DTSTART;TZID=UTC:20261006T170000
DTEND;TZID=UTC:20261006T190000
DTSTAMP:20260424T091525
CREATED:20260313T175424Z
LAST-MODIFIED:20260313T175424Z
UID:4643-1791306000-1791313200@www.pottsvillelibrary.org
SUMMARY:Tarot Tuesdays
DESCRIPTION:Find out what the future has in store for you at Tarot Tuesdays! Fortune’s Favour will be here doing 15 minute personalized readings just for you! Bookings start at 5PM\, so book early to get the timeslot you want. Readings are $20 each. Prepaid registration is required by October 1st. Available dates are Tuesday\, October 6th and Tuesday\, October 20th. Call the library to book\, or book online via our Facebook event page.
URL:https://www.pottsvillelibrary.org/event/tarot-tuesdays-8/
LOCATION:Pottsville Library\, 215 W Market St\, Pottsville\, 17901\, United States
ATTACH;FMTTYPE=image/jpeg:https://www.pottsvillelibrary.org/wp-content/uploads/2026/03/Tarot-Tuesdays-flyer.jpg
ORGANIZER;CN="PFPL":MAILTO:potpublib@pottsvillelibrary.org
END:VEVENT
BEGIN:VEVENT
DTSTART;TZID=UTC:20261013T180000
DTEND;TZID=UTC:20261013T190000
DTSTAMP:20260424T091525
CREATED:20260312T181255Z
LAST-MODIFIED:20260312T181255Z
UID:4639-1791914400-1791918000@www.pottsvillelibrary.org
SUMMARY:Eric Mintel Investigates: Paranormal Presentation
DESCRIPTION:Join Eric Mintel\, lead investigator of Eric Mintel Investigates\, and spirit medium Dominic Sattele for a fascinating presentation on ghosts\, UFO’s\, Bigfoot\, and real paranormal investigations. \nSpirit Medium Dominic Sattelle will be available for personalized readings for a $25 fee. Please call the Pottsville Library to book in advance\, as there will only be limited timeslots available. \nProgram is October 13th at 6PM. Free to attend.
URL:https://www.pottsvillelibrary.org/event/eric-mintel-investigates-paranormal-presentation/
LOCATION:Pottsville Library\, 215 W Market St\, Pottsville\, 17901\, United States
ATTACH;FMTTYPE=image/jpeg:https://www.pottsvillelibrary.org/wp-content/uploads/2026/03/Eric-Mintel-2026.jpg
ORGANIZER;CN="PFPL":MAILTO:potpublib@pottsvillelibrary.org
END:VEVENT
BEGIN:VEVENT
DTSTART;TZID=UTC:20261014T173000
DTEND;TZID=UTC:20261014T190000
DTSTAMP:20260424T091525
CREATED:20260401T154144Z
LAST-MODIFIED:20260401T154144Z
UID:4688-1791999000-1792004400@www.pottsvillelibrary.org
SUMMARY:Witchy Wednesday: Broom Making Workshop
DESCRIPTION:Fly through witchy season on a brand new handmade broom! This year we are offering two classes\, one on Wednesday\, October 14th at 5:30PM\, and one on Wednesday\, October 21st at 5:30PM. The class includes basic supplies including broomstick\, broomcorn\, twine\, and full instruction.  You are encouraged to bring dried/artificial flowers\, charms\, ribbons\, lights\, or whatever you’d like to decorate your custom broom.  Class size is limited\, so get your tickets early! Pre-paid registration is due by September 1st. Cost is $50 per person.
URL:https://www.pottsvillelibrary.org/event/witchy-wednesday-broom-making-workshop-4/
LOCATION:Library – Basement\, 215 W. Market St.\, Pottsville\, PA\, 17901\, United States
ATTACH;FMTTYPE=image/jpeg:https://www.pottsvillelibrary.org/wp-content/uploads/2026/04/Broom-Workshop-Flyer.jpg
ORGANIZER;CN="PFPL":MAILTO:potpublib@pottsvillelibrary.org
END:VEVENT
BEGIN:VEVENT
DTSTART;TZID=UTC:20261015T173000
DTEND;TZID=UTC:20261015T190000
DTSTAMP:20260424T091525
CREATED:20260316T200406Z
LAST-MODIFIED:20260316T200406Z
UID:4655-1792085400-1792090800@www.pottsvillelibrary.org
SUMMARY:Witches of the Coal Region and Keystone State
DESCRIPTION:Join us on Thursday\, October 15th at 5:30PM for a very special free presentation from Haunted Anthracite Tales–the Witches of the Coal Region and Keystone State! \nWitches of the Coal-Region and Keystone State is a captivating 75-minute program that explores the dark folklore\, chilling legends\, and documented history of witchcraft in Pennsylvania’s coal country and beyond. From whispered curses to courtroom accusations\, this program examines how fear\, superstition\, and belief shaped communities across the region. \nHear the haunting story of Hex Hollow\, uncover the full legend of the Ringtown Witch\, and revisit Pennsylvania’s most famous witch trials. The program also explores the traditions of Hexerei (Powwow folk magic)\, beliefs surrounding witchcraft and the evil eye\, and the local events that kept these fears alive. Blending history with folklore\, Witches of the Coal-Region and Keystone State reveals a spellbinding chapter of the Keystone State’s past that continues to fascinate today. \nProgram is free to attend.
URL:https://www.pottsvillelibrary.org/event/witches-of-the-coal-region-and-keystone-state/
LOCATION:Pottsville Library\, 215 W Market St\, Pottsville\, 17901\, United States
ATTACH;FMTTYPE=image/jpeg:https://www.pottsvillelibrary.org/wp-content/uploads/2026/03/Witches-of-the-Coal-Region.jpg
ORGANIZER;CN="PFPL":MAILTO:potpublib@pottsvillelibrary.org
END:VEVENT
BEGIN:VEVENT
DTSTART;TZID=UTC:20261020T170000
DTEND;TZID=UTC:20261020T190000
DTSTAMP:20260424T091525
CREATED:20260313T175538Z
LAST-MODIFIED:20260313T175538Z
UID:4647-1792515600-1792522800@www.pottsvillelibrary.org
SUMMARY:Tarot Tuesdays
DESCRIPTION:Find out what the future has in store for you at Tarot Tuesdays! Fortune’s Favour will be here doing 15 minute personalized readings just for you! Bookings start at 5PM\, so book early to get the timeslot you want. Readings are $20 each. Prepaid registration is required by October 1st. Available dates are Tuesday\, October 6th and Tuesday\, October 20th. Call the library to book\, or book online via our Facebook event page.
URL:https://www.pottsvillelibrary.org/event/tarot-tuesdays-9/
LOCATION:Pottsville Library\, 215 W Market St\, Pottsville\, 17901\, United States
ATTACH;FMTTYPE=image/jpeg:https://www.pottsvillelibrary.org/wp-content/uploads/2026/03/Tarot-Tuesdays-flyer.jpg
ORGANIZER;CN="PFPL":MAILTO:potpublib@pottsvillelibrary.org
END:VEVENT
BEGIN:VEVENT
DTSTART;TZID=UTC:20261021T173000
DTEND;TZID=UTC:20261021T190000
DTSTAMP:20260424T091525
CREATED:20260401T154306Z
LAST-MODIFIED:20260401T154306Z
UID:4691-1792603800-1792609200@www.pottsvillelibrary.org
SUMMARY:Witchy Wednesday: Broom Making Workshop
DESCRIPTION:Fly through witchy season on a brand new handmade broom! This year we are offering two classes\, one on Wednesday\, October 14th at 5:30PM\, and one on Wednesday\, October 21st at 5:30PM. The class includes basic supplies including broomstick\, broomcorn\, twine\, and full instruction.  You are encouraged to bring dried/artificial flowers\, charms\, ribbons\, lights\, or whatever you’d like to decorate your custom broom.  Class size is limited\, so get your tickets early! Pre-paid registration is due by September 1st. Cost is $50 per person.
URL:https://www.pottsvillelibrary.org/event/witchy-wednesday-broom-making-workshop-5/
LOCATION:Library – Basement\, 215 W. Market St.\, Pottsville\, PA\, 17901\, United States
ATTACH;FMTTYPE=image/jpeg:https://www.pottsvillelibrary.org/wp-content/uploads/2026/04/Broom-Workshop-Flyer.jpg
ORGANIZER;CN="PFPL":MAILTO:potpublib@pottsvillelibrary.org
END:VEVENT
BEGIN:VEVENT
DTSTART;TZID=UTC:20261022T173000
DTEND;TZID=UTC:20261022T190000
DTSTAMP:20260424T091525
CREATED:20251113T190858Z
LAST-MODIFIED:20251113T190858Z
UID:4087-1792690200-1792695600@www.pottsvillelibrary.org
SUMMARY:Pageturners Book Club Meeting
DESCRIPTION:If you are interested in great books and great conversation–our book club is for you! All are welcome at the Pageturners monthly meeting held the 4th Thursday of each month at 5:30 on the 2nd floor of the Library.
URL:https://www.pottsvillelibrary.org/event/pageturners-book-club-meeting-9/
LOCATION:Pottsville Library\, 215 W Market St\, Pottsville\, 17901\, United States
ATTACH;FMTTYPE=image/jpeg:https://www.pottsvillelibrary.org/wp-content/uploads/2024/12/Pageturners-Logo-scaled.jpeg
ORGANIZER;CN="PFPL":MAILTO:potpublib@pottsvillelibrary.org
END:VEVENT
BEGIN:VEVENT
DTSTART;TZID=UTC:20261022T173000
DTEND;TZID=UTC:20261022T190000
DTSTAMP:20260424T091525
CREATED:20260325T201047Z
LAST-MODIFIED:20260325T201047Z
UID:4684-1792690200-1792695600@www.pottsvillelibrary.org
SUMMARY:Ghosts of the Molly Maguires with Haunted Anthracite Tales
DESCRIPTION:Join us for a free program presented by Haunted Anthracite Tales discussing the Ghosts of the Molly Maguires! Program will be on Thursday\, October 22nd\, at 5:30PM. \nGhosts of the Molly Maguires is a 75-minute program that uncovers the dark and disputed legacy of the Molly Maguires in Pennsylvania’s Anthracite Coal Region. Through gripping storytelling\, audiences will hear tales of murders\, secret meetings\, and the mysteries that surrounded the group’s activities during the turbulent coal wars of the 19th century. \nThe program explores the bitter labor conflicts\, controversial trials\, and executions that continue to divide historians\, while also delving into lingering legends and reported hauntings tied to former mining towns and historic sites. Blending documented history with chilling folklore\, Ghosts of the Molly Maguires brings to life a shadowed chapter filled with violence\, intrigue\, and unanswered questions that still echo today.
URL:https://www.pottsvillelibrary.org/event/ghosts-of-the-molly-maguires-with-haunted-anthracite-tales/
LOCATION:Pottsville Library\, 215 W Market St\, Pottsville\, 17901\, United States
ATTACH;FMTTYPE=image/jpeg:https://www.pottsvillelibrary.org/wp-content/uploads/2026/03/Ghosts-of-the-Molly-Maguires.jpg
ORGANIZER;CN="PFPL":MAILTO:potpublib@pottsvillelibrary.org
END:VEVENT
BEGIN:VEVENT
DTSTART;TZID=UTC:20261102T120000
DTEND;TZID=UTC:20261102T140000
DTSTAMP:20260424T091525
CREATED:20251113T212910Z
LAST-MODIFIED:20251113T212910Z
UID:4125-1793620800-1793628000@www.pottsvillelibrary.org
SUMMARY:Used Book Sale
DESCRIPTION:Visit our monthly used book sale in the basement of the Library from 12-2 on on the 1st Monday of each month. Thank you to the Friends of the Pottsville Free Public Library for hosting our used book sales!
URL:https://www.pottsvillelibrary.org/event/used-book-sale-37/
LOCATION:Library – Basement\, 215 W. Market St.\, Pottsville\, PA\, 17901\, United States
ATTACH;FMTTYPE=image/png:https://www.pottsvillelibrary.org/wp-content/uploads/2024/12/Book-Sale.png
ORGANIZER;CN="PFPL":MAILTO:potpublib@pottsvillelibrary.org
END:VEVENT
BEGIN:VEVENT
DTSTART;TZID=UTC:20261119T173000
DTEND;TZID=UTC:20261119T190000
DTSTAMP:20260424T091525
CREATED:20251113T191005Z
LAST-MODIFIED:20251113T191005Z
UID:4090-1795109400-1795114800@www.pottsvillelibrary.org
SUMMARY:Pageturners Book Club Meeting
DESCRIPTION:If you are interested in great books and great conversation–our book club is for you! All are welcome at the Pageturners monthly meeting held the 4th Thursday of each month at 5:30 on the 2nd floor of the Library.
URL:https://www.pottsvillelibrary.org/event/pageturners-book-club-meeting-10/
LOCATION:Pottsville Library\, 215 W Market St\, Pottsville\, 17901\, United States
ATTACH;FMTTYPE=image/jpeg:https://www.pottsvillelibrary.org/wp-content/uploads/2024/12/Pageturners-Logo-scaled.jpeg
ORGANIZER;CN="PFPL":MAILTO:potpublib@pottsvillelibrary.org
END:VEVENT
BEGIN:VEVENT
DTSTART;TZID=UTC:20261207T120000
DTEND;TZID=UTC:20261207T140000
DTSTAMP:20260424T091525
CREATED:20251113T213015Z
LAST-MODIFIED:20251113T213015Z
UID:4128-1796644800-1796652000@www.pottsvillelibrary.org
SUMMARY:Used Book Sale
DESCRIPTION:Visit our monthly used book sale in the basement of the Library from 12-2 on on the 1st Monday of each month. Thank you to the Friends of the Pottsville Free Public Library for hosting our used book sales!
URL:https://www.pottsvillelibrary.org/event/used-book-sale-38/
LOCATION:Library – Basement\, 215 W. Market St.\, Pottsville\, PA\, 17901\, United States
ATTACH;FMTTYPE=image/png:https://www.pottsvillelibrary.org/wp-content/uploads/2024/12/Book-Sale.png
ORGANIZER;CN="PFPL":MAILTO:potpublib@pottsvillelibrary.org
END:VEVENT
END:VCALENDAR