BEGIN:VCALENDAR
VERSION:2.0
PRODID:-//Pottsville Free Public Library - ECPv6.15.13//NONSGML v1.0//EN
CALSCALE:GREGORIAN
METHOD:PUBLISH
X-WR-CALNAME:Pottsville Free Public Library
X-ORIGINAL-URL:https://www.pottsvillelibrary.org
X-WR-CALDESC:Events for Pottsville Free Public Library
REFRESH-INTERVAL;VALUE=DURATION:PT1H
X-Robots-Tag:noindex
X-PUBLISHED-TTL:PT1H
BEGIN:VTIMEZONE
TZID:UTC
BEGIN:STANDARD
TZOFFSETFROM:+0000
TZOFFSETTO:+0000
TZNAME:UTC
DTSTART:20230101T000000
END:STANDARD
END:VTIMEZONE
BEGIN:VEVENT
DTSTART;TZID=UTC:20240708T103000
DTEND;TZID=UTC:20240708T113000
DTSTAMP:20260425T154657
CREATED:20240430T155507Z
LAST-MODIFIED:20240430T155507Z
UID:2099-1720434600-1720438200@www.pottsvillelibrary.org
SUMMARY:Storytime
DESCRIPTION:Join us on Monday mornings at 10:30 for Storytime! Recommended for children up to 5 years & their caregivers. Older siblings are always welcome! Summer session runs from Monday\, June 17th to Monday\, August 5th. Email potpublib@pottsvillelibrary.org with names and ages of children attending to register.
URL:https://www.pottsvillelibrary.org/event/storytime-9/
LOCATION:Pottsville Library\, 215 W Market St\, Pottsville\, 17901\, United States
ATTACH;FMTTYPE=image/jpeg:https://www.pottsvillelibrary.org/wp-content/uploads/2024/04/Summer-Storytime-24.jpg
ORGANIZER;CN="PFPL":MAILTO:potpublib@pottsvillelibrary.org
END:VEVENT
BEGIN:VEVENT
DTSTART;TZID=UTC:20240703T110000
DTEND;TZID=UTC:20240703T120000
DTSTAMP:20260425T154657
CREATED:20240531T180831Z
LAST-MODIFIED:20240531T180831Z
UID:2238-1720004400-1720008000@www.pottsvillelibrary.org
SUMMARY:Kids Craft Hour--Make Your Own Bookmark
DESCRIPTION:Wednesday craft hour is recommended for ages 12 & under.  All supplies included.
URL:https://www.pottsvillelibrary.org/event/kids-craft-hour-make-your-own-bookmark/
LOCATION:Pottsville Library\, 215 W Market St\, Pottsville\, 17901\, United States
ATTACH;FMTTYPE=image/webp:https://www.pottsvillelibrary.org/wp-content/uploads/2024/05/Make-your-own-bookmark.webp
ORGANIZER;CN="PFPL":MAILTO:potpublib@pottsvillelibrary.org
END:VEVENT
BEGIN:VEVENT
DTSTART;TZID=UTC:20240702T173000
DTEND;TZID=UTC:20240702T190000
DTSTAMP:20260425T154657
CREATED:20240321T185450Z
LAST-MODIFIED:20240321T185450Z
UID:1926-1719941400-1719946800@www.pottsvillelibrary.org
SUMMARY:Family Book Bingo
DESCRIPTION:Join us for another night of Family Book Bingo! There will be prizes appropriate for all ages.  FREE to play! Remember to bring a bag for your winnings! Tuesday\, July 2nd at 5:30 PM.  Please register by emailing potpublib@pottsvillelibrary.org.
URL:https://www.pottsvillelibrary.org/event/family-book-bingo-3/
LOCATION:Pottsville Library\, 215 W Market St\, Pottsville\, 17901\, United States
ATTACH;FMTTYPE=image/jpeg:https://www.pottsvillelibrary.org/wp-content/uploads/2024/03/Family-Book-Bingo-July-24.jpg
ORGANIZER;CN="PFPL":MAILTO:potpublib@pottsvillelibrary.org
END:VEVENT
BEGIN:VEVENT
DTSTART;TZID=UTC:20240701T120000
DTEND;TZID=UTC:20240701T140000
DTSTAMP:20260425T154657
CREATED:20240430T181127Z
LAST-MODIFIED:20240430T181127Z
UID:2117-1719835200-1719842400@www.pottsvillelibrary.org
SUMMARY:Used Book Sale
DESCRIPTION:Visit our monthly used book sale in the basement of the Library from 12-2 on Monday\, July 1st\, 2024. Thank you to the Friends of the Pottsville Free Public Library for hosting our used book sales!
URL:https://www.pottsvillelibrary.org/event/used-book-sale-8/
LOCATION:Library – Basement\, 215 W. Market St.\, Pottsville\, PA\, 17901\, United States
ATTACH;FMTTYPE=image/png:https://www.pottsvillelibrary.org/wp-content/uploads/2023/11/Book_Sale_Website_Banner.png
ORGANIZER;CN="PFPL":MAILTO:potpublib@pottsvillelibrary.org
END:VEVENT
BEGIN:VEVENT
DTSTART;TZID=UTC:20240701T103000
DTEND;TZID=UTC:20240701T113000
DTSTAMP:20260425T154657
CREATED:20240430T155417Z
LAST-MODIFIED:20240430T155417Z
UID:2096-1719829800-1719833400@www.pottsvillelibrary.org
SUMMARY:Storytime
DESCRIPTION:Join us on Monday mornings at 10:30 for Storytime! Recommended for children up to 5 years & their caregivers. Older siblings are always welcome! Summer session runs from Monday\, June 17th to Monday\, August 5th. Email potpublib@pottsvillelibrary.org with names and ages of children attending to register.
URL:https://www.pottsvillelibrary.org/event/storytime-8/
LOCATION:Pottsville Library\, 215 W Market St\, Pottsville\, 17901\, United States
ATTACH;FMTTYPE=image/jpeg:https://www.pottsvillelibrary.org/wp-content/uploads/2024/04/Summer-Storytime-24.jpg
ORGANIZER;CN="PFPL":MAILTO:potpublib@pottsvillelibrary.org
END:VEVENT
BEGIN:VEVENT
DTSTART;TZID=UTC:20240627T173000
DTEND;TZID=UTC:20240627T190000
DTSTAMP:20260425T154657
CREATED:20240430T182552Z
LAST-MODIFIED:20240430T182552Z
UID:2139-1719509400-1719514800@www.pottsvillelibrary.org
SUMMARY:Pageturners Book Club
DESCRIPTION:If you are interested in great books and great conversation–our book club is for you! All are welcome at the Pageturners monthly meeting held the 4th Thursday of each month at 5:30 on the 2nd floor of the Library.
URL:https://www.pottsvillelibrary.org/event/pageturners-book-club/
LOCATION:Pottsville Library\, 215 W Market St\, Pottsville\, 17901\, United States
ATTACH;FMTTYPE=image/jpeg:https://www.pottsvillelibrary.org/wp-content/uploads/2024/04/Pageturners-Logo-scaled.jpeg
ORGANIZER;CN="PFPL":MAILTO:potpublib@pottsvillelibrary.org
END:VEVENT
BEGIN:VEVENT
DTSTART;TZID=UTC:20240627T110000
DTEND;TZID=UTC:20240627T120000
DTSTAMP:20260425T154657
CREATED:20240531T172934Z
LAST-MODIFIED:20240531T172934Z
UID:2206-1719486000-1719489600@www.pottsvillelibrary.org
SUMMARY:Teen Craft Hour--Blackout Poety
DESCRIPTION:Thursday craft hour is recommended for ages 13-18.  All supplies included.
URL:https://www.pottsvillelibrary.org/event/teen-craft-hour-blackout-poety/
LOCATION:Pottsville Library\, 215 W Market St\, Pottsville\, 17901\, United States
ATTACH;FMTTYPE=image/jpeg:https://www.pottsvillelibrary.org/wp-content/uploads/2024/05/Blackout-Poety.jpg
ORGANIZER;CN="PFPL":MAILTO:potpublib@pottsvillelibrary.org
END:VEVENT
BEGIN:VEVENT
DTSTART;TZID=UTC:20240626T110000
DTEND;TZID=UTC:20240626T120000
DTSTAMP:20260425T154657
CREATED:20240531T180601Z
LAST-MODIFIED:20240531T180601Z
UID:2234-1719399600-1719403200@www.pottsvillelibrary.org
SUMMARY:Kids Craft Hour--DIY Heart Pop Up Cards
DESCRIPTION:Wednesday craft hour is recommended for ages 12 & under.  All supplies included.
URL:https://www.pottsvillelibrary.org/event/kids-craft-hour-diy-heart-pop-up-cards/
LOCATION:Pottsville Library\, 215 W Market St\, Pottsville\, 17901\, United States
ATTACH;FMTTYPE=image/jpeg:https://www.pottsvillelibrary.org/wp-content/uploads/2024/05/Heart-Pop-Up-Card.jpg
ORGANIZER;CN="PFPL":MAILTO:potpublib@pottsvillelibrary.org
END:VEVENT
BEGIN:VEVENT
DTSTART;TZID=UTC:20240625T173000
DTEND;TZID=UTC:20240625T190000
DTSTAMP:20260425T154657
CREATED:20240320T195331Z
LAST-MODIFIED:20240320T195331Z
UID:1919-1719336600-1719342000@www.pottsvillelibrary.org
SUMMARY:Live Wildlife Night with Red Creek Wildlife Center
DESCRIPTION:Visit the Library on Tuesday\, June 25th at 5:30 to see an amazing presentation by Red Creek Wildlife Center.  See and learn about live wildlife! Email to register: potpublib@pottsvillelibrary.org. This program is sponsored by the Friends of the Pottsville Free Public Library.
URL:https://www.pottsvillelibrary.org/event/live-wildlife-night-with-red-creek-wildlife-center-2/
LOCATION:Pottsville Library\, 215 W Market St\, Pottsville\, 17901\, United States
ATTACH;FMTTYPE=image/jpeg:https://www.pottsvillelibrary.org/wp-content/uploads/2024/03/Red-Creek-Wildlife.jpg
ORGANIZER;CN="PFPL":MAILTO:potpublib@pottsvillelibrary.org
END:VEVENT
BEGIN:VEVENT
DTSTART;TZID=UTC:20240624T103000
DTEND;TZID=UTC:20240624T113000
DTSTAMP:20260425T154657
CREATED:20240430T155137Z
LAST-MODIFIED:20240430T155137Z
UID:2093-1719225000-1719228600@www.pottsvillelibrary.org
SUMMARY:Storytime
DESCRIPTION:Join us on Monday mornings at 10:30 for Storytime! Recommended for children up to 5 years & their caregivers. Older siblings are always welcome! Summer session runs from Monday\, June 17th to Monday\, August 5th. Email potpublib@pottsvillelibrary.org with names and ages of children attending to register.
URL:https://www.pottsvillelibrary.org/event/storytime-7/
LOCATION:Pottsville Library\, 215 W Market St\, Pottsville\, 17901\, United States
ATTACH;FMTTYPE=image/jpeg:https://www.pottsvillelibrary.org/wp-content/uploads/2024/04/Summer-Storytime-24.jpg
ORGANIZER;CN="PFPL":MAILTO:potpublib@pottsvillelibrary.org
END:VEVENT
BEGIN:VEVENT
DTSTART;TZID=UTC:20240622T103000
DTEND;TZID=UTC:20240622T113000
DTSTAMP:20260425T154657
CREATED:20240506T152944Z
LAST-MODIFIED:20240506T152944Z
UID:2154-1719052200-1719055800@www.pottsvillelibrary.org
SUMMARY:Saturday Storytime: Gone Camping
DESCRIPTION:Join us for a special Saturday Storytime on June 22nd at 10:30AM! Recommended for children up to 5\, however older siblings are always welcome! Email to register with names and ages of children attending: potpublib@pottsvillelibrary.org
URL:https://www.pottsvillelibrary.org/event/saturday-storytime-gone-camping/
LOCATION:Pottsville Library\, 215 W Market St\, Pottsville\, 17901\, United States
ATTACH;FMTTYPE=image/jpeg:https://www.pottsvillelibrary.org/wp-content/uploads/2024/05/Gone-Camping-ST.jpg
ORGANIZER;CN="PFPL":MAILTO:potpublib@pottsvillelibrary.org
END:VEVENT
BEGIN:VEVENT
DTSTART;TZID=UTC:20240620T110000
DTEND;TZID=UTC:20240620T120000
DTSTAMP:20260425T154657
CREATED:20240531T172822Z
LAST-MODIFIED:20240531T172822Z
UID:2202-1718881200-1718884800@www.pottsvillelibrary.org
SUMMARY:Teen Craft Hour--Coffee Filter Flower Craft
DESCRIPTION:Thursday craft hour is recommended for ages 13-18.  All supplies included.
URL:https://www.pottsvillelibrary.org/event/teen-craft-hour-coffee-filter-flower-craft/
LOCATION:Pottsville Library\, 215 W Market St\, Pottsville\, 17901\, United States
ATTACH;FMTTYPE=image/jpeg:https://www.pottsvillelibrary.org/wp-content/uploads/2024/05/Coffee-Filter-Flower.jpg
ORGANIZER;CN="PFPL":MAILTO:potpublib@pottsvillelibrary.org
END:VEVENT
BEGIN:VEVENT
DTSTART;TZID=UTC:20240619T110000
DTEND;TZID=UTC:20240619T120000
DTSTAMP:20260425T154657
CREATED:20240531T180034Z
LAST-MODIFIED:20240531T180034Z
UID:2230-1718794800-1718798400@www.pottsvillelibrary.org
SUMMARY:Kids Craft Hour--Drawing Postcards
DESCRIPTION:Wednesday craft hour is recommended for ages 12 & under.  All supplies included.
URL:https://www.pottsvillelibrary.org/event/kids-craft-hour-drawing-postcards/
LOCATION:Pottsville Library\, 215 W Market St\, Pottsville\, 17901\, United States
ATTACH;FMTTYPE=image/webp:https://www.pottsvillelibrary.org/wp-content/uploads/2024/05/Drawing-Postcards-scaled.webp
ORGANIZER;CN="PFPL":MAILTO:potpublib@pottsvillelibrary.org
END:VEVENT
BEGIN:VEVENT
DTSTART;TZID=UTC:20240618T173000
DTEND;TZID=UTC:20240618T190000
DTSTAMP:20260425T154657
CREATED:20240320T182118Z
LAST-MODIFIED:20240320T182118Z
UID:1915-1718731800-1718737200@www.pottsvillelibrary.org
SUMMARY:A Night With PT Reptiles
DESCRIPTION:Join us for a meet and greet with some slithering guests! PT Reptiles will be back at the Pottsville Library on Tuesday\, June 18th at 5:30. Please email to register: potpublib@pottsvillelibrary.org.  This event is sponsored by the Friends of the Pottsville Free Public Library.
URL:https://www.pottsvillelibrary.org/event/a-night-with-pt-reptiles-2/
LOCATION:Pottsville Library\, 215 W Market St\, Pottsville\, 17901\, United States
ATTACH;FMTTYPE=image/jpeg:https://www.pottsvillelibrary.org/wp-content/uploads/2024/03/PT-Reptiles.jpg
ORGANIZER;CN="PFPL":MAILTO:potpublib@pottsvillelibrary.org
END:VEVENT
BEGIN:VEVENT
DTSTART;TZID=UTC:20240617T103000
DTEND;TZID=UTC:20240617T113000
DTSTAMP:20260425T154657
CREATED:20240430T155042Z
LAST-MODIFIED:20240430T155042Z
UID:2089-1718620200-1718623800@www.pottsvillelibrary.org
SUMMARY:Storytime
DESCRIPTION:Join us on Monday mornings at 10:30 for Storytime! Recommended for children up to 5 years & their caregivers. Older siblings are always welcome! Summer session runs from Monday\, June 17th to Monday\, August 5th. Email potpublib@pottsvillelibrary.org with names and ages of children attending to register.
URL:https://www.pottsvillelibrary.org/event/storytime-6/
LOCATION:Pottsville Library\, 215 W Market St\, Pottsville\, 17901\, United States
ATTACH;FMTTYPE=image/jpeg:https://www.pottsvillelibrary.org/wp-content/uploads/2024/04/Summer-Storytime-24.jpg
ORGANIZER;CN="PFPL":MAILTO:potpublib@pottsvillelibrary.org
END:VEVENT
BEGIN:VEVENT
DTSTART;TZID=UTC:20240614T110000
DTEND;TZID=UTC:20240614T150000
DTSTAMP:20260425T154657
CREATED:20240117T173151Z
LAST-MODIFIED:20240117T173151Z
UID:1720-1718362800-1718377200@www.pottsvillelibrary.org
SUMMARY:Adopt a Shelter Cat Meet & Greet with Hillside SPCA
DESCRIPTION:Visit the Library on Friday\, June 14th from 11-3 to meet shelter cats from Hillside SPCA! Hillside SPCA will bring kittens and cats for a very special meet and greet at the Library. We will be accepting donations for the shelter from May 1st to June 14th.
URL:https://www.pottsvillelibrary.org/event/adopt-a-shelter-cat-meet-greet-with-hillside-spca/
LOCATION:Pottsville Library\, 215 W Market St\, Pottsville\, 17901\, United States
ATTACH;FMTTYPE=image/jpeg:https://www.pottsvillelibrary.org/wp-content/uploads/2024/01/Adopt-a-Shelter-Cat-2024.jpg
ORGANIZER;CN="PFPL":MAILTO:potpublib@pottsvillelibrary.org
END:VEVENT
BEGIN:VEVENT
DTSTART;TZID=UTC:20240608T110000
DTEND;TZID=UTC:20240608T130000
DTSTAMP:20260425T154657
CREATED:20240604T153828Z
LAST-MODIFIED:20240604T153828Z
UID:2288-1717844400-1717851600@www.pottsvillelibrary.org
SUMMARY:Boscovs Book Bingo
DESCRIPTION:Join us at Boscov’s\, located in the Fairlane Village Mall\, to play Bingo & win books! Bring a bag for your winnings!
URL:https://www.pottsvillelibrary.org/event/boscovs-book-bingo/
LOCATION:Boscov’s Auditorium\, 7290 Fairlane Village Mall\, Pottsville\, PA\, 17901\, United States
ATTACH;FMTTYPE=image/jpeg:https://www.pottsvillelibrary.org/wp-content/uploads/2024/06/Bocovs-Book-Bingo.jpg
ORGANIZER;CN="PFPL":MAILTO:potpublib@pottsvillelibrary.org
END:VEVENT
BEGIN:VEVENT
DTSTART;TZID=UTC:20240603T120000
DTEND;TZID=UTC:20240603T140000
DTSTAMP:20260425T154657
CREATED:20240430T181017Z
LAST-MODIFIED:20240430T181017Z
UID:2114-1717416000-1717423200@www.pottsvillelibrary.org
SUMMARY:Used Book Sale
DESCRIPTION:Visit our monthly used book sale in the basement of the Library from 12-2 on Monday\, June 3rd\, 2024. Thank you to the Friends of the Pottsville Free Public Library for hosting our used book sales!
URL:https://www.pottsvillelibrary.org/event/used-book-sale-7/
LOCATION:Library – Basement\, 215 W. Market St.\, Pottsville\, PA\, 17901\, United States
ATTACH;FMTTYPE=image/png:https://www.pottsvillelibrary.org/wp-content/uploads/2023/11/Book_Sale_Website_Banner.png
ORGANIZER;CN="PFPL":MAILTO:potpublib@pottsvillelibrary.org
END:VEVENT
BEGIN:VEVENT
DTSTART;TZID=UTC:20240529T110000
DTEND;TZID=UTC:20240529T130000
DTSTAMP:20260425T154657
CREATED:20240520T152124Z
LAST-MODIFIED:20240520T152124Z
UID:2188-1716980400-1716987600@www.pottsvillelibrary.org
SUMMARY:Dave Day 2024
DESCRIPTION:Join us at 11:00 AM on Wednesday\, May 29th to celebrate the life & art of Dave Naydock. There will be a proclamation from the Mayor of Pottsville\, Dave’s favorite chocolate chip cookies\, paintings on display done by the children at Dave Day Family Paint Night\, and the yearly window painting activity.
URL:https://www.pottsvillelibrary.org/event/dave-day-2024/
LOCATION:Pottsville Library\, 215 W Market St\, Pottsville\, 17901\, United States
ATTACH;FMTTYPE=image/jpeg:https://www.pottsvillelibrary.org/wp-content/uploads/2024/05/Dave-Day-2024.jpg
ORGANIZER;CN="PFPL":MAILTO:potpublib@pottsvillelibrary.org
END:VEVENT
BEGIN:VEVENT
DTSTART;TZID=UTC:20240528T173000
DTEND;TZID=UTC:20240528T190000
DTSTAMP:20260425T154657
CREATED:20240422T151538Z
LAST-MODIFIED:20240422T151538Z
UID:2031-1716917400-1716922800@www.pottsvillelibrary.org
SUMMARY:Dave Day Family Paint Night
DESCRIPTION:Calling all friends & budding artists to come out & paint a canvas in honor of Dave Naydock\, which will be displayed during the Dave Day celebration on Wednesday\, May 29th. Paint\, canvas and Dave’s favorite chocolate chip cookies will be provided. \nRegistration required–please email potpublib@pottsvillelibrary.org. Tuesday\, May 28th @ 5:30PM.
URL:https://www.pottsvillelibrary.org/event/dave-day-family-paint-night/
LOCATION:Pottsville Library\, 215 W Market St\, Pottsville\, 17901\, United States
ATTACH;FMTTYPE=image/jpeg:https://www.pottsvillelibrary.org/wp-content/uploads/2024/04/Dave-Day-1.jpg
ORGANIZER;CN="PFPL":MAILTO:potpublib@pottsvillelibrary.org
END:VEVENT
BEGIN:VEVENT
DTSTART;TZID=UTC:20240528T173000
DTEND;TZID=UTC:20240528T190000
DTSTAMP:20260425T154657
CREATED:20240417T201551Z
LAST-MODIFIED:20240417T201551Z
UID:1994-1716917400-1716922800@www.pottsvillelibrary.org
SUMMARY:Arcade Night
DESCRIPTION:Visit the Library on Tuesday\, May 28th at 5:30 for some arcade fun! Help us break in our new toys in the basement of the Library! We have a pool table\, shuffleboard\, basketball & more! Arcade games were sponsored by Schuylkill Area Community Foundation & the Friends of the Pottsville Library. 
URL:https://www.pottsvillelibrary.org/event/arcade-night/
LOCATION:Pottsville Library\, 215 W Market St\, Pottsville\, 17901\, United States
ATTACH;FMTTYPE=image/jpeg:https://www.pottsvillelibrary.org/wp-content/uploads/2024/04/Arcade-Night.jpg
ORGANIZER;CN="PFPL":MAILTO:potpublib@pottsvillelibrary.org
END:VEVENT
BEGIN:VEVENT
DTSTART;TZID=UTC:20240523T173000
DTEND;TZID=UTC:20240523T190000
DTSTAMP:20260425T154657
CREATED:20240430T182402Z
LAST-MODIFIED:20240430T182402Z
UID:2135-1716485400-1716490800@www.pottsvillelibrary.org
SUMMARY:Pageturners Book Club Meeting
DESCRIPTION:If you are interested in great books and great conversation–our book club is for you! All are welcome at the Pageturners monthly meeting held the 4th Thursday of each month at 5:30 on the 2nd floor of the Library.
URL:https://www.pottsvillelibrary.org/event/pageturners-book-club-meeting/
LOCATION:Pottsville Library\, 215 W Market St\, Pottsville\, 17901\, United States
ATTACH;FMTTYPE=image/jpeg:https://www.pottsvillelibrary.org/wp-content/uploads/2024/04/Pageturners-Logo-scaled.jpeg
ORGANIZER;CN="PFPL":MAILTO:potpublib@pottsvillelibrary.org
END:VEVENT
BEGIN:VEVENT
DTSTART;TZID=UTC:20240520T103000
DTEND;TZID=UTC:20240520T113000
DTSTAMP:20260425T154657
CREATED:20240423T160408Z
LAST-MODIFIED:20240423T160408Z
UID:2081-1716201000-1716204600@www.pottsvillelibrary.org
SUMMARY:Storytime
DESCRIPTION:Storytime is held Mondays at 10:30 AM.  Recommended for children 0-5 years and their caregivers.
URL:https://www.pottsvillelibrary.org/event/storytime-5/
LOCATION:Pottsville Library\, 215 W Market St\, Pottsville\, 17901\, United States
ATTACH;FMTTYPE=image/jpeg:https://www.pottsvillelibrary.org/wp-content/uploads/2024/04/Winter-Storytime.jpg
ORGANIZER;CN="PFPL":MAILTO:potpublib@pottsvillelibrary.org
END:VEVENT
BEGIN:VEVENT
DTSTART;TZID=UTC:20240514T173000
DTEND;TZID=UTC:20240514T190000
DTSTAMP:20260425T154657
CREATED:20240221T171957Z
LAST-MODIFIED:20240221T171957Z
UID:1839-1715707800-1715713200@www.pottsvillelibrary.org
SUMMARY:Board Game Night
DESCRIPTION:Bring the whole family to play board games in the Library! We will have games for all ages on the tables available to play\, or you can check on out to take home with your valid Pottsville Library card! Join us Tuesday\, May 14th at 5:30 to see what we have available! Register by email: potpublib@pottsvillelibrary.org
URL:https://www.pottsvillelibrary.org/event/board-game-night-2/
LOCATION:Pottsville Library\, 215 W Market St\, Pottsville\, 17901\, United States
ATTACH;FMTTYPE=image/jpeg:https://www.pottsvillelibrary.org/wp-content/uploads/2024/02/Board-Game-Night.jpg
ORGANIZER;CN="PFPL":MAILTO:potpublib@pottsvillelibrary.org
END:VEVENT
BEGIN:VEVENT
DTSTART;TZID=UTC:20240513T103000
DTEND;TZID=UTC:20240513T113000
DTSTAMP:20260425T154657
CREATED:20240423T160310Z
LAST-MODIFIED:20240423T160310Z
UID:2078-1715596200-1715599800@www.pottsvillelibrary.org
SUMMARY:Storytime
DESCRIPTION:Storytime is held Mondays at 10:30 AM.  Recommended for children 0-5 years and their caregivers.
URL:https://www.pottsvillelibrary.org/event/storytime-4/
LOCATION:Pottsville Library\, 215 W Market St\, Pottsville\, 17901\, United States
ATTACH;FMTTYPE=image/jpeg:https://www.pottsvillelibrary.org/wp-content/uploads/2024/04/Winter-Storytime.jpg
ORGANIZER;CN="PFPL":MAILTO:potpublib@pottsvillelibrary.org
END:VEVENT
BEGIN:VEVENT
DTSTART;TZID=UTC:20240511T183000
DTEND;TZID=UTC:20240511T210000
DTSTAMP:20260425T154657
CREATED:20240118T154703Z
LAST-MODIFIED:20240118T154703Z
UID:1724-1715452200-1715461200@www.pottsvillelibrary.org
SUMMARY:Dead Men Don't Need Dress Rehearsals--Murder Mystery Dinner Theater
DESCRIPTION:Grab your tickets now for our latest murder mystery dinner theater event by J&L Productions–Dead Men Don’t Need Dress Rehearsals! Ticket price includes a catered buffet by Beauregard Catering and the show.  Tickets must be purchased by April 30th\, 2024. \nShow details: Saturday\, May 11th \nDoors open at 6:30 PM \nShow begins at 7:00 PM \nTickets: $40 per person\, $75 per couple \nTickets may be purchased online at our Facebook event page\, at the Library\, or by calling 570-622-8880.
URL:https://www.pottsvillelibrary.org/event/dead-men-dont-need-dress-rehearsals-murder-mystery-dinner-theater/
LOCATION:Pottsville Library\, 215 W Market St\, Pottsville\, 17901\, United States
ATTACH;FMTTYPE=image/jpeg:https://www.pottsvillelibrary.org/wp-content/uploads/2024/01/Dead-Men-Dont-Do-Dress-Rehearsals-Flyer.jpg
ORGANIZER;CN="PFPL":MAILTO:potpublib@pottsvillelibrary.org
END:VEVENT
BEGIN:VEVENT
DTSTART;TZID=UTC:20240511T103000
DTEND;TZID=UTC:20240511T120000
DTSTAMP:20260425T154657
CREATED:20240422T185837Z
LAST-MODIFIED:20240422T185837Z
UID:2046-1715423400-1715428800@www.pottsvillelibrary.org
SUMMARY:Saturday Storytime: Mother's Day Tea Party
DESCRIPTION:Join us for another special Saturday Storytime to celebrate Mother’s Day! Kids 12 & under are invited to attend with their mom\, grandmother\, or their favorite caregiver for a story\, a craft and a tea party. Please email with names and ages of children attending to potpublib@pottsvillelibrary.org. Event starts at 10:30AM on Saturday\, May 11th.
URL:https://www.pottsvillelibrary.org/event/saturday-storytime-mothers-day-tea-party-2/
LOCATION:Pottsville Library\, 215 W Market St\, Pottsville\, 17901\, United States
ATTACH;FMTTYPE=image/jpeg:https://www.pottsvillelibrary.org/wp-content/uploads/2024/04/Mothers-Day-Tea-Party.jpg
ORGANIZER;CN="PFPL":MAILTO:potpublib@pottsvillelibrary.org
END:VEVENT
BEGIN:VEVENT
DTSTART;TZID=UTC:20240508T120000
DTEND;TZID=UTC:20240509T120000
DTSTAMP:20260425T154657
CREATED:20240422T203706Z
LAST-MODIFIED:20240422T203706Z
UID:2058-1715169600-1715256000@www.pottsvillelibrary.org
SUMMARY:Schuylkill Gives
DESCRIPTION:Please consider a donation to the Pottsville Library during Schuylkill Gives! Schuylkill Gives is an online donation at www.schuylkillgives.com on May 8th–9th\, from noon to noon. This year the Pottsville Library wants to invest in early literacy skills for Schuylkill County youth. With your help we can develop a Toniebox collection. Tonieboxes are screen free speakers that come to life when paired with a Tonie\, which are different character toppers that tell the story.  Little listeners get new stories with each Tonie\, can adjust volume\, or use headphones to listen in quiet spaces. \n 
URL:https://www.pottsvillelibrary.org/event/schuylkill-gives-2/
LOCATION:Pottsville Library\, 215 W Market St\, Pottsville\, 17901\, United States
ATTACH;FMTTYPE=image/jpeg:https://www.pottsvillelibrary.org/wp-content/uploads/2024/04/Schuylkill-Gives-Flyer.jpg
ORGANIZER;CN="PFPL":MAILTO:potpublib@pottsvillelibrary.org
END:VEVENT
BEGIN:VEVENT
DTSTART;TZID=UTC:20240506T120000
DTEND;TZID=UTC:20240506T140000
DTSTAMP:20260425T154657
CREATED:20240320T201243Z
LAST-MODIFIED:20240320T201243Z
UID:1923-1714996800-1715004000@www.pottsvillelibrary.org
SUMMARY:Used Book Sale
DESCRIPTION:Visit our monthly used book sale in the basement of the Library from 12-2 on Monday\, May 6th\, 2024. Thank you to the Friends of the Pottsville Free Public Library for hosting our used book sales!
URL:https://www.pottsvillelibrary.org/event/used-book-sale-5/
LOCATION:Pottsville Library\, 215 W Market St\, Pottsville\, 17901\, United States
ATTACH;FMTTYPE=image/png:https://www.pottsvillelibrary.org/wp-content/uploads/2023/11/Book_Sale_Website_Banner.png
ORGANIZER;CN="PFPL":MAILTO:potpublib@pottsvillelibrary.org
END:VEVENT
BEGIN:VEVENT
DTSTART;TZID=UTC:20240506T103000
DTEND;TZID=UTC:20240506T113000
DTSTAMP:20260425T154657
CREATED:20240423T160122Z
LAST-MODIFIED:20240423T160122Z
UID:2075-1714991400-1714995000@www.pottsvillelibrary.org
SUMMARY:Storytime
DESCRIPTION:Storytime is held Mondays at 10:30 AM.  Recommended for children 0-5 years and their caregivers.
URL:https://www.pottsvillelibrary.org/event/storytime-3/
LOCATION:Pottsville Library\, 215 W Market St\, Pottsville\, 17901\, United States
ATTACH;FMTTYPE=image/jpeg:https://www.pottsvillelibrary.org/wp-content/uploads/2024/04/Winter-Storytime.jpg
ORGANIZER;CN="PFPL":MAILTO:potpublib@pottsvillelibrary.org
END:VEVENT
END:VCALENDAR