BEGIN:VCALENDAR
VERSION:2.0
PRODID:-//Pottsville Free Public Library - ECPv6.15.13//NONSGML v1.0//EN
CALSCALE:GREGORIAN
METHOD:PUBLISH
X-WR-CALNAME:Pottsville Free Public Library
X-ORIGINAL-URL:https://www.pottsvillelibrary.org
X-WR-CALDESC:Events for Pottsville Free Public Library
REFRESH-INTERVAL;VALUE=DURATION:PT1H
X-Robots-Tag:noindex
X-PUBLISHED-TTL:PT1H
BEGIN:VTIMEZONE
TZID:UTC
BEGIN:STANDARD
TZOFFSETFROM:+0000
TZOFFSETTO:+0000
TZNAME:UTC
DTSTART:20210101T000000
END:STANDARD
END:VTIMEZONE
BEGIN:VEVENT
DTSTART;TZID=UTC:20230506T090000
DTEND;TZID=UTC:20230506T160000
DTSTAMP:20260424T045511
CREATED:20230124T190151Z
LAST-MODIFIED:20230124T190151Z
UID:991-1683363600-1683388800@www.pottsvillelibrary.org
SUMMARY:Free Comic Book Day at Pottsville Library
DESCRIPTION:We love comic books. The art can be simple or complex\, the stories can be long or short. Comic books are a great way to get and keep kids (and adults!) interested in reading. So we continue to take part in the annual national Free Comic Book Day on the first Saturday in May\, thanks to support by Comics and Paperbacks Plus in Palmyra. There will be comic books for all ages that are free for you to take home\, as well as other activities that will be announced closer to the event date. Have a favorite superhero? Why not dress like them when you visit us that day?
URL:https://www.pottsvillelibrary.org/event/free-comic-book-day-at-pottsville-library/
LOCATION:Pottsville Library\, 215 W Market St\, Pottsville\, 17901\, United States
CATEGORIES:For Kids,Free Comic Book Day,Youth
ATTACH;FMTTYPE=image/jpeg:https://www.pottsvillelibrary.org/wp-content/uploads/2023/01/FCBD2023_medium.jpg
ORGANIZER;CN="PFPL":MAILTO:potpublib@pottsvillelibrary.org
END:VEVENT
BEGIN:VEVENT
DTSTART;TZID=UTC:20221025T173000
DTEND;TZID=UTC:20221025T180000
DTSTAMP:20260424T045511
CREATED:20221006T225308Z
LAST-MODIFIED:20221006T225308Z
UID:758-1666719000-1666720800@www.pottsvillelibrary.org
SUMMARY:Bogeyman's Bargain Escape Room Part II: Time to Book It!
DESCRIPTION:The Library’s bogeyman is back and ready to boogey! Can you escape in time?!? \nJoin us Tuesday\, October 25 at 5:30 to find out! \nKids ages 12-18 can register for this escape room adventure by contacting the Youth Services Department at potchild@pottsvillelibrary.org .
URL:https://www.pottsvillelibrary.org/event/bogeymans-bargain-escape-room-part-ii-time-to-book-it/
LOCATION:Pottsville Library\, 215 W Market St\, Pottsville\, 17901\, United States
CATEGORIES:Escape Room,Youth
ATTACH;FMTTYPE=image/jpeg:https://www.pottsvillelibrary.org/wp-content/uploads/2022/10/Bogeyman-escape-room-Oct-2022.jpg
ORGANIZER;CN="PFPL":MAILTO:potpublib@pottsvillelibrary.org
END:VEVENT
BEGIN:VEVENT
DTSTART;TZID=UTC:20221020T180000
DTEND;TZID=UTC:20221020T190000
DTSTAMP:20260424T045511
CREATED:20221006T224350Z
LAST-MODIFIED:20221006T224350Z
UID:754-1666288800-1666292400@www.pottsvillelibrary.org
SUMMARY:Bloody Good Art @ the Pottsville Free Public Library
DESCRIPTION:Kids ages 12-18 are invited to join local artists Danielle Beury and Shannon Haley to create Halloween inspired art with paint\, pens\, charcoal and colored pencils—all supplies provided. The art party will happen Thursday\, October 20 at 6 PM and is free to attend! To register\, email potchild@pottsvillelibrary.org or call the Youth Services Department at 570-622-8880 x12.
URL:https://www.pottsvillelibrary.org/event/bloody-good-art-the-pottsville-free-public-library/
LOCATION:Pottsville Library\, 215 W Market St\, Pottsville\, 17901\, United States
CATEGORIES:Youth
ATTACH;FMTTYPE=image/jpeg:https://www.pottsvillelibrary.org/wp-content/uploads/2022/09/Bloody-Good-Art-cropped.jpg
ORGANIZER;CN="PFPL":MAILTO:potpublib@pottsvillelibrary.org
END:VEVENT
BEGIN:VEVENT
DTSTART;TZID=UTC:20220426T163000
DTEND;TZID=UTC:20220426T173000
DTSTAMP:20260424T045511
CREATED:20220422T175354Z
LAST-MODIFIED:20220422T175354Z
UID:430-1650990600-1650994200@www.pottsvillelibrary.org
SUMMARY:Lost Ladybug Escape Room
DESCRIPTION:Registration Requested\nAges 5-11
URL:https://www.pottsvillelibrary.org/event/lost-ladybug-escape-room/
LOCATION:Pottsville Library\, 215 W Market St\, Pottsville\, 17901\, United States
CATEGORIES:Youth
END:VEVENT
BEGIN:VEVENT
DTSTART;TZID=UTC:20220419T163000
DTEND;TZID=UTC:20220419T173000
DTSTAMP:20260424T045511
CREATED:20220422T175151Z
LAST-MODIFIED:20220422T175151Z
UID:427-1650385800-1650389400@www.pottsvillelibrary.org
SUMMARY:Girls Who Code Begins!
DESCRIPTION:Learn all about computer coding\, step by step\, with games\, Stem Activities and hands-on experience.\nMondays at 4:30pm\nAges 8-11\, 12-18\nPlease Register
URL:https://www.pottsvillelibrary.org/event/girls-who-code-begins/
LOCATION:Pottsville Library\, 215 W Market St\, Pottsville\, 17901\, United States
CATEGORIES:Youth
END:VEVENT
END:VCALENDAR