BEGIN:VCALENDAR
VERSION:2.0
PRODID:-//Pottsville Free Public Library - ECPv6.15.13//NONSGML v1.0//EN
CALSCALE:GREGORIAN
METHOD:PUBLISH
X-ORIGINAL-URL:https://www.pottsvillelibrary.org
X-WR-CALDESC:Events for Pottsville Free Public Library
REFRESH-INTERVAL;VALUE=DURATION:PT1H
X-Robots-Tag:noindex
X-PUBLISHED-TTL:PT1H
BEGIN:VTIMEZONE
TZID:UTC
BEGIN:STANDARD
TZOFFSETFROM:+0000
TZOFFSETTO:+0000
TZNAME:UTC
DTSTART:20210101T000000
END:STANDARD
END:VTIMEZONE
BEGIN:VEVENT
DTSTART;TZID=UTC:20221022T110000
DTEND;TZID=UTC:20221022T140000
DTSTAMP:20260424T062302
CREATED:20220923T154624Z
LAST-MODIFIED:20220930T173054Z
UID:666-1666436400-1666447200@www.pottsvillelibrary.org
SUMMARY:Witches Tea
DESCRIPTION:Join us for a magically good time & enjoy a variety of teas\, refreshments & Halloween fun! Bewitching attire is encouraged! \n$20 per adult\, $10 per child under 12. Call today to reserve your spot! \n 
URL:https://www.pottsvillelibrary.org/event/witches-tea/
LOCATION:Pottsville Library\, 215 W Market St\, Pottsville\, 17901\, United States
CATEGORIES:Tea Party
ATTACH;FMTTYPE=image/jpeg:https://www.pottsvillelibrary.org/wp-content/uploads/2022/09/Witches-Tea-Flyer-Pic-e1664558619895.jpg
ORGANIZER;CN="PFPL":MAILTO:potpublib@pottsvillelibrary.org
END:VEVENT
END:VCALENDAR