BEGIN:VCALENDAR
VERSION:2.0
PRODID:-//Pottsville Free Public Library - ECPv6.15.13//NONSGML v1.0//EN
CALSCALE:GREGORIAN
METHOD:PUBLISH
X-ORIGINAL-URL:https://www.pottsvillelibrary.org
X-WR-CALDESC:Events for Pottsville Free Public Library
REFRESH-INTERVAL;VALUE=DURATION:PT1H
X-Robots-Tag:noindex
X-PUBLISHED-TTL:PT1H
BEGIN:VTIMEZONE
TZID:UTC
BEGIN:STANDARD
TZOFFSETFROM:+0000
TZOFFSETTO:+0000
TZNAME:UTC
DTSTART:20210101T000000
END:STANDARD
END:VTIMEZONE
BEGIN:VEVENT
DTSTART;TZID=UTC:20221027T180000
DTEND;TZID=UTC:20221027T190000
DTSTAMP:20260424T103933
CREATED:20221006T230003Z
LAST-MODIFIED:20221006T230003Z
UID:762-1666893600-1666897200@www.pottsvillelibrary.org
SUMMARY:Children's Halloween Party
DESCRIPTION:It’s time to throw a Halloween Party! \nJoin the Pottsville Library after the Pottsville Downtown Merchants’ Safe Trick-or-Treat for games\, crafts\, and even more treats. For children ages 3-11 and their parents or caregivers. Please email potchild@pottsvillelibrary.org to register.
URL:https://www.pottsvillelibrary.org/event/childrens-halloween-party/
LOCATION:Pottsville Library\, 215 W Market St\, Pottsville\, 17901\, United States
CATEGORIES:For Kids,Party
ATTACH;FMTTYPE=image/jpeg:https://www.pottsvillelibrary.org/wp-content/uploads/2022/10/Halloween-party-2022.jpg
ORGANIZER;CN="PFPL":MAILTO:potpublib@pottsvillelibrary.org
END:VEVENT
END:VCALENDAR