BEGIN:VCALENDAR
VERSION:2.0
PRODID:-//Pottsville Free Public Library - ECPv6.15.13//NONSGML v1.0//EN
CALSCALE:GREGORIAN
METHOD:PUBLISH
X-ORIGINAL-URL:https://www.pottsvillelibrary.org
X-WR-CALDESC:Events for Pottsville Free Public Library
REFRESH-INTERVAL;VALUE=DURATION:PT1H
X-Robots-Tag:noindex
X-PUBLISHED-TTL:PT1H
BEGIN:VTIMEZONE
TZID:UTC
BEGIN:STANDARD
TZOFFSETFROM:+0000
TZOFFSETTO:+0000
TZNAME:UTC
DTSTART:20230101T000000
END:STANDARD
END:VTIMEZONE
BEGIN:VEVENT
DTSTART;TZID=UTC:20260421T173000
DTEND;TZID=UTC:20260421T190000
DTSTAMP:20260423T205119
CREATED:20260119T215959Z
LAST-MODIFIED:20260119T215959Z
UID:4437-1776792600-1776798000@www.pottsvillelibrary.org
SUMMARY:"I need to type a...": Microsoft Word for Beginners workshop for adults
DESCRIPTION:The Pottsville Free Public Library will be offering the Microsoft Word for Beginners workshop for adults on Tuesday\, April 21 at 5:30 PM. (Remember: street parking in downtown Pottsville is free after 5 PM!) Need to type something up but not sure how to start? This one-hour class will cover what you really need to know to type a document\, check your spelling\, and save or print it. \nThe computer classes are free\, but a Pottsville Library card and advanced registration are required due to limited seating. Those attending the workshop will be using the laptops in the computer lab at the Pottsville Library. Library cards are free for all Schuylkill County residents; contact the Circulation Desk at 570-622-8880 x10 or visit the Library to check the status of your card or to sign up for the class.
URL:https://www.pottsvillelibrary.org/event/i-need-to-type-a-microsoft-word-for-beginners-workshop-for-adults/
LOCATION:Pottsville Library Computer Lab\, 215 W Market St\, Pottsville\, PA\, 17901
CATEGORIES:Computer Class
ATTACH;FMTTYPE=image/jpeg:https://www.pottsvillelibrary.org/wp-content/uploads/2026/01/MS-Word-class-flag-april-2026.jpg
ORGANIZER;CN="PFPL":MAILTO:potpublib@pottsvillelibrary.org
END:VEVENT
BEGIN:VEVENT
DTSTART;TZID=UTC:20260407T173000
DTEND;TZID=UTC:20260407T190000
DTSTAMP:20260423T205119
CREATED:20260119T214709Z
LAST-MODIFIED:20260119T214709Z
UID:4433-1775583000-1775588400@www.pottsvillelibrary.org
SUMMARY:Windows 11 Next Steps Workshop for Adults
DESCRIPTION:The Pottsville Free Public Library will be offering the Windows 11 Next Steps workshop for adults on Tuesday\, April 7 at 5:30 PM. (Remember: street parking in downtown Pottsville is free after 5 PM!) This one-hour class will go over how to find and install new apps\, how to change the settings on your PC\, and more. \nThe computer classes are free\, but a Pottsville Library card and advanced registration are required due to limited seating. Those attending the workshop will be using the laptops in the computer lab at the Pottsville Library. Library cards are free for all Schuylkill County residents; contact the Circulation Desk at 570-622-8880 x10 or visit the Library to check the status of your card or to sign up for the class.
URL:https://www.pottsvillelibrary.org/event/windows-11-next-steps-workshop-for-adults/
LOCATION:Pottsville Library Computer Lab\, 215 W Market St\, Pottsville\, PA\, 17901
CATEGORIES:Computer Class
ATTACH;FMTTYPE=image/jpeg:https://www.pottsvillelibrary.org/wp-content/uploads/2026/01/Facebook-event-flag.jpg
ORGANIZER;CN="PFPL":MAILTO:potpublib@pottsvillelibrary.org
END:VEVENT
BEGIN:VEVENT
DTSTART;TZID=UTC:20260324T173000
DTEND;TZID=UTC:20260324T190000
DTSTAMP:20260423T205119
CREATED:20260119T213103Z
LAST-MODIFIED:20260119T213103Z
UID:4429-1774373400-1774378800@www.pottsvillelibrary.org
SUMMARY:Internet Basics Workshop for Adults
DESCRIPTION:The Pottsville Free Public Library will be offering the popular Internet Basics workshop for adults on Tuesday\, March 24 at 5:30 PM. (Remember: street parking in downtown Pottsville is free after 5 PM!) This one-hour class will help improve your internet skills\, including how to do better internet searches\, what to watch out for\, and more. \nThe computer classes are free\, but a Pottsville Library card and advanced registration are required due to limited seating. Those attending the workshop will be using the laptops in the computer lab at the Pottsville Library. Library cards are free for all Schuylkill County residents; contact the Circulation Desk at 570-622-8880 x10 or visit the Library to check the status of your card or to sign up for the class.
URL:https://www.pottsvillelibrary.org/event/internet-basics-workshop-for-adults/
LOCATION:Pottsville Library Computer Lab\, 215 W Market St\, Pottsville\, PA\, 17901
CATEGORIES:Computer Class
ATTACH;FMTTYPE=image/jpeg:https://www.pottsvillelibrary.org/wp-content/uploads/2026/01/Internet-basics-FB-flag.jpg
ORGANIZER;CN="PFPL":MAILTO:potpublib@pottsvillelibrary.org
END:VEVENT
BEGIN:VEVENT
DTSTART;TZID=UTC:20260303T173000
DTEND;TZID=UTC:20260303T190000
DTSTAMP:20260423T205119
CREATED:20260119T193556Z
LAST-MODIFIED:20260119T220338Z
UID:4420-1772559000-1772564400@www.pottsvillelibrary.org
SUMMARY:Free Computer Basics Workshop
DESCRIPTION:The Pottsville Free Public Library will be offering the popular Computer Basics Workshop for adults on Tuesday\, March 3 at 5:30 PM. (Remember: street parking in downtown Pottsville is free after 5 PM!) This one-hour session covers: What’s on your computer? How do you save a file? How do you delete a file? And other tips to help you feel more confident using a PC. \nThe computer classes are free\, but a Pottsville Library card and advanced registration are required due to limited seating. Those attending the workshop will be using the laptops in the computer lab at the Pottsville Library. Library cards are free for all Schuylkill County residents; contact the Circulation Desk at 570-622-8880 x10 or visit the Library to check the status of your card or to sign up for the class.
URL:https://www.pottsvillelibrary.org/event/free-computer-basics-workshop/
LOCATION:Pottsville Library Computer Lab\, 215 W Market St\, Pottsville\, PA\, 17901
CATEGORIES:Computer Class
ATTACH;FMTTYPE=image/jpeg:https://www.pottsvillelibrary.org/wp-content/uploads/2026/01/Computer-Basics-2026_cropped.jpg
ORGANIZER;CN="PFPL":MAILTO:potpublib@pottsvillelibrary.org
END:VEVENT
BEGIN:VEVENT
DTSTART;TZID=UTC:20251022T173000
DTEND;TZID=UTC:20251022T183000
DTSTAMP:20260423T205119
CREATED:20250823T151236Z
LAST-MODIFIED:20250823T151236Z
UID:3888-1761154200-1761157800@www.pottsvillelibrary.org
SUMMARY:Microsoft Word Basics
DESCRIPTION:This class covers what you really need to know to type a document like a letter or a report\, how to check your spelling\, and then save or print it. These skills also apply to apps like Google Docs or free software like LibreOffice.Thanks to the Broadband Grant\, our old computers have been replaced in the lab with new Windows 11 laptops! Attendees will have the option to use a mouse or a track pad to move the pointer around the screen.Seating is limited and advanced registration is required. Attendees must have a valid Pottsville Library card to sign up. You can call the Circulation Desk at 570-622-8880 ext. 10 to check on your card\, or you can begin the registration process from our web page at https://www.pottsvillelibrary.org/how-do-i/join/. Pottsville Library cards are free for residents of Schuylkill County and the Pottsville Library District.
URL:https://www.pottsvillelibrary.org/event/microsoft-word-basics/
LOCATION:Pottsville Library Computer Lab\, 215 W Market St\, Pottsville\, PA\, 17901
CATEGORIES:Computer Class
ATTACH;FMTTYPE=image/jpeg:https://www.pottsvillelibrary.org/wp-content/uploads/2025/08/MS-Word-class-flag-Fall-2025.jpg
END:VEVENT
BEGIN:VEVENT
DTSTART;TZID=UTC:20251014T173000
DTEND;TZID=UTC:20251014T183000
DTSTAMP:20260423T205119
CREATED:20250823T151006Z
LAST-MODIFIED:20250823T151006Z
UID:3884-1760463000-1760466600@www.pottsvillelibrary.org
SUMMARY:Windows 11 Next Steps
DESCRIPTION:Windows 11 Next Steps: You know the basics\, now it’s time to learn how to make your computer really yours! This class will go into settings\, defaults\, and how to install or uninstall apps.Thanks to the Broadband Grant\, our old computers have been replaced in the lab with new Windows 11 laptops! Attendees will have the option to use a mouse or a track pad to move the pointer around the screen.Seating is limited and advanced registration is required. Attendees must have a valid Pottsville Library card to sign up. You can call the Circulation Desk at 570-622-8880 ext. 10 to check on your card\, or you can begin the registration process from our web page at https://www.pottsvillelibrary.org/how-do-i/join/. Pottsville Library cards are free for residents of Schuylkill County and the Pottsville Library District.
URL:https://www.pottsvillelibrary.org/event/windows-11-next-steps/
LOCATION:Pottsville Library Computer Lab\, 215 W Market St\, Pottsville\, PA\, 17901
CATEGORIES:Computer Class
ATTACH;FMTTYPE=image/jpeg:https://www.pottsvillelibrary.org/wp-content/uploads/2025/08/Win-11-Next-Steps-Facebook-event-flag.jpg
END:VEVENT
BEGIN:VEVENT
DTSTART;TZID=UTC:20250924T173000
DTEND;TZID=UTC:20250924T183000
DTSTAMP:20260423T205119
CREATED:20250823T150609Z
LAST-MODIFIED:20250823T150609Z
UID:3880-1758735000-1758738600@www.pottsvillelibrary.org
SUMMARY:Internet Basics Workshop
DESCRIPTION:Improve your internet skills with this free one-hour workshop. Learn better search skills\, how to keep your information safe online\, and more!Thanks to the Broadband Grant\, our old computers have been replaced in the lab with new Windows 11 laptops! Attendees will have the option to use a mouse or a track pad to move the pointer around the screen.Seating is limited and advanced registration is required. Attendees must have a valid Pottsville Library card to sign up. You can call the Circulation Desk at 570-622-8880 ext. 10 to check on your card\, or you can begin the registration process from our web page at https://www.pottsvillelibrary.org/how-do-i/join/. Pottsville Library cards are free for residents of Schuylkill County and the Pottsville Library District.
URL:https://www.pottsvillelibrary.org/event/internet-basics-workshop/
LOCATION:Pottsville Library Computer Lab\, 215 W Market St\, Pottsville\, PA\, 17901
CATEGORIES:Computer Class
ATTACH;FMTTYPE=image/webp:https://www.pottsvillelibrary.org/wp-content/uploads/2025/08/Internet-basics-FB-flag.webp
END:VEVENT
BEGIN:VEVENT
DTSTART;TZID=UTC:20250916T173000
DTEND;TZID=UTC:20250916T183000
DTSTAMP:20260423T205119
CREATED:20250823T150319Z
LAST-MODIFIED:20250823T150319Z
UID:3875-1758043800-1758047400@www.pottsvillelibrary.org
SUMMARY:Computer Basics Workshop
DESCRIPTION:This basic computer class starts with: what’s on your computer? How do you save or delete a file? How do I move things on my screen? And many other parts of what you see when you turn on a computer.Thanks to the Broadband Grant\, our old computers have been replaced in the lab with new Windows 11 laptops! Attendees will have the option to use a mouse or a track pad to move the pointer around the screen.Seating is limited and advanced registration is required. Attendees must have a valid Pottsville Library card to sign up. You can call the Circulation Desk at 570-622-8880 ext. 10 to check on your card\, or you can begin the registration process from our web page at https://www.pottsvillelibrary.org/how-do-i/join/. Pottsville Library cards are free for residents of Schuylkill County and the Pottsville Library District.
URL:https://www.pottsvillelibrary.org/event/computer-basics-workshop-4/
LOCATION:PA
CATEGORIES:Computer Class
ATTACH;FMTTYPE=image/jpeg:https://www.pottsvillelibrary.org/wp-content/uploads/2025/08/Computer-basics-FB-flag.jpg
ORGANIZER;CN="PFPL":MAILTO:potpublib@pottsvillelibrary.org
END:VEVENT
BEGIN:VEVENT
DTSTART;TZID=UTC:20250422T173000
DTEND;TZID=UTC:20250422T190000
DTSTAMP:20260423T205119
CREATED:20250212T135318Z
LAST-MODIFIED:20250212T135318Z
UID:3143-1745343000-1745348400@www.pottsvillelibrary.org
SUMMARY:"I want to type a..." - Microsoft Word Basics
DESCRIPTION:Do you hesitate to type something up because you don’t know how to use the software? Join us on Tuesday\, April 22nd at 5:30 PM for an introduction to using Microsoft Word. We will cover the basics that will help you feel more confident when you need to type that cover letter or report: where to find the text size\, how to check your spelling\, how to print or save it\, and more. Computer classes at the Pottsville Library are free for all residents of Schuylkill County\, but you must sign up in advance due to the limited computer lab space. Call the Circulation Desk at 570-622-8880 to sign up\, or stop by the Library any time during business hours to sign up in person.
URL:https://www.pottsvillelibrary.org/event/i-want-to-type-a-microsoft-word-basics/
LOCATION:Pottsville Library Computer Lab\, 215 W Market St\, Pottsville\, PA\, 17901
CATEGORIES:Computer Class
ATTACH;FMTTYPE=image/webp:https://www.pottsvillelibrary.org/wp-content/uploads/2025/02/MS-Word-class-flag-Spring-2025.webp
ORGANIZER;CN="PFPL":MAILTO:potpublib@pottsvillelibrary.org
END:VEVENT
BEGIN:VEVENT
DTSTART;TZID=UTC:20250409T173000
DTEND;TZID=UTC:20250409T190000
DTSTAMP:20260423T205119
CREATED:20250117T205900Z
LAST-MODIFIED:20250117T205900Z
UID:2985-1744219800-1744225200@www.pottsvillelibrary.org
SUMMARY:Windows Next Steps - free computer class
DESCRIPTION:  \nYou know the basics of using a computer. Now it’s time to learn how to personalize your computer and make it more useful! \nIn this FREE computer course\, we will cover learning more about what kind of system you have\, how to install a new application\, how to add shortcuts to your computer’s desktop\, how to change some of the defaults and settings\, how to uninstall an application you don’t want\, and some safety tips. \nThe one-hour course is a mix of demonstrations and practice time\, and is open to all residents of Schuylkill County and the Pottsville Library District. \nCall the front desk at 570-622-8880 to sign up; seating is limited due to the small computer lab.
URL:https://www.pottsvillelibrary.org/event/windows-next-steps-free-computer-class/
LOCATION:Pottsville Library Computer Lab\, 215 W Market St\, Pottsville\, PA\, 17901
CATEGORIES:Computer Class
ATTACH;FMTTYPE=image/jpeg:https://www.pottsvillelibrary.org/wp-content/uploads/2025/01/Facebook-event-flag.jpg
ORGANIZER;CN="PFPL":MAILTO:potpublib@pottsvillelibrary.org
END:VEVENT
BEGIN:VEVENT
DTSTART;TZID=UTC:20250326T173000
DTEND;TZID=UTC:20250326T190000
DTSTAMP:20260423T205119
CREATED:20250117T185031Z
LAST-MODIFIED:20250117T185031Z
UID:2981-1743010200-1743015600@www.pottsvillelibrary.org
SUMMARY:Internet Basics - free computer class
DESCRIPTION:This in-person workshop is for adults who are new to the internet or want to build more confidence finding information online and navigating websites. Attendees will learn about web browsers and search engines\, build skills to navigate the internet\, and discover tips and tricks for basic and advanced searching online.\n\nThe workshop is open to all residents of Schuylkill County and the Pottsville Library District\, no library card required.\nWe will be offering the Internet Basics program on Wed.\, March 26th @ 5:30 PM.\n\nRegistration is requested due to the limited seating available in the computer lab. Call the Library at 570-622-8880 to sign up with your name and phone number. 
URL:https://www.pottsvillelibrary.org/event/internet-basics-free-computer-class/
LOCATION:Pottsville Library Computer Lab\, 215 W Market St\, Pottsville\, PA\, 17901
CATEGORIES:Computer Class
ATTACH;FMTTYPE=image/webp:https://www.pottsvillelibrary.org/wp-content/uploads/2025/01/Internet-basics-FB-flag.webp
ORGANIZER;CN="PFPL":MAILTO:potpublib@pottsvillelibrary.org
END:VEVENT
BEGIN:VEVENT
DTSTART;TZID=UTC:20250311T173000
DTEND;TZID=UTC:20250311T190000
DTSTAMP:20260423T205119
CREATED:20250116T235810Z
LAST-MODIFIED:20250116T235810Z
UID:2977-1741714200-1741719600@www.pottsvillelibrary.org
SUMMARY:Computer Basics Workshop
DESCRIPTION:Join us for the free Computer Basics workshop on Tuesday\, March 11 at 5:30 PM. This one-hour session covers questions like What’s on your computer? How do you save a file? How do you delete a file? The class uses Windows 10 computers but the information is general enough for those who use other kinds of computers. Some familiarity with using a computer mouse is helpful.\nSeating is limited so advance registration is required. Call the Library at 570-622-8880 to sign up\, or stop by to sign up in person.\nRemember\, street parking downtown is free after 5 PM\, so you don’t have to worry about using the parking app or feeding the meter! 
URL:https://www.pottsvillelibrary.org/event/computer-basics-workshop-3/
LOCATION:Pottsville Library Computer Lab\, 215 W Market St\, Pottsville\, PA\, 17901
CATEGORIES:Computer Class
ATTACH;FMTTYPE=image/webp:https://www.pottsvillelibrary.org/wp-content/uploads/2025/01/Computer-basics-FB-flag.webp
ORGANIZER;CN="PFPL":MAILTO:potpublib@pottsvillelibrary.org
END:VEVENT
BEGIN:VEVENT
DTSTART;TZID=UTC:20250211T170000
DTEND;TZID=UTC:20250211T190000
DTSTAMP:20260423T205119
CREATED:20250115T215827Z
LAST-MODIFIED:20250115T215827Z
UID:2972-1739293200-1739300400@www.pottsvillelibrary.org
SUMMARY:Computer ?s Drop-In
DESCRIPTION:Do you have questions about something on your Windows laptop or Chromebook? Have you been trying to learn something basic about using a PC but you don’t want to take a whole class for it? Come in to the Pottsville Library between 5 and 7 PM on Tuesday\, February 11 for our first “drop-in” computer session. We will try to spend at least 15 minutes with each person who attends the session. \nYou can also call us at 570-622-8880 and make an appointment for assistance with your Android\, Apple\, or Windows device.
URL:https://www.pottsvillelibrary.org/event/computer-s-drop-in/
LOCATION:Pottsville Library Computer Lab\, 215 W Market St\, Pottsville\, PA\, 17901
CATEGORIES:Computer Class
ATTACH;FMTTYPE=image/webp:https://www.pottsvillelibrary.org/wp-content/uploads/2025/01/Computer-Questions-Drop-In-scaled.webp
ORGANIZER;CN="PFPL":MAILTO:potpublib@pottsvillelibrary.org
END:VEVENT
BEGIN:VEVENT
DTSTART;TZID=UTC:20241106T173000
DTEND;TZID=UTC:20241106T183000
DTSTAMP:20260423T205119
CREATED:20241008T184250Z
LAST-MODIFIED:20241008T184250Z
UID:2532-1730914200-1730917800@www.pottsvillelibrary.org
SUMMARY:Windows Next Steps
DESCRIPTION:You know the basics of using a computer. Now it’s time to learn how to personalize your computer and make it more useful! In this FREE computer course\, we will cover learning more about what kind of system you have\, how to install a new application\, how to add shortcuts to your computer’s desktop\, how to change some of the defaults and settings\, how to uninstall an application you don’t want\, and some safety tips. The one-hour course is a mix of demonstrations and practice time\, and is open to all residents of Schuylkill County and the Pottsville Library District. Call the front desk at 570-622-8880 to sign up; seating is limited due to the small computer lab.
URL:https://www.pottsvillelibrary.org/event/windows-next-steps/
LOCATION:Pottsville Library\, 215 W Market St\, Pottsville\, 17901\, United States
CATEGORIES:Computer Class
ATTACH;FMTTYPE=image/png:https://www.pottsvillelibrary.org/wp-content/uploads/2024/10/Windows-Next-Steps.png
ORGANIZER;CN="PFPL":MAILTO:potpublib@pottsvillelibrary.org
END:VEVENT
END:VCALENDAR