BEGIN:VCALENDAR
VERSION:2.0
PRODID:-//Pottsville Free Public Library - ECPv6.15.13//NONSGML v1.0//EN
CALSCALE:GREGORIAN
METHOD:PUBLISH
X-WR-CALNAME:Pottsville Free Public Library
X-ORIGINAL-URL:https://www.pottsvillelibrary.org
X-WR-CALDESC:Events for Pottsville Free Public Library
REFRESH-INTERVAL;VALUE=DURATION:PT1H
X-Robots-Tag:noindex
X-PUBLISHED-TTL:PT1H
BEGIN:VTIMEZONE
TZID:UTC
BEGIN:STANDARD
TZOFFSETFROM:+0000
TZOFFSETTO:+0000
TZNAME:UTC
DTSTART:20210101T000000
END:STANDARD
END:VTIMEZONE
BEGIN:VEVENT
DTSTART;TZID=UTC:20220430T110000
DTEND;TZID=UTC:20220430T150000
DTSTAMP:20260424T104600
CREATED:20220422T175900Z
LAST-MODIFIED:20220422T175900Z
UID:433-1651316400-1651330800@www.pottsvillelibrary.org
SUMMARY:Block Of Art Metaphysical Market
DESCRIPTION:Unique artists & craftspeople at the Library\, crafts for children and teens at the Block of Art Festival
URL:https://www.pottsvillelibrary.org/event/block-of-art-metaphysical-market/
LOCATION:Pottsville Library\, 215 W Market St\, Pottsville\, 17901\, United States
CATEGORIES:Block of Art,Metaphysical Market
END:VEVENT
END:VCALENDAR