BEGIN:VCALENDAR
VERSION:2.0
PRODID:-//Pottsville Free Public Library - ECPv6.15.13//NONSGML v1.0//EN
CALSCALE:GREGORIAN
METHOD:PUBLISH
X-WR-CALNAME:Pottsville Free Public Library
X-ORIGINAL-URL:https://www.pottsvillelibrary.org
X-WR-CALDESC:Events for Pottsville Free Public Library
REFRESH-INTERVAL;VALUE=DURATION:PT1H
X-Robots-Tag:noindex
X-PUBLISHED-TTL:PT1H
BEGIN:VTIMEZONE
TZID:UTC
BEGIN:STANDARD
TZOFFSETFROM:+0000
TZOFFSETTO:+0000
TZNAME:UTC
DTSTART:20250101T000000
END:STANDARD
END:VTIMEZONE
BEGIN:VEVENT
DTSTART;TZID=UTC:20260912T100000
DTEND;TZID=UTC:20260912T150000
DTSTAMP:20260424T044959
CREATED:20260310T182120Z
LAST-MODIFIED:20260310T182120Z
UID:4632-1789207200-1789225200@www.pottsvillelibrary.org
SUMMARY:Cozy Crafters Blanket Workshop
DESCRIPTION:Get ready for fall with your own hand knit chunky blanket! We will be making a throw sized blanket from start to finish–full instruction will be provided (with help along the way\, if needed!). Class size is limited to 10\, so book early! Additional classes may be added if there is demand. Class will run 3 to 5 hours\, so please bring snacks/refreshments for breaks! \nPrepaid registration & yarn color choice is due by August 1st. Payment is required to hold your space. \nRecommended for ages teen to adult. All experience levels are welcome. No tools needed. \nThere are 20 yarn colors to choose from–please see flyer with choices! \nClass will be held Saturday\, September 12th at 10AM. Cost is $65 per person.
URL:https://www.pottsvillelibrary.org/event/cozy-crafters-blanket-workshop-2/
LOCATION:Library – Basement\, 215 W. Market St.\, Pottsville\, PA\, 17901\, United States
ATTACH;FMTTYPE=image/jpeg:https://www.pottsvillelibrary.org/wp-content/uploads/2026/03/Blanket-Workshop-2.jpg
ORGANIZER;CN="PFPL":MAILTO:potpublib@pottsvillelibrary.org
END:VEVENT
END:VCALENDAR