BEGIN:VCALENDAR
VERSION:2.0
PRODID:-//Pottsville Free Public Library - ECPv6.15.13//NONSGML v1.0//EN
CALSCALE:GREGORIAN
METHOD:PUBLISH
X-WR-CALNAME:Pottsville Free Public Library
X-ORIGINAL-URL:https://www.pottsvillelibrary.org
X-WR-CALDESC:Events for Pottsville Free Public Library
REFRESH-INTERVAL;VALUE=DURATION:PT1H
X-Robots-Tag:noindex
X-PUBLISHED-TTL:PT1H
BEGIN:VTIMEZONE
TZID:UTC
BEGIN:STANDARD
TZOFFSETFROM:+0000
TZOFFSETTO:+0000
TZNAME:UTC
DTSTART:20250101T000000
END:STANDARD
END:VTIMEZONE
BEGIN:VEVENT
DTSTART;TZID=UTC:20260617T103000
DTEND;TZID=UTC:20260617T113000
DTSTAMP:20260423T234743
CREATED:20260415T151548Z
LAST-MODIFIED:20260415T151548Z
UID:4862-1781692200-1781695800@www.pottsvillelibrary.org
SUMMARY:Kids Summer Reading Club
DESCRIPTION:Join us at the Pottsville Free Public Library on Wednesdays at 10:30am from June 17th until August 5th for crafts and activities on the theme of unearth a story as part of Summer Reading. Recommended for ages 6-12. Registration encouraged by emailing potchild@pottsvillelibrary.org\, calling 570-622-8880 ext. 12 or coming to the library and telling us in person.
URL:https://www.pottsvillelibrary.org/event/kids-summer-reading-club-9/
LOCATION:Pottsville Library\, 215 W Market St\, Pottsville\, 17901\, United States
ATTACH;FMTTYPE=image/webp:https://www.pottsvillelibrary.org/wp-content/uploads/2026/04/summer-reading-club-1.webp
ORGANIZER;CN="PFPL":MAILTO:potpublib@pottsvillelibrary.org
END:VEVENT
BEGIN:VEVENT
DTSTART;TZID=UTC:20260617T170000
DTEND;TZID=UTC:20260617T180000
DTSTAMP:20260423T234743
CREATED:20260422T180307Z
LAST-MODIFIED:20260422T180307Z
UID:4992-1781715600-1781719200@www.pottsvillelibrary.org
SUMMARY:Pokémon Night
DESCRIPTION:Join us at the Pottsville Free Public Library on Wednesday\, June 17th at 5pm for a program celebrating Pokémon. Recommended for all ages with various activities. To register email potchild@pottsvillelibrary.org\, calling 570-622-8880 ext. 12 or coming and telling us in person.
URL:https://www.pottsvillelibrary.org/event/pokemon-night-2/
LOCATION:Pottsville Library\, 215 W Market St\, Pottsville\, 17901\, United States
ATTACH;FMTTYPE=image/webp:https://www.pottsvillelibrary.org/wp-content/uploads/2026/04/Pokemon_Night_June2026.webp
ORGANIZER;CN="PFPL":MAILTO:potpublib@pottsvillelibrary.org
END:VEVENT
END:VCALENDAR