BEGIN:VCALENDAR
VERSION:2.0
PRODID:-//Pottsville Free Public Library - ECPv6.15.13//NONSGML v1.0//EN
CALSCALE:GREGORIAN
METHOD:PUBLISH
X-WR-CALNAME:Pottsville Free Public Library
X-ORIGINAL-URL:https://www.pottsvillelibrary.org
X-WR-CALDESC:Events for Pottsville Free Public Library
REFRESH-INTERVAL;VALUE=DURATION:PT1H
X-Robots-Tag:noindex
X-PUBLISHED-TTL:PT1H
BEGIN:VTIMEZONE
TZID:UTC
BEGIN:STANDARD
TZOFFSETFROM:+0000
TZOFFSETTO:+0000
TZNAME:UTC
DTSTART:20250101T000000
END:STANDARD
END:VTIMEZONE
BEGIN:VEVENT
DTSTART;TZID=UTC:20260616T103000
DTEND;TZID=UTC:20260616T113000
DTSTAMP:20260423T234742
CREATED:20260413T210342Z
LAST-MODIFIED:20260413T210342Z
UID:4853-1781605800-1781609400@www.pottsvillelibrary.org
SUMMARY:Traffic Safety Program
DESCRIPTION:Join us at the Pottsville Free Public Library on Tuesday June 16th at 10:30 am for a program with the Highway Safety Network on how to be safe during the summer. Join us for STEM activities games and crafts to help you start out a safer summer. Recommended for ages 5-14 but siblings are welcome.
URL:https://www.pottsvillelibrary.org/event/traffic-safety-program/
LOCATION:Pottsville Library\, 215 W Market St\, Pottsville\, 17901\, United States
ATTACH;FMTTYPE=image/webp:https://www.pottsvillelibrary.org/wp-content/uploads/2026/04/Traffic_Safety_Program.webp
ORGANIZER;CN="PFPL":MAILTO:potpublib@pottsvillelibrary.org
END:VEVENT
BEGIN:VEVENT
DTSTART;TZID=UTC:20260616T173000
DTEND;TZID=UTC:20260616T190000
DTSTAMP:20260423T234742
CREATED:20260422T183020Z
LAST-MODIFIED:20260422T183020Z
UID:4996-1781631000-1781636400@www.pottsvillelibrary.org
SUMMARY:IRL Among Us Family Night
DESCRIPTION:Join us at the Pottsville Free Public Library for our first family night of the summer\, IRL Among Us\, on June 16th at 5:30 pm. Do tasks and vote out the imposters. Played to the rules of wink tag. To register email potchild@pottsvillelibrary.org\, call 570-622-8880 ext. 12 or coming to the library and telling us in person.
URL:https://www.pottsvillelibrary.org/event/irl-among-us-family-night/
LOCATION:Pottsville Library\, 215 W Market St\, Pottsville\, 17901\, United States
ATTACH;FMTTYPE=image/webp:https://www.pottsvillelibrary.org/wp-content/uploads/2026/04/IRL_Among_Us.webp
ORGANIZER;CN="PFPL":MAILTO:potpublib@pottsvillelibrary.org
END:VEVENT
END:VCALENDAR