BEGIN:VCALENDAR
VERSION:2.0
PRODID:-//Pottsville Free Public Library - ECPv6.15.13//NONSGML v1.0//EN
CALSCALE:GREGORIAN
METHOD:PUBLISH
X-ORIGINAL-URL:https://www.pottsvillelibrary.org
X-WR-CALDESC:Events for Pottsville Free Public Library
REFRESH-INTERVAL;VALUE=DURATION:PT1H
X-Robots-Tag:noindex
X-PUBLISHED-TTL:PT1H
BEGIN:VTIMEZONE
TZID:UTC
BEGIN:STANDARD
TZOFFSETFROM:+0000
TZOFFSETTO:+0000
TZNAME:UTC
DTSTART:20250101T000000
END:STANDARD
END:VTIMEZONE
BEGIN:VEVENT
DTSTART;TZID=UTC:20260609T170000
DTEND;TZID=UTC:20260609T190000
DTSTAMP:20260423T235014
CREATED:20260119T195650Z
LAST-MODIFIED:20260119T195650Z
UID:4425-1781024400-1781031600@www.pottsvillelibrary.org
SUMMARY:Summerween Succulent Workshop
DESCRIPTION:Are you counting down the days until Halloween? Are you more ghouly than girly? This is the program for you! In our Summerween Succulent Workshop we will first be creating a decorative haunted house as the centerpiece for our cauldron. Once completed\, we will plant a succulent garden surrounding the haunted house. All supplies including cauldron\, soil\, succulents\, haunted house\, decorative stones\, gloves\, and other small decorations will be included in price. \nProgram is Tuesday\, June 9th at 5:00PM.  Cost is $30 per person.
URL:https://www.pottsvillelibrary.org/event/summerween-succulent-workshop/
LOCATION:Pottsville Library\, 215 W Market St\, Pottsville\, 17901\, United States
ATTACH;FMTTYPE=image/jpeg:https://www.pottsvillelibrary.org/wp-content/uploads/2026/01/Summerween-Succulent-Workshop.jpg
ORGANIZER;CN="PFPL":MAILTO:potpublib@pottsvillelibrary.org
END:VEVENT
END:VCALENDAR