BEGIN:VCALENDAR
VERSION:2.0
PRODID:-//Pottsville Free Public Library - ECPv6.15.13//NONSGML v1.0//EN
CALSCALE:GREGORIAN
METHOD:PUBLISH
X-WR-CALNAME:Pottsville Free Public Library
X-ORIGINAL-URL:https://www.pottsvillelibrary.org
X-WR-CALDESC:Events for Pottsville Free Public Library
REFRESH-INTERVAL;VALUE=DURATION:PT1H
X-Robots-Tag:noindex
X-PUBLISHED-TTL:PT1H
BEGIN:VTIMEZONE
TZID:UTC
BEGIN:STANDARD
TZOFFSETFROM:+0000
TZOFFSETTO:+0000
TZNAME:UTC
DTSTART:20250101T000000
END:STANDARD
END:VTIMEZONE
BEGIN:VEVENT
DTSTART;TZID=UTC:20260606T100000
DTEND;TZID=UTC:20260606T160000
DTSTAMP:20260423T235216
CREATED:20260415T150539Z
LAST-MODIFIED:20260415T150539Z
UID:4858-1780740000-1780761600@www.pottsvillelibrary.org
SUMMARY:Cave Day Saturday
DESCRIPTION:Join us at the Pottsville Free Public Library on Saturday\, June 6th for a day of activities and STEM crafts celebrating Cave Day from 10 am-4 pm\, with a story time at 2 pm. Recommended for ages 1-12. Registration encouraged by emailing potchild@pottsvillelibrary.org\, calling 570-622-8880 ext. 12 or coming to the library and telling us in person.
URL:https://www.pottsvillelibrary.org/event/cave-day-saturday/
LOCATION:Pottsville Library\, 215 W Market St\, Pottsville\, 17901\, United States
ATTACH;FMTTYPE=image/webp:https://www.pottsvillelibrary.org/wp-content/uploads/2026/04/Cave_Day.webp
ORGANIZER;CN="PFPL":MAILTO:potpublib@pottsvillelibrary.org
END:VEVENT
END:VCALENDAR