BEGIN:VCALENDAR
VERSION:2.0
PRODID:-//Pottsville Free Public Library - ECPv6.15.13//NONSGML v1.0//EN
CALSCALE:GREGORIAN
METHOD:PUBLISH
X-WR-CALNAME:Pottsville Free Public Library
X-ORIGINAL-URL:https://www.pottsvillelibrary.org
X-WR-CALDESC:Events for Pottsville Free Public Library
REFRESH-INTERVAL;VALUE=DURATION:PT1H
X-Robots-Tag:noindex
X-PUBLISHED-TTL:PT1H
BEGIN:VTIMEZONE
TZID:UTC
BEGIN:STANDARD
TZOFFSETFROM:+0000
TZOFFSETTO:+0000
TZNAME:UTC
DTSTART:20250101T000000
END:STANDARD
END:VTIMEZONE
BEGIN:VEVENT
DTSTART;TZID=UTC:20260601T103000
DTEND;TZID=UTC:20260601T113000
DTSTAMP:20260423T235216
CREATED:20260413T200522Z
LAST-MODIFIED:20260413T200522Z
UID:4813-1780309800-1780313400@www.pottsvillelibrary.org
SUMMARY:Toddler Free Play
DESCRIPTION:Join us at the Pottsville Free Public Library on Monday May 18th and June 1st and 8th at 10:30 am for Free Play for ages 1 to 5 during our gap in story time. No registration needed.
URL:https://www.pottsvillelibrary.org/event/toddler-free-play-2/
LOCATION:Pottsville Library\, 215 W Market St\, Pottsville\, 17901\, United States
ATTACH;FMTTYPE=image/webp:https://www.pottsvillelibrary.org/wp-content/uploads/2026/04/Toddler_Free_play.webp
ORGANIZER;CN="PFPL":MAILTO:potpublib@pottsvillelibrary.org
END:VEVENT
BEGIN:VEVENT
DTSTART;TZID=UTC:20260601T120000
DTEND;TZID=UTC:20260601T140000
DTSTAMP:20260423T235216
CREATED:20251113T210711Z
LAST-MODIFIED:20251113T210711Z
UID:4108-1780315200-1780322400@www.pottsvillelibrary.org
SUMMARY:Used Book Sale
DESCRIPTION:Visit our monthly used book sale in the basement of the Library from 12-2 on on the 1st Monday of each month. Thank you to the Friends of the Pottsville Free Public Library for hosting our used book sales!
URL:https://www.pottsvillelibrary.org/event/used-book-sale-32/
LOCATION:Library – Basement\, 215 W. Market St.\, Pottsville\, PA\, 17901\, United States
ATTACH;FMTTYPE=image/png:https://www.pottsvillelibrary.org/wp-content/uploads/2024/12/Book-Sale.png
ORGANIZER;CN="PFPL":MAILTO:potpublib@pottsvillelibrary.org
END:VEVENT
BEGIN:VEVENT
DTSTART;TZID=UTC:20260601T163000
DTEND;TZID=UTC:20260601T190000
DTSTAMP:20260423T235216
CREATED:20260415T173114Z
LAST-MODIFIED:20260415T173114Z
UID:4937-1780331400-1780340400@www.pottsvillelibrary.org
SUMMARY:Magic the Gathering Night
DESCRIPTION:Come join us at the Pottsville Free Public Library for our monthly Magic the Gathering Night the first Monday of each month at 4:30 pm for summer those dates are June 1st\, July 6th and August 3rd\, where we will be playing in the commander format. Don’t know very much about Magic the Gathering but want to learn a little more\, come in and we’ll take the time to introduce you to the rules and cards\, which can then be used to play. To register email potchild@pottsvillelibrary.org\, call 570-622-8880 ext. 12 or come and tell us in person. Recommended for ages 11 and up
URL:https://www.pottsvillelibrary.org/event/magic-the-gathering-night-8/
LOCATION:Pottsville Library\, 215 W Market St\, Pottsville\, 17901\, United States
ATTACH;FMTTYPE=image/webp:https://www.pottsvillelibrary.org/wp-content/uploads/2026/04/Magic_The_Gathering_Summer.webp
ORGANIZER;CN="PFPL":MAILTO:potpublib@pottsvillelibrary.org
END:VEVENT
END:VCALENDAR