BEGIN:VCALENDAR
VERSION:2.0
PRODID:-//Pottsville Free Public Library - ECPv6.15.13//NONSGML v1.0//EN
CALSCALE:GREGORIAN
METHOD:PUBLISH
X-WR-CALNAME:Pottsville Free Public Library
X-ORIGINAL-URL:https://www.pottsvillelibrary.org
X-WR-CALDESC:Events for Pottsville Free Public Library
REFRESH-INTERVAL;VALUE=DURATION:PT1H
X-Robots-Tag:noindex
X-PUBLISHED-TTL:PT1H
BEGIN:VTIMEZONE
TZID:UTC
BEGIN:STANDARD
TZOFFSETFROM:+0000
TZOFFSETTO:+0000
TZNAME:UTC
DTSTART:20250101T000000
END:STANDARD
END:VTIMEZONE
BEGIN:VEVENT
DTSTART;TZID=UTC:20260530T100000
DTEND;TZID=UTC:20260530T120000
DTSTAMP:20260423T222336
CREATED:20260415T190100Z
LAST-MODIFIED:20260415T190100Z
UID:4953-1780135200-1780142400@www.pottsvillelibrary.org
SUMMARY:Sewing 101 with Sew to Succeed
DESCRIPTION:Interested in learning to sew\, but you need some extra help to get started? \nChoose from one of our 3 classes to make a beginner friendly project with complete instructions and hands on help! \nIf you have your own sewing machine\, please bring it so we can teach you to use your own machine. No machine? No problem! We will provide one for anyone who needs one. \nClass is limited to 6 students. Recommended for ages 16 & up. Cost is $25 per person\, per class. \nClass dates: Saturday\, May 16th\, Saturday\, May 23rd and Saturday\, May 30th. Class runs from 10:00 AM to noon.
URL:https://www.pottsvillelibrary.org/event/sewing-101-with-sew-to-succeed-3/
LOCATION:Pottsville Library\, 215 W Market St\, Pottsville\, 17901\, United States
ATTACH;FMTTYPE=image/jpeg:https://www.pottsvillelibrary.org/wp-content/uploads/2026/04/Sew-to-Succeed-Flyer.jpg
ORGANIZER;CN="PFPL":MAILTO:potpublib@pottsvillelibrary.org
END:VEVENT
END:VCALENDAR