BEGIN:VCALENDAR
VERSION:2.0
PRODID:-//Pottsville Free Public Library - ECPv6.15.13//NONSGML v1.0//EN
CALSCALE:GREGORIAN
METHOD:PUBLISH
X-ORIGINAL-URL:https://www.pottsvillelibrary.org
X-WR-CALDESC:Events for Pottsville Free Public Library
REFRESH-INTERVAL;VALUE=DURATION:PT1H
X-Robots-Tag:noindex
X-PUBLISHED-TTL:PT1H
BEGIN:VTIMEZONE
TZID:UTC
BEGIN:STANDARD
TZOFFSETFROM:+0000
TZOFFSETTO:+0000
TZNAME:UTC
DTSTART:20250101T000000
END:STANDARD
END:VTIMEZONE
BEGIN:VEVENT
DTSTART;TZID=UTC:20260529T110000
DTEND;TZID=UTC:20260529T130000
DTSTAMP:20260423T222509
CREATED:20260410T133249Z
LAST-MODIFIED:20260410T133249Z
UID:4804-1780052400-1780059600@www.pottsvillelibrary.org
SUMMARY:Dave Day 2026
DESCRIPTION:Join us on Friday\, May 29th at 11AM for our yearly celebration of the life and artistic works of Dave Naydock! We will have the annual window painting for everyone to leave an artistic expression in honor of Dave\, the display of works from budding artists from the family paint night\, a proclamation from the Mayor of Pottsville\, and Dave’s favorite chocolate chip cookies & other light refreshments.
URL:https://www.pottsvillelibrary.org/event/dave-day-2026/
LOCATION:Pottsville Library\, 215 W Market St\, Pottsville\, 17901\, United States
ATTACH;FMTTYPE=image/jpeg:https://www.pottsvillelibrary.org/wp-content/uploads/2026/04/Dave-Day-2026.jpg
ORGANIZER;CN="PFPL":MAILTO:potpublib@pottsvillelibrary.org
END:VEVENT
END:VCALENDAR