BEGIN:VCALENDAR
VERSION:2.0
PRODID:-//Pottsville Free Public Library - ECPv6.15.13//NONSGML v1.0//EN
CALSCALE:GREGORIAN
METHOD:PUBLISH
X-WR-CALNAME:Pottsville Free Public Library
X-ORIGINAL-URL:https://www.pottsvillelibrary.org
X-WR-CALDESC:Events for Pottsville Free Public Library
REFRESH-INTERVAL;VALUE=DURATION:PT1H
X-Robots-Tag:noindex
X-PUBLISHED-TTL:PT1H
BEGIN:VTIMEZONE
TZID:UTC
BEGIN:STANDARD
TZOFFSETFROM:+0000
TZOFFSETTO:+0000
TZNAME:UTC
DTSTART:20250101T000000
END:STANDARD
END:VTIMEZONE
BEGIN:VEVENT
DTSTART;TZID=UTC:20260516T083000
DTEND;TZID=UTC:20260516T170000
DTSTAMP:20260423T222403
CREATED:20260406T173705Z
LAST-MODIFIED:20260406T173705Z
UID:4764-1778920200-1778950800@www.pottsvillelibrary.org
SUMMARY:2026 Library Scavenger Hunt
DESCRIPTION:Join us for another year of a district wide scavenger hunt. The 2026 PA One Book: “The Great Cookie Kerfuffle” has been hidden at all the libraries in the Pottsville District. Help us locate them all. Go to your local library between April 20th and May 22nd to start and grab a brochure\, which will tell you all the district libraries and give a space to write down where you found the book. Be sure to return the brochure by May 22nd to be entered for a chance to win various prizes. 2 winners will be drawn for visiting at least 5 libraries ($15 Dunkin gift card)\, 2 winners for visiting at least 10 libraries ($25 Amazon gift card) and one winner drawn for visiting all 17 libraries ($50 ticket book for Knoebels). Prizes will be drawn on May 28th and winners will be contacted directly.
URL:https://www.pottsvillelibrary.org/event/2026-library-scavenger-hunt-24/
LOCATION:Pottsville Library\, 215 W Market St\, Pottsville\, 17901\, United States
ATTACH;FMTTYPE=image/webp:https://www.pottsvillelibrary.org/wp-content/uploads/2026/04/PA-One-Book-Scavenger-Hunt-Flyer-2026-scaled.webp
ORGANIZER;CN="PFPL":MAILTO:potpublib@pottsvillelibrary.org
END:VEVENT
BEGIN:VEVENT
DTSTART;TZID=UTC:20260516T100000
DTEND;TZID=UTC:20260516T120000
DTSTAMP:20260423T222403
CREATED:20260415T185908Z
LAST-MODIFIED:20260415T185908Z
UID:4946-1778925600-1778932800@www.pottsvillelibrary.org
SUMMARY:Sewing 101 with Sew to Succeed
DESCRIPTION:Interested in learning to sew\, but you need some extra help to get started? \nChoose from one of our 3 classes to make a beginner friendly project with complete instructions and hands on help! \nIf you have your own sewing machine\, please bring it so we can teach you to use your own machine. No machine? No problem! We will provide one for anyone who needs one. \nClass is limited to 6 students. Recommended for ages 16 & up. Cost is $25 per person\, per class. \nClass dates: Saturday\, May 16th\, Saturday\, May 23rd and Saturday\, May 30th. Class runs from 10:00 AM to noon.
URL:https://www.pottsvillelibrary.org/event/sewing-101-with-sew-to-succeed/
LOCATION:Pottsville Library\, 215 W Market St\, Pottsville\, 17901\, United States
ATTACH;FMTTYPE=image/jpeg:https://www.pottsvillelibrary.org/wp-content/uploads/2026/04/Sew-to-Succeed-Flyer.jpg
ORGANIZER;CN="PFPL":MAILTO:potpublib@pottsvillelibrary.org
END:VEVENT
BEGIN:VEVENT
DTSTART;TZID=UTC:20260516T130000
DTEND;TZID=UTC:20260516T143000
DTSTAMP:20260423T222403
CREATED:20260407T161933Z
LAST-MODIFIED:20260407T162554Z
UID:4787-1778936400-1778941800@www.pottsvillelibrary.org
SUMMARY:Local Nurses Talking About Becoming a Nurse
DESCRIPTION:Thinking about becoming a nurse? Wonder what it’s like to be one? Join us at the Pottsville Free Public Library on Saturday\, May 16th at 1PM for Local Nurses Talking About Becoming a Nurse. A handful of current practicing nurses in a variety of settings will discuss why they decided to become a nurse\, what their average day looks like and how they deal with the stress that comes with the job.\nPlease RSVP with the Library so we can be sure we have enough seats for everyone who wants to attend. Call the Library at 570-622-8880\, or stop by the Circulation Desk during Library hours.\n*Please note that this is not a program to promote any one hospital\, nursing school\, or political agenda\, and this panel will not answer any legal questions or offer any medical advice for individuals.* 
URL:https://www.pottsvillelibrary.org/event/local-nurses-talking-about-becoming-a-nurse/
LOCATION:Pottsville Library\, 215 W Market St\, Pottsville\, 17901\, United States
CATEGORIES:Training or Information Session
ATTACH;FMTTYPE=image/jpeg:https://www.pottsvillelibrary.org/wp-content/uploads/2026/04/Ask-a-Nurse-May-2026-cropped.jpg
ORGANIZER;CN="PFPL":MAILTO:potpublib@pottsvillelibrary.org
END:VEVENT
END:VCALENDAR