BEGIN:VCALENDAR
VERSION:2.0
PRODID:-//Pottsville Free Public Library - ECPv6.15.13//NONSGML v1.0//EN
CALSCALE:GREGORIAN
METHOD:PUBLISH
X-WR-CALNAME:Pottsville Free Public Library
X-ORIGINAL-URL:https://www.pottsvillelibrary.org
X-WR-CALDESC:Events for Pottsville Free Public Library
REFRESH-INTERVAL;VALUE=DURATION:PT1H
X-Robots-Tag:noindex
X-PUBLISHED-TTL:PT1H
BEGIN:VTIMEZONE
TZID:UTC
BEGIN:STANDARD
TZOFFSETFROM:+0000
TZOFFSETTO:+0000
TZNAME:UTC
DTSTART:20250101T000000
END:STANDARD
END:VTIMEZONE
BEGIN:VEVENT
DTSTART;TZID=UTC:20260512T083000
DTEND;TZID=UTC:20260512T193000
DTSTAMP:20260423T222419
CREATED:20260406T173317Z
LAST-MODIFIED:20260406T173317Z
UID:4752-1778574600-1778614200@www.pottsvillelibrary.org
SUMMARY:2026 Library Scavenger Hunt
DESCRIPTION:Join us for another year of a district wide scavenger hunt. The 2026 PA One Book: “The Great Cookie Kerfuffle” has been hidden at all the libraries in the Pottsville District. Help us locate them all. Go to your local library between April 20th and May 22nd to start and grab a brochure\, which will tell you all the district libraries and give a space to write down where you found the book. Be sure to return the brochure by May 22nd to be entered for a chance to win various prizes. 2 winners will be drawn for visiting at least 5 libraries ($15 Dunkin gift card)\, 2 winners for visiting at least 10 libraries ($25 Amazon gift card) and one winner drawn for visiting all 17 libraries ($50 ticket book for Knoebels). Prizes will be drawn on May 28th and winners will be contacted directly.
URL:https://www.pottsvillelibrary.org/event/2026-library-scavenger-hunt-20/
LOCATION:Pottsville Library\, 215 W Market St\, Pottsville\, 17901\, United States
ATTACH;FMTTYPE=image/webp:https://www.pottsvillelibrary.org/wp-content/uploads/2026/04/PA-One-Book-Scavenger-Hunt-Flyer-2026-scaled.webp
ORGANIZER;CN="PFPL":MAILTO:potpublib@pottsvillelibrary.org
END:VEVENT
BEGIN:VEVENT
DTSTART;TZID=UTC:20260512T160000
DTEND;TZID=UTC:20260512T173000
DTSTAMP:20260423T222419
CREATED:20260319T135827Z
LAST-MODIFIED:20260319T135827Z
UID:4666-1778601600-1778607000@www.pottsvillelibrary.org
SUMMARY:Butterfly Days
DESCRIPTION:Join us at the Pottsville Free Public Library for three Tuesdays in May (5th\, 12th and 19th) at 4 to learn and celebrate the stages of life of butterflies. Observe as they change\, do crafts and activities about each stage of their lives\, and learn other things about these wonderful parts of our ecosystem. Registrations appreciated by emailing potchild@pottsvillelibrary.org\, calling 570-622-8880 ext. 12 or coming to the library and telling us in person.
URL:https://www.pottsvillelibrary.org/event/butterfly-days-2/
LOCATION:Pottsville Library\, 215 W Market St\, Pottsville\, 17901\, United States
ATTACH;FMTTYPE=image/webp:https://www.pottsvillelibrary.org/wp-content/uploads/2026/02/butterfly-days-scaled.webp
ORGANIZER;CN="PFPL":MAILTO:potpublib@pottsvillelibrary.org
END:VEVENT
BEGIN:VEVENT
DTSTART;TZID=UTC:20260512T173000
DTEND;TZID=UTC:20260512T183000
DTSTAMP:20260423T222419
CREATED:20260319T140933Z
LAST-MODIFIED:20260319T140933Z
UID:4671-1778607000-1778610600@www.pottsvillelibrary.org
SUMMARY:"Hemlock" Hannah and the Ways of Wildlife
DESCRIPTION:Come and join us on Tuesday\, May 12th at 5:30 pm for a presentation from “Hemlock” Hannah on the ways of wildlife. All ages are welcome. Registration encouraged by emailing potchild@pottsvillelibrary.org\, calling 570-622-8880 ext. 12 or coming to the library and telling us in person.
URL:https://www.pottsvillelibrary.org/event/hemlock-hannah-and-the-ways-of-wildlife/
LOCATION:Pottsville Library\, 215 W Market St\, Pottsville\, 17901\, United States
ATTACH;FMTTYPE=image/webp:https://www.pottsvillelibrary.org/wp-content/uploads/2026/03/HemlockHannahMay2026.webp
ORGANIZER;CN="PFPL":MAILTO:potpublib@pottsvillelibrary.org
END:VEVENT
END:VCALENDAR