BEGIN:VCALENDAR
VERSION:2.0
PRODID:-//Pottsville Free Public Library - ECPv6.15.13//NONSGML v1.0//EN
CALSCALE:GREGORIAN
METHOD:PUBLISH
X-ORIGINAL-URL:https://www.pottsvillelibrary.org
X-WR-CALDESC:Events for Pottsville Free Public Library
REFRESH-INTERVAL;VALUE=DURATION:PT1H
X-Robots-Tag:noindex
X-PUBLISHED-TTL:PT1H
BEGIN:VTIMEZONE
TZID:UTC
BEGIN:STANDARD
TZOFFSETFROM:+0000
TZOFFSETTO:+0000
TZNAME:UTC
DTSTART:20250101T000000
END:STANDARD
END:VTIMEZONE
BEGIN:VEVENT
DTSTART;TZID=UTC:20260502T083000
DTEND;TZID=UTC:20260502T170000
DTSTAMP:20260423T222550
CREATED:20260406T172638Z
LAST-MODIFIED:20260406T172638Z
UID:4728-1777710600-1777741200@www.pottsvillelibrary.org
SUMMARY:2026 Library Scavenger Hunt
DESCRIPTION:Join us for another year of a district wide scavenger hunt. The 2026 PA One Book: “The Great Cookie Kerfuffle” has been hidden at all the libraries in the Pottsville District. Help us locate them all. Go to your local library between April 20th and May 22nd to start and grab a brochure\, which will tell you all the district libraries and give a space to write down where you found the book. Be sure to return the brochure by May 22nd to be entered for a chance to win various prizes. 2 winners will be drawn for visiting at least 5 libraries ($15 Dunkin gift card)\, 2 winners for visiting at least 10 libraries ($25 Amazon gift card) and one winner drawn for visiting all 17 libraries ($50 ticket book for Knoebels). Prizes will be drawn on May 28th and winners will be contacted directly.
URL:https://www.pottsvillelibrary.org/event/2026-library-scavenger-hunt-12/
LOCATION:Pottsville Library\, 215 W Market St\, Pottsville\, 17901\, United States
ATTACH;FMTTYPE=image/webp:https://www.pottsvillelibrary.org/wp-content/uploads/2026/04/PA-One-Book-Scavenger-Hunt-Flyer-2026-scaled.webp
ORGANIZER;CN="PFPL":MAILTO:potpublib@pottsvillelibrary.org
END:VEVENT
BEGIN:VEVENT
DTSTART;TZID=UTC:20260502T110000
DTEND;TZID=UTC:20260502T150000
DTSTAMP:20260423T222550
CREATED:20251009T190510Z
LAST-MODIFIED:20251009T190510Z
UID:4042-1777719600-1777734000@www.pottsvillelibrary.org
SUMMARY:May Day Metaphysical Market
DESCRIPTION:**VENDORS WANTED** \nJoin us for an enchanting day at the historic Pottsville Library while we pack the floors with artists\, handmade crafters\, authors\, vendors\, food and a used book sale to complete the day! The May Day Metaphysical Market will be held on Saturday\, May 2nd\, 2026\, from 11-3 PM. There is free on street parking\, and free admission to the market. \nIf you wish to be a vendor at this event\, there is a $20 vendor fee. Please email ginab@pottsvillelibrary.org for registration information.
URL:https://www.pottsvillelibrary.org/event/may-day-metaphysical-market-4/
LOCATION:Pottsville Library\, 215 W Market St\, Pottsville\, 17901\, United States
ATTACH;FMTTYPE=image/jpeg:https://www.pottsvillelibrary.org/wp-content/uploads/2025/10/May-Day-Flyer.jpg
ORGANIZER;CN="PFPL":MAILTO:potpublib@pottsvillelibrary.org
END:VEVENT
END:VCALENDAR