BEGIN:VCALENDAR
VERSION:2.0
PRODID:-//Pottsville Free Public Library - ECPv6.15.13//NONSGML v1.0//EN
CALSCALE:GREGORIAN
METHOD:PUBLISH
X-ORIGINAL-URL:https://www.pottsvillelibrary.org
X-WR-CALDESC:Events for Pottsville Free Public Library
REFRESH-INTERVAL;VALUE=DURATION:PT1H
X-Robots-Tag:noindex
X-PUBLISHED-TTL:PT1H
BEGIN:VTIMEZONE
TZID:UTC
BEGIN:STANDARD
TZOFFSETFROM:+0000
TZOFFSETTO:+0000
TZNAME:UTC
DTSTART:20250101T000000
END:STANDARD
END:VTIMEZONE
BEGIN:VEVENT
DTSTART;TZID=UTC:20260414T173000
DTEND;TZID=UTC:20260414T183000
DTSTAMP:20260423T222615
CREATED:20260114T141023Z
LAST-MODIFIED:20260114T141023Z
UID:4408-1776187800-1776191400@www.pottsvillelibrary.org
SUMMARY:Stress Busters Tool Kit with Deborah Miller\, BCH
DESCRIPTION:Tuesday\, April 14th at 5:30\, please join us for a special free program with Deborah Miller\, BCH! \nJoin this educational class to experience and learn natural ways to dial down the stress in your life. A variety of proven techniques will be taught so that you can choose the ones that work best for you..to add to your toolbox! \nDeborah Miller is a retired Board Certified Hypnotherapist and Mindfulness Meditation Instructor certified in stress management with more than ten years experience in the field as a clinical hypnotherapist.
URL:https://www.pottsvillelibrary.org/event/stress-busters-tool-kit-with-deborah-miller-bch/
LOCATION:Pottsville Library\, 215 W Market St\, Pottsville\, 17901\, United States
ATTACH;FMTTYPE=image/jpeg:https://www.pottsvillelibrary.org/wp-content/uploads/2026/01/Stress-Busters-Flyer-1-1-scaled.jpeg
ORGANIZER;CN="PFPL":MAILTO:potpublib@pottsvillelibrary.org
END:VEVENT
BEGIN:VEVENT
DTSTART;TZID=UTC:20260414T173000
DTEND;TZID=UTC:20260414T190000
DTSTAMP:20260423T222615
CREATED:20260218T180711Z
LAST-MODIFIED:20260218T180711Z
UID:4534-1776187800-1776193200@www.pottsvillelibrary.org
SUMMARY:Cosplay Egg Family Night
DESCRIPTION:Come on down to the Pottsville Free Public Library on Tuesday April 14th at 5:30pm for a night of decorating plastic eggs to look like your favorite characters at our Cosplay Egg Family Night. Registrations greatly appreciated by emailing potchild@pottsvillelibrary.org\, calling 570-62-8880 ext. 12 or telling us in person. All supplies provided and it is free.
URL:https://www.pottsvillelibrary.org/event/cosplay-egg-family-night/
LOCATION:Pottsville Library\, 215 W Market St\, Pottsville\, 17901\, United States
ATTACH;FMTTYPE=image/webp:https://www.pottsvillelibrary.org/wp-content/uploads/2026/02/CosplayEggNight_2026.webp
ORGANIZER;CN="PFPL":MAILTO:potpublib@pottsvillelibrary.org
END:VEVENT
END:VCALENDAR