BEGIN:VCALENDAR
VERSION:2.0
PRODID:-//Pottsville Free Public Library - ECPv6.15.13//NONSGML v1.0//EN
CALSCALE:GREGORIAN
METHOD:PUBLISH
X-WR-CALNAME:Pottsville Free Public Library
X-ORIGINAL-URL:https://www.pottsvillelibrary.org
X-WR-CALDESC:Events for Pottsville Free Public Library
REFRESH-INTERVAL;VALUE=DURATION:PT1H
X-Robots-Tag:noindex
X-PUBLISHED-TTL:PT1H
BEGIN:VTIMEZONE
TZID:UTC
BEGIN:STANDARD
TZOFFSETFROM:+0000
TZOFFSETTO:+0000
TZNAME:UTC
DTSTART:20250101T000000
END:STANDARD
END:VTIMEZONE
BEGIN:VEVENT
DTSTART;TZID=UTC:20260309T090000
DTEND;TZID=UTC:20260321T163000
DTSTAMP:20260423T222401
CREATED:20260123T211641Z
LAST-MODIFIED:20260123T211641Z
UID:4450-1773046800-1774110600@www.pottsvillelibrary.org
SUMMARY:9th Annual Art as Healing Exhibit\, with Schuylkill Hope Center
DESCRIPTION:The Pottsville Free Public Library is pleased to partner with Schuylkill Hope Center again this year for one of our favorite art exhibits. Artwork created by survivors working with Schuylkill Hope Center will be on display in the Library from March 9-21\, along with displays of prominent women in American History. This is exhibit is free to attend\, and is open during all regular Pottsville Library hours.\nThese artists are from throughout the county and use this artwork as a means of empowerment through the healing process. The display’s main goal is to encourage survivors to express themselves artistically\, as well as inspire thought in those who view it.\nAlso\, on Monday\, March 9th\, in honor of International Women’s Day\, a representative from Schuylkill Hope Center will be in the Library to provide information regarding services offered by the agency\, discuss available volunteer opportunities\, and to answer any questions anyone may have about the Art as Healing display.\nPlease join us to view and appreciate the art\, and to support this vital local organization. Note that artwork on display will not be for sale\, and the individual artists’ names are not made available for privacy reasons.
URL:https://www.pottsvillelibrary.org/event/9th-annual-art-as-healing-exhibit-with-schuylkill-hope-center/
LOCATION:Pottsville Library\, 215 W Market St\, Pottsville\, 17901\, United States
CATEGORIES:Art Exhibit
ATTACH;FMTTYPE=image/jpeg:https://www.pottsvillelibrary.org/wp-content/uploads/2026/01/AAH_FB_flag_2026.jpg
END:VEVENT
BEGIN:VEVENT
DTSTART;TZID=UTC:20260319T163000
DTEND;TZID=UTC:20260319T173000
DTSTAMP:20260423T222401
CREATED:20260109T211904Z
LAST-MODIFIED:20260109T211904Z
UID:4377-1773937800-1773941400@www.pottsvillelibrary.org
SUMMARY:Teen Book Club
DESCRIPTION:Looking for a place to read a book and chill with your peers. Recommended for ages 10-16. A New Year has rolled around\, take the chance to catch up on all the books you’ve been meaning to read but haven’t gotten to\, bring your own book or use one of the ones we have here. We meet the third Thursday of the month\, which for March is Thursday the 19th at 4:30 pm. Tell us your coming by emailing potchild@pottsvillelibrary.org\, call 570-622-8880 ext. 12 or come to the library and tell us in person.
URL:https://www.pottsvillelibrary.org/event/teen-book-club-15/
LOCATION:Pottsville Library\, 215 W Market St\, Pottsville\, 17901\, United States
ATTACH;FMTTYPE=image/webp:https://www.pottsvillelibrary.org/wp-content/uploads/2026/01/TeenBookClub2026.webp
ORGANIZER;CN="PFPL":MAILTO:potpublib@pottsvillelibrary.org
END:VEVENT
BEGIN:VEVENT
DTSTART;TZID=UTC:20260319T173000
DTEND;TZID=UTC:20260319T183000
DTSTAMP:20260423T222401
CREATED:20260109T213940Z
LAST-MODIFIED:20260109T213940Z
UID:4392-1773941400-1773945000@www.pottsvillelibrary.org
SUMMARY:Teen Advisory Board
DESCRIPTION:Are you 12 to 18\, do you want to have a say what the Youth Services Department offers to teen; books\, magazines\, video games and programs have a say in what we do. Intimidated by how much work that sounds like\, don’t worry\, we don’t expect input every time\, just anytime you feel like it. Tell us your coming by emailing potchild@pottsvillelibrary.org\, call 570-622-8880 ext. 12 or come tell us in person. We meet the third Thursday of the month which for March is the 19th at 5:30 pm.
URL:https://www.pottsvillelibrary.org/event/teen-advisory-board-12/
LOCATION:Pottsville Library\, 215 W Market St\, Pottsville\, 17901\, United States
ATTACH;FMTTYPE=image/webp:https://www.pottsvillelibrary.org/wp-content/uploads/2026/01/TeenAdvisoryBoard2026.webp
ORGANIZER;CN="PFPL":MAILTO:potpublib@pottsvillelibrary.org
END:VEVENT
END:VCALENDAR