BEGIN:VCALENDAR
VERSION:2.0
PRODID:-//Pottsville Free Public Library - ECPv6.15.13//NONSGML v1.0//EN
CALSCALE:GREGORIAN
METHOD:PUBLISH
X-ORIGINAL-URL:https://www.pottsvillelibrary.org
X-WR-CALDESC:Events for Pottsville Free Public Library
REFRESH-INTERVAL;VALUE=DURATION:PT1H
X-Robots-Tag:noindex
X-PUBLISHED-TTL:PT1H
BEGIN:VTIMEZONE
TZID:UTC
BEGIN:STANDARD
TZOFFSETFROM:+0000
TZOFFSETTO:+0000
TZNAME:UTC
DTSTART:20250101T000000
END:STANDARD
END:VTIMEZONE
BEGIN:VEVENT
DTSTART;TZID=UTC:20260304T163000
DTEND;TZID=UTC:20260304T173000
DTSTAMP:20260423T222539
CREATED:20251204T212456Z
LAST-MODIFIED:20251204T212456Z
UID:4235-1772641800-1772645400@www.pottsvillelibrary.org
SUMMARY:Girls Who Code
DESCRIPTION:Join us for several sessions of Girls Who Code. recommended for ages 7-13. Learn about coding and several different coding languages as well as each session having its own coding challenge. Each session will be its own thing\, make it to as many (or as few) as you can. While called Girls who Code sessions are not just for girls\, any aspiring young coder may participate. This session is running on Wednesdays from January 21st until March 25th at 4:30 pm. Please register by emailing potchild@pottsvillelibrary.org\, call (570) 622-8880 ext. 12 or come to the Youth Services Desk to learn more or register.
URL:https://www.pottsvillelibrary.org/event/girls-who-code-27/
LOCATION:Pottsville Library\, 215 W Market St\, Pottsville\, 17901\, United States
ATTACH;FMTTYPE=image/webp:https://www.pottsvillelibrary.org/wp-content/uploads/2025/12/Girls_Who_Code_2026.webp
ORGANIZER;CN="PFPL":MAILTO:potpublib@pottsvillelibrary.org
END:VEVENT
END:VCALENDAR