BEGIN:VCALENDAR
VERSION:2.0
PRODID:-//Pottsville Free Public Library - ECPv6.15.13//NONSGML v1.0//EN
CALSCALE:GREGORIAN
METHOD:PUBLISH
X-WR-CALNAME:Pottsville Free Public Library
X-ORIGINAL-URL:https://www.pottsvillelibrary.org
X-WR-CALDESC:Events for Pottsville Free Public Library
REFRESH-INTERVAL;VALUE=DURATION:PT1H
X-Robots-Tag:noindex
X-PUBLISHED-TTL:PT1H
BEGIN:VTIMEZONE
TZID:UTC
BEGIN:STANDARD
TZOFFSETFROM:+0000
TZOFFSETTO:+0000
TZNAME:UTC
DTSTART:20250101T000000
END:STANDARD
END:VTIMEZONE
BEGIN:VEVENT
DTSTART;TZID=UTC:20260302T103000
DTEND;TZID=UTC:20260302T113000
DTSTAMP:20260423T222441
CREATED:20251204T205150Z
LAST-MODIFIED:20251204T205150Z
UID:4184-1772447400-1772451000@www.pottsvillelibrary.org
SUMMARY:Winter/Spring Story Time
DESCRIPTION:Join us for a story\, songs and a craft for our Winter/Spring Story Time on Mondays at 10:30 am running from February 9th until May 11th. Recommended for ages 1-5\, older and younger siblings are always welcome. Please register by emailing potchild@pottsvillelibrary.org\, calling 570-622-8880 ext. 12 or come to visit and tell us in person.
URL:https://www.pottsvillelibrary.org/event/winter-spring-story-time-4/
LOCATION:Pottsville Library\, 215 W Market St\, Pottsville\, 17901\, United States
ATTACH;FMTTYPE=image/webp:https://www.pottsvillelibrary.org/wp-content/uploads/2025/12/StoryTimePoster_2026.webp
ORGANIZER;CN="PFPL":MAILTO:potpublib@pottsvillelibrary.org
END:VEVENT
BEGIN:VEVENT
DTSTART;TZID=UTC:20260302T120000
DTEND;TZID=UTC:20260302T140000
DTSTAMP:20260423T222441
CREATED:20251113T210119Z
LAST-MODIFIED:20251113T210119Z
UID:4099-1772452800-1772460000@www.pottsvillelibrary.org
SUMMARY:Used Book Sale
DESCRIPTION:Visit our monthly used book sale in the basement of the Library from 12-2 on on the 1st Monday of each month. Thank you to the Friends of the Pottsville Free Public Library for hosting our used book sales!
URL:https://www.pottsvillelibrary.org/event/used-book-sale-29/
LOCATION:Library – Basement\, 215 W. Market St.\, Pottsville\, PA\, 17901\, United States
ATTACH;FMTTYPE=image/png:https://www.pottsvillelibrary.org/wp-content/uploads/2024/12/Book-Sale.png
ORGANIZER;CN="PFPL":MAILTO:potpublib@pottsvillelibrary.org
END:VEVENT
BEGIN:VEVENT
DTSTART;TZID=UTC:20260302T163000
DTEND;TZID=UTC:20260302T190000
DTSTAMP:20260423T222441
CREATED:20251222T223807Z
LAST-MODIFIED:20251222T223807Z
UID:4320-1772469000-1772478000@www.pottsvillelibrary.org
SUMMARY:Magic the Gathering Night
DESCRIPTION:Come join us at the Pottsville Free Public Library for our monthly Magic the Gathering Night on Monday March 2nd at 4:30 pm where we will be playing in the commander format. Don’t know very much about Magic the Gathering but want to learn a little more\, come in and we’ll take the time to introduce you to the rules and cards\, which can then be used to play. To register email potchild@pottsvillelibrary.org\, call 570-622-8880 ext. 12 or come and tell us in person. Recommended for ages 11 and up
URL:https://www.pottsvillelibrary.org/event/magic-the-gathering-night-5/
LOCATION:Pottsville Library\, 215 W Market St\, Pottsville\, 17901\, United States
ATTACH;FMTTYPE=image/webp:https://www.pottsvillelibrary.org/wp-content/uploads/2025/12/MagicTheGatheringPoster2026.webp
ORGANIZER;CN="PFPL":MAILTO:potpublib@pottsvillelibrary.org
END:VEVENT
END:VCALENDAR