BEGIN:VCALENDAR
VERSION:2.0
PRODID:-//Pottsville Free Public Library - ECPv6.15.13//NONSGML v1.0//EN
CALSCALE:GREGORIAN
METHOD:PUBLISH
X-ORIGINAL-URL:https://www.pottsvillelibrary.org
X-WR-CALDESC:Events for Pottsville Free Public Library
REFRESH-INTERVAL;VALUE=DURATION:PT1H
X-Robots-Tag:noindex
X-PUBLISHED-TTL:PT1H
BEGIN:VTIMEZONE
TZID:UTC
BEGIN:STANDARD
TZOFFSETFROM:+0000
TZOFFSETTO:+0000
TZNAME:UTC
DTSTART:20250101T000000
END:STANDARD
END:VTIMEZONE
BEGIN:VEVENT
DTSTART;TZID=UTC:20260227T180000
DTEND;TZID=UTC:20260227T210000
DTSTAMP:20260423T222613
CREATED:20251231T213249Z
LAST-MODIFIED:20251231T213249Z
UID:4349-1772215200-1772226000@www.pottsvillelibrary.org
SUMMARY:7th Annual Putting Fore Pottsville Library
DESCRIPTION:Get ready for our 7th Annual Putting Fore Pottsville Library! What is it\, you ask? A full mini golf course throughout the Library! That’s right–at least 18 holes of mini golf going through the stacks\, down the stairs and through the rooms! On our adults only night you will enjoy a full round of mini golf\, and food & beverages included in your ticket price. There will be an optional cornhole tournament available at an extra cost. This event is 21 & over. \nAdults only event will be held Friday\, February 27th\, 2026 from 6-9PM. $35 per person. \nPrepaid reservations available at the Library\, or online on our Facebook event page.
URL:https://www.pottsvillelibrary.org/event/7th-annual-putting-fore-pottsville-library/
LOCATION:Pottsville Library\, 215 W Market St\, Pottsville\, 17901\, United States
ATTACH;FMTTYPE=image/jpeg:https://www.pottsvillelibrary.org/wp-content/uploads/2025/12/Brochure-both-events.jpg
ORGANIZER;CN="PFPL":MAILTO:potpublib@pottsvillelibrary.org
END:VEVENT
END:VCALENDAR