BEGIN:VCALENDAR
VERSION:2.0
PRODID:-//Pottsville Free Public Library - ECPv6.15.13//NONSGML v1.0//EN
CALSCALE:GREGORIAN
METHOD:PUBLISH
X-WR-CALNAME:Pottsville Free Public Library
X-ORIGINAL-URL:https://www.pottsvillelibrary.org
X-WR-CALDESC:Events for Pottsville Free Public Library
REFRESH-INTERVAL;VALUE=DURATION:PT1H
X-Robots-Tag:noindex
X-PUBLISHED-TTL:PT1H
BEGIN:VTIMEZONE
TZID:UTC
BEGIN:STANDARD
TZOFFSETFROM:+0000
TZOFFSETTO:+0000
TZNAME:UTC
DTSTART:20250101T000000
END:STANDARD
END:VTIMEZONE
BEGIN:VEVENT
DTSTART;TZID=UTC:20260219T160000
DTEND;TZID=UTC:20260219T170000
DTSTAMP:20260423T234907
CREATED:20260120T165833Z
LAST-MODIFIED:20260120T165833Z
UID:4441-1771516800-1771520400@www.pottsvillelibrary.org
SUMMARY:PA CareerLink at the Pottsville Free Public Library
DESCRIPTION:Come over to the Pottsville Free Public Library on February 19th from 4-5 pm to hear from Pennsylvania CareerLink and learn about what they do and what help they can offer you throughout your late teen and early adult years. Presentation is for ages 16-24. No need to register but we would love to know if your coming.
URL:https://www.pottsvillelibrary.org/event/pa-careerlink-at-the-pottsville-free-public-library/
LOCATION:Pottsville Library\, 215 W Market St\, Pottsville\, 17901\, United States
ATTACH;FMTTYPE=image/webp:https://www.pottsvillelibrary.org/wp-content/uploads/2026/01/CareerLinkFlyer.webp
ORGANIZER;CN="PFPL":MAILTO:potpublib@pottsvillelibrary.org
END:VEVENT
BEGIN:VEVENT
DTSTART;TZID=UTC:20260219T163000
DTEND;TZID=UTC:20260219T173000
DTSTAMP:20260423T234907
CREATED:20260109T211802Z
LAST-MODIFIED:20260109T211802Z
UID:4374-1771518600-1771522200@www.pottsvillelibrary.org
SUMMARY:Teen Book Club
DESCRIPTION:Looking for a place to read a book and chill with your peers. Recommended for ages 10-16. A New Year has rolled around\, take the chance to catch up on all the books you’ve been meaning to read but haven’t gotten to\, bring your own book or use one of the ones we have here. We meet the third Thursday of the month\, which for February is Thursday the 19th at 4:30 pm. Tell us your coming by emailing potchild@pottsvillelibrary.org\, call 570-622-8880 ext. 12 or come to the library and tell us in person.
URL:https://www.pottsvillelibrary.org/event/teen-book-club-14/
LOCATION:Pottsville Library\, 215 W Market St\, Pottsville\, 17901\, United States
ATTACH;FMTTYPE=image/webp:https://www.pottsvillelibrary.org/wp-content/uploads/2026/01/TeenBookClub2026.webp
ORGANIZER;CN="PFPL":MAILTO:potpublib@pottsvillelibrary.org
END:VEVENT
END:VCALENDAR