BEGIN:VCALENDAR
VERSION:2.0
PRODID:-//Pottsville Free Public Library - ECPv6.15.13//NONSGML v1.0//EN
CALSCALE:GREGORIAN
METHOD:PUBLISH
X-WR-CALNAME:Pottsville Free Public Library
X-ORIGINAL-URL:https://www.pottsvillelibrary.org
X-WR-CALDESC:Events for Pottsville Free Public Library
REFRESH-INTERVAL;VALUE=DURATION:PT1H
X-Robots-Tag:noindex
X-PUBLISHED-TTL:PT1H
BEGIN:VTIMEZONE
TZID:UTC
BEGIN:STANDARD
TZOFFSETFROM:+0000
TZOFFSETTO:+0000
TZNAME:UTC
DTSTART:20250101T000000
END:STANDARD
END:VTIMEZONE
BEGIN:VEVENT
DTSTART;TZID=UTC:20260217T160000
DTEND;TZID=UTC:20260217T170000
DTSTAMP:20260423T234816
CREATED:20251204T214718Z
LAST-MODIFIED:20251204T214718Z
UID:4263-1771344000-1771347600@www.pottsvillelibrary.org
SUMMARY:Lego Club
DESCRIPTION:Join us at the Pottsville Free Public Library on Tuesdays at 4 pm from January 13th until March 17th for Lego Club\, an hour (or so) of playing with the library’s many Lego sets. Please register by emailing potchild@pottsvillelibrary.org\, calling 570-622-8880 ext. 12 or come to visit us and tell us in person. Recommended for ages 6-12\, though older and younger siblings are always welcome.
URL:https://www.pottsvillelibrary.org/event/lego-club-6/
LOCATION:Pottsville Library\, 215 W Market St\, Pottsville\, 17901\, United States
ATTACH;FMTTYPE=image/webp:https://www.pottsvillelibrary.org/wp-content/uploads/2025/12/LegoClubPoster.webp
ORGANIZER;CN="PFPL":MAILTO:potpublib@pottsvillelibrary.org
END:VEVENT
BEGIN:VEVENT
DTSTART;TZID=UTC:20260217T170000
DTEND;TZID=UTC:20260217T190000
DTSTAMP:20260423T234816
CREATED:20251222T223003Z
LAST-MODIFIED:20251222T223003Z
UID:4309-1771347600-1771354800@www.pottsvillelibrary.org
SUMMARY:Pokémon Night
DESCRIPTION:Join us at 5 pm on Tuesday\, February 17th at the Pottsville Free Public Library for a Pokémon Night. There will be Pokémon crafts\, trivia and a scavenger hunt. To register please email potchild@pottsvillelibrary.org\, call 570-622-8880 ext. 12 or come to the library and tell us in person.
URL:https://www.pottsvillelibrary.org/event/pokemon-night/
LOCATION:Pottsville Library\, 215 W Market St\, Pottsville\, 17901\, United States
ATTACH;FMTTYPE=image/webp:https://www.pottsvillelibrary.org/wp-content/uploads/2025/12/PokemonDayPoster2026.webp
ORGANIZER;CN="PFPL":MAILTO:potpublib@pottsvillelibrary.org
END:VEVENT
END:VCALENDAR