BEGIN:VCALENDAR
VERSION:2.0
PRODID:-//Pottsville Free Public Library - ECPv6.15.13//NONSGML v1.0//EN
CALSCALE:GREGORIAN
METHOD:PUBLISH
X-WR-CALNAME:Pottsville Free Public Library
X-ORIGINAL-URL:https://www.pottsvillelibrary.org
X-WR-CALDESC:Events for Pottsville Free Public Library
REFRESH-INTERVAL;VALUE=DURATION:PT1H
X-Robots-Tag:noindex
X-PUBLISHED-TTL:PT1H
BEGIN:VTIMEZONE
TZID:UTC
BEGIN:STANDARD
TZOFFSETFROM:+0000
TZOFFSETTO:+0000
TZNAME:UTC
DTSTART:20250101T000000
END:STANDARD
END:VTIMEZONE
BEGIN:VEVENT
DTSTART;TZID=UTC:20260117T100000
DTEND;TZID=UTC:20260117T160000
DTSTAMP:20260424T013140
CREATED:20251204T203229Z
LAST-MODIFIED:20251204T203229Z
UID:4166-1768644000-1768665600@www.pottsvillelibrary.org
SUMMARY:Winterfest at the Library
DESCRIPTION:Join the Pottsville Free Public Library for Winterfest on Saturday\, January 17th from 10-4. There will be winter themed crafts and various rec room activities for ages 6 and up. Additionally there will be a winter themed Storytime at 11 for ages 1-5\, though older siblings are always welcome. All activities are free.
URL:https://www.pottsvillelibrary.org/event/winterfest-at-the-library/
LOCATION:Pottsville Library\, 215 W Market St\, Pottsville\, 17901\, United States
ATTACH;FMTTYPE=image/webp:https://www.pottsvillelibrary.org/wp-content/uploads/2025/12/Winterfest2026.webp
ORGANIZER;CN="PFPL":MAILTO:potpublib@pottsvillelibrary.org
END:VEVENT
END:VCALENDAR