BEGIN:VCALENDAR
VERSION:2.0
PRODID:-//Pottsville Free Public Library - ECPv6.15.13//NONSGML v1.0//EN
CALSCALE:GREGORIAN
METHOD:PUBLISH
X-WR-CALNAME:Pottsville Free Public Library
X-ORIGINAL-URL:https://www.pottsvillelibrary.org
X-WR-CALDESC:Events for Pottsville Free Public Library
REFRESH-INTERVAL;VALUE=DURATION:PT1H
X-Robots-Tag:noindex
X-PUBLISHED-TTL:PT1H
BEGIN:VTIMEZONE
TZID:UTC
BEGIN:STANDARD
TZOFFSETFROM:+0000
TZOFFSETTO:+0000
TZNAME:UTC
DTSTART:20250101T000000
END:STANDARD
END:VTIMEZONE
BEGIN:VEVENT
DTSTART;TZID=UTC:20260109T080000
DTEND;TZID=UTC:20260109T170000
DTSTAMP:20260424T013301
CREATED:20260109T213809Z
LAST-MODIFIED:20260109T213809Z
UID:4389-1767945600-1767978000@www.pottsvillelibrary.org
SUMMARY:Teen Advisory Board
DESCRIPTION:Are you 12 to 18\, do you want to have a say what the Youth Services Department offers to teen; books\, magazines\, video games and programs have a say in what we do. Intimidated by how much work that sounds like\, don’t worry\, we don’t expect input every time\, just anytime you feel like it. Tell us your coming by emailing potchild@pottsvillelibrary.org\, call 570-622-8880 ext. 12 or come tell us in person. We meet the third Thursday of the month which for February is the 19th at 5:30 pm.
URL:https://www.pottsvillelibrary.org/event/teen-advisory-board-11/
LOCATION:Pottsville Library\, 215 W Market St\, Pottsville\, 17901\, United States
ATTACH;FMTTYPE=image/webp:https://www.pottsvillelibrary.org/wp-content/uploads/2026/01/TeenAdvisoryBoard2026.webp
ORGANIZER;CN="PFPL":MAILTO:potpublib@pottsvillelibrary.org
END:VEVENT
END:VCALENDAR