BEGIN:VCALENDAR
VERSION:2.0
PRODID:-//Pottsville Free Public Library - ECPv6.15.13//NONSGML v1.0//EN
CALSCALE:GREGORIAN
METHOD:PUBLISH
X-WR-CALNAME:Pottsville Free Public Library
X-ORIGINAL-URL:https://www.pottsvillelibrary.org
X-WR-CALDESC:Events for Pottsville Free Public Library
REFRESH-INTERVAL;VALUE=DURATION:PT1H
X-Robots-Tag:noindex
X-PUBLISHED-TTL:PT1H
BEGIN:VTIMEZONE
TZID:UTC
BEGIN:STANDARD
TZOFFSETFROM:+0000
TZOFFSETTO:+0000
TZNAME:UTC
DTSTART:20240101T000000
END:STANDARD
END:VTIMEZONE
BEGIN:VEVENT
DTSTART;TZID=UTC:20251230T160000
DTEND;TZID=UTC:20251230T170000
DTSTAMP:20260424T013300
CREATED:20251204T195400Z
LAST-MODIFIED:20251204T195400Z
UID:4158-1767110400-1767114000@www.pottsvillelibrary.org
SUMMARY:Escape from Candy Land Escape Room
DESCRIPTION:Join us at the Pottsville Free Public Library for a Candy Land themed escape room on Tuesday\, December 30th at 4 pm. Recommended for ages 9-17. To register please email potchild@pottsvillelibrary.org\, call 570-622-8880 ext. 12 or come visit us in person.
URL:https://www.pottsvillelibrary.org/event/escape-from-candy-land-escape-room/
LOCATION:Pottsville Library\, 215 W Market St\, Pottsville\, 17901\, United States
ATTACH;FMTTYPE=image/webp:https://www.pottsvillelibrary.org/wp-content/uploads/2025/12/CandyLandEscapeRoom_Poster.webp
ORGANIZER;CN="PFPL":MAILTO:potpublib@pottsvillelibrary.org
END:VEVENT
END:VCALENDAR