BEGIN:VCALENDAR
VERSION:2.0
PRODID:-//Pottsville Free Public Library - ECPv6.15.13//NONSGML v1.0//EN
CALSCALE:GREGORIAN
METHOD:PUBLISH
X-ORIGINAL-URL:https://www.pottsvillelibrary.org
X-WR-CALDESC:Events for Pottsville Free Public Library
REFRESH-INTERVAL;VALUE=DURATION:PT1H
X-Robots-Tag:noindex
X-PUBLISHED-TTL:PT1H
BEGIN:VTIMEZONE
TZID:UTC
BEGIN:STANDARD
TZOFFSETFROM:+0000
TZOFFSETTO:+0000
TZNAME:UTC
DTSTART:20240101T000000
END:STANDARD
END:VTIMEZONE
BEGIN:VEVENT
DTSTART;TZID=UTC:20251202T173000
DTEND;TZID=UTC:20251202T190000
DTSTAMP:20260424T031056
CREATED:20250827T153723Z
LAST-MODIFIED:20250827T153723Z
UID:3967-1764696600-1764702000@www.pottsvillelibrary.org
SUMMARY:Life Sized Candy
DESCRIPTION:Join us at the Pottsville Free Public Library on Tuesday December 2nd at 5:30 pm for Life Sized Candy Land. Recommended for all ages. Registration requested but not required by emailing potchild@pottsvillelibrary.org\, calling 570-622-8880 ext. 12 or coming to the library and talking to us in person.
URL:https://www.pottsvillelibrary.org/event/life-sized-candy/
LOCATION:Pottsville Library\, 215 W Market St\, Pottsville\, 17901\, United States
ATTACH;FMTTYPE=image/webp:https://www.pottsvillelibrary.org/wp-content/uploads/2025/08/Life-Sized-Candy-Land.webp
ORGANIZER;CN="PFPL":MAILTO:potpublib@pottsvillelibrary.org
END:VEVENT
END:VCALENDAR