BEGIN:VCALENDAR
VERSION:2.0
PRODID:-//Pottsville Free Public Library - ECPv6.15.13//NONSGML v1.0//EN
CALSCALE:GREGORIAN
METHOD:PUBLISH
X-ORIGINAL-URL:https://www.pottsvillelibrary.org
X-WR-CALDESC:Events for Pottsville Free Public Library
REFRESH-INTERVAL;VALUE=DURATION:PT1H
X-Robots-Tag:noindex
X-PUBLISHED-TTL:PT1H
BEGIN:VTIMEZONE
TZID:UTC
BEGIN:STANDARD
TZOFFSETFROM:+0000
TZOFFSETTO:+0000
TZNAME:UTC
DTSTART:20240101T000000
END:STANDARD
END:VTIMEZONE
BEGIN:VEVENT
DTSTART;TZID=UTC:20251125T163000
DTEND;TZID=UTC:20251125T173000
DTSTAMP:20260424T045244
CREATED:20250712T193101Z
LAST-MODIFIED:20250712T193101Z
UID:3806-1764088200-1764091800@www.pottsvillelibrary.org
SUMMARY:Robot Refresh
DESCRIPTION:Come to the Pottsville Free Public Library to explore robotics and coding with the library’s robotics STEM kits. Recommended for ages 6-12. Please email potchild@pottsvillelibrary.org\, call 570-622-8880 ext. 12 or come to the library and talk to us to register or for more information.
URL:https://www.pottsvillelibrary.org/event/robot-refresh-10/
LOCATION:Pottsville Library\, 215 W Market St\, Pottsville\, 17901\, United States
ATTACH;FMTTYPE=image/webp:https://www.pottsvillelibrary.org/wp-content/uploads/2025/07/Robot-Refresh-2025.webp
ORGANIZER;CN="PFPL":MAILTO:potpublib@pottsvillelibrary.org
END:VEVENT
BEGIN:VEVENT
DTSTART;TZID=UTC:20251125T170000
DTEND;TZID=UTC:20251125T190000
DTSTAMP:20260424T045244
CREATED:20250827T205541Z
LAST-MODIFIED:20250828T123658Z
UID:3975-1764090000-1764097200@www.pottsvillelibrary.org
SUMMARY:Super Smash Brothers Night
DESCRIPTION:Join us at the Pottsville Free Public Library for a Super Smash Brother Ultimate tournament in celebration of International Games Month on Tuesday\, November 25th at 5 pm. Recommended for ages 5-17\, but as always younger and older siblings are welcome. Registration recommended by emailing potchild@pottsvillelibrary.org\, calling 570-622-8880 ext. 12. or coming to the library and telling us in person.
URL:https://www.pottsvillelibrary.org/event/super-smash-brothers-night/
LOCATION:Pottsville Library\, 215 W Market St\, Pottsville\, 17901\, United States
ATTACH;FMTTYPE=image/webp:https://www.pottsvillelibrary.org/wp-content/uploads/2025/08/Smash-Brothers-Tournament.webp
ORGANIZER;CN="PFPL":MAILTO:potpublib@pottsvillelibrary.org
END:VEVENT
END:VCALENDAR