BEGIN:VCALENDAR
VERSION:2.0
PRODID:-//Pottsville Free Public Library - ECPv6.15.13//NONSGML v1.0//EN
CALSCALE:GREGORIAN
METHOD:PUBLISH
X-ORIGINAL-URL:https://www.pottsvillelibrary.org
X-WR-CALDESC:Events for Pottsville Free Public Library
REFRESH-INTERVAL;VALUE=DURATION:PT1H
X-Robots-Tag:noindex
X-PUBLISHED-TTL:PT1H
BEGIN:VTIMEZONE
TZID:UTC
BEGIN:STANDARD
TZOFFSETFROM:+0000
TZOFFSETTO:+0000
TZNAME:UTC
DTSTART:20240101T000000
END:STANDARD
END:VTIMEZONE
BEGIN:VEVENT
DTSTART;TZID=UTC:20251119T163000
DTEND;TZID=UTC:20251119T180000
DTSTAMP:20260424T045246
CREATED:20250709T202726Z
LAST-MODIFIED:20250709T202726Z
UID:3736-1763569800-1763575200@www.pottsvillelibrary.org
SUMMARY:Girls Who Code
DESCRIPTION:Come to the Pottsville Free Public Library and learn coding with your peers. Recommended for ages 12-18 for coders with no experience\, limited experience or those in need of a refresher. Not a girl\, not a problem\, girls who code is open to any aspiring young coder. To register email potchild@pottsvillelibrary.org\, call 570-622-8880 ext 12 or come to the library and tell us in person.
URL:https://www.pottsvillelibrary.org/event/girls-who-code-20/
LOCATION:Pottsville Library\, 215 W Market St\, Pottsville\, 17901\, United States
ATTACH;FMTTYPE=image/webp:https://www.pottsvillelibrary.org/wp-content/uploads/2025/07/GWC-Fall-2025.webp
ORGANIZER;CN="PFPL":MAILTO:potpublib@pottsvillelibrary.org
END:VEVENT
END:VCALENDAR