BEGIN:VCALENDAR
VERSION:2.0
PRODID:-//Pottsville Free Public Library - ECPv6.15.13//NONSGML v1.0//EN
CALSCALE:GREGORIAN
METHOD:PUBLISH
X-WR-CALNAME:Pottsville Free Public Library
X-ORIGINAL-URL:https://www.pottsvillelibrary.org
X-WR-CALDESC:Events for Pottsville Free Public Library
REFRESH-INTERVAL;VALUE=DURATION:PT1H
X-Robots-Tag:noindex
X-PUBLISHED-TTL:PT1H
BEGIN:VTIMEZONE
TZID:UTC
BEGIN:STANDARD
TZOFFSETFROM:+0000
TZOFFSETTO:+0000
TZNAME:UTC
DTSTART:20240101T000000
END:STANDARD
END:VTIMEZONE
BEGIN:VEVENT
DTSTART;TZID=UTC:20251111T173000
DTEND;TZID=UTC:20251111T190000
DTSTAMP:20260424T045002
CREATED:20250821T211856Z
LAST-MODIFIED:20250821T211856Z
UID:3859-1762882200-1762887600@www.pottsvillelibrary.org
SUMMARY:Dog Man Party
DESCRIPTION:Join us at the Pottsville Free Public Library to celebrate the release of the 14th book in the Dog Man series. There will be Dog Man themed crafts and activities as well as a chance to win your own copy of the book. Recommended for ages 5-15. Registration appreciated\, email potchild@pottsvillelibrary.org\, call 570-622-8880 ext. 12 or come in and tell us in person.
URL:https://www.pottsvillelibrary.org/event/dog-man-party/
LOCATION:Pottsville Library\, 215 W Market St\, Pottsville\, 17901\, United States
ATTACH;FMTTYPE=image/webp:https://www.pottsvillelibrary.org/wp-content/uploads/2025/08/Dog-Man-Party.webp
ORGANIZER;CN="PFPL":MAILTO:potpublib@pottsvillelibrary.org
END:VEVENT
END:VCALENDAR