BEGIN:VCALENDAR
VERSION:2.0
PRODID:-//Pottsville Free Public Library - ECPv6.15.13//NONSGML v1.0//EN
CALSCALE:GREGORIAN
METHOD:PUBLISH
X-WR-CALNAME:Pottsville Free Public Library
X-ORIGINAL-URL:https://www.pottsvillelibrary.org
X-WR-CALDESC:Events for Pottsville Free Public Library
REFRESH-INTERVAL;VALUE=DURATION:PT1H
X-Robots-Tag:noindex
X-PUBLISHED-TTL:PT1H
BEGIN:VTIMEZONE
TZID:UTC
BEGIN:STANDARD
TZOFFSETFROM:+0000
TZOFFSETTO:+0000
TZNAME:UTC
DTSTART:20240101T000000
END:STANDARD
END:VTIMEZONE
BEGIN:VEVENT
DTSTART;TZID=UTC:20251103T103000
DTEND;TZID=UTC:20251103T113000
DTSTAMP:20260424T045005
CREATED:20250709T200244Z
LAST-MODIFIED:20250709T200244Z
UID:3686-1762165800-1762169400@www.pottsvillelibrary.org
SUMMARY:Fall Story Time Mondays
DESCRIPTION:Join us for a story\, songs and a craft for our Fall Story Times on Mondays at 10:30 am running from September 15th until December 8th. Recommended for ages 1-5\, older and younger siblings are always welcome. Register by emailing potchild@pottsvillelibrary.org\, calling 570-622-8880 ext. 12 or coming in and telling us in person.
URL:https://www.pottsvillelibrary.org/event/fall-story-time-mondays-8/
LOCATION:Pottsville Library\, 215 W Market St\, Pottsville\, 17901\, United States
ATTACH;FMTTYPE=image/webp:https://www.pottsvillelibrary.org/wp-content/uploads/2025/07/Fall-2025-Storytime.webp
ORGANIZER;CN="PFPL":MAILTO:potpublib@pottsvillelibrary.org
END:VEVENT
BEGIN:VEVENT
DTSTART;TZID=UTC:20251103T120000
DTEND;TZID=UTC:20251103T140000
DTSTAMP:20260424T045005
CREATED:20241203T150235Z
LAST-MODIFIED:20241203T150235Z
UID:2718-1762171200-1762178400@www.pottsvillelibrary.org
SUMMARY:Used Book Sale
DESCRIPTION:Visit our monthly used book sale in the basement of the Library from 12-2 on on the 1st Monday of each month. Thank you to the Friends of the Pottsville Free Public Library for hosting our used book sales!
URL:https://www.pottsvillelibrary.org/event/used-book-sale-24/
LOCATION:Library – Basement\, 215 W. Market St.\, Pottsville\, PA\, 17901\, United States
ATTACH;FMTTYPE=image/png:https://www.pottsvillelibrary.org/wp-content/uploads/2024/12/Book-Sale.png
ORGANIZER;CN="PFPL":MAILTO:potpublib@pottsvillelibrary.org
END:VEVENT
BEGIN:VEVENT
DTSTART;TZID=UTC:20251103T140000
DTEND;TZID=UTC:20251103T150000
DTSTAMP:20260424T045005
CREATED:20250917T182419Z
LAST-MODIFIED:20250917T182419Z
UID:3991-1762178400-1762182000@www.pottsvillelibrary.org
SUMMARY:Build Your Brain Bingo with Stacie Renninger from Providence Place
DESCRIPTION:Stick around after the Library’s monthly used book sale for a game of Bingo hosted by Stacie Renninger from Providence Place Senior Living. Stacie will have information & resources on dementia\, plus host a brain building bingo activity. Bingo is free to attend. Bingo will start on Monday\, November 3rd at 2PM in the library basement.
URL:https://www.pottsvillelibrary.org/event/build-your-brain-bingo-with-stacie-renninger-from-providence-place/
LOCATION:Library – Basement\, 215 W. Market St.\, Pottsville\, PA\, 17901\, United States
ATTACH;FMTTYPE=image/jpeg:https://www.pottsvillelibrary.org/wp-content/uploads/2025/09/Providence-Place.jpg
ORGANIZER;CN="PFPL":MAILTO:potpublib@pottsvillelibrary.org
END:VEVENT
BEGIN:VEVENT
DTSTART;TZID=UTC:20251103T163000
DTEND;TZID=UTC:20251103T190000
DTSTAMP:20260424T045005
CREATED:20250712T184412Z
LAST-MODIFIED:20250712T184412Z
UID:3779-1762187400-1762196400@www.pottsvillelibrary.org
SUMMARY:Magic the Gathering Monday
DESCRIPTION:Come join us at the Pottsville Free Public Library for our monthly Magic the Gathering Night on Monday November 3rd at 4:30 pm where we will be playing in the commander format. Don’t know very much about Magic the Gathering but want to learn a little more\, come in and we’ll take the time to introduce you to the rules and cards\, which can then be used to play. To register email potchild@pottsvillelibrary.org\, call 570-622-8880 ext. 12 or come and tell us in person. Recommended for ages 11 and up
URL:https://www.pottsvillelibrary.org/event/magic-the-gathering-monday-4/
LOCATION:Library – Basement\, 215 W. Market St.\, Pottsville\, PA\, 17901\, United States
ATTACH;FMTTYPE=image/webp:https://www.pottsvillelibrary.org/wp-content/uploads/2025/07/Fall-Magic-the-Gathering-Nights.webp
ORGANIZER;CN="PFPL":MAILTO:potpublib@pottsvillelibrary.org
END:VEVENT
END:VCALENDAR