BEGIN:VCALENDAR
VERSION:2.0
PRODID:-//Pottsville Free Public Library - ECPv6.15.13//NONSGML v1.0//EN
CALSCALE:GREGORIAN
METHOD:PUBLISH
X-ORIGINAL-URL:https://www.pottsvillelibrary.org
X-WR-CALDESC:Events for Pottsville Free Public Library
REFRESH-INTERVAL;VALUE=DURATION:PT1H
X-Robots-Tag:noindex
X-PUBLISHED-TTL:PT1H
BEGIN:VTIMEZONE
TZID:UTC
BEGIN:STANDARD
TZOFFSETFROM:+0000
TZOFFSETTO:+0000
TZNAME:UTC
DTSTART:20240101T000000
END:STANDARD
END:VTIMEZONE
BEGIN:VEVENT
DTSTART;TZID=UTC:20251021T163000
DTEND;TZID=UTC:20251021T173000
DTSTAMP:20260424T062111
CREATED:20250712T192631Z
LAST-MODIFIED:20250712T192631Z
UID:3793-1761064200-1761067800@www.pottsvillelibrary.org
SUMMARY:Robot Refresh
DESCRIPTION:Come to the Pottsville Free Public Library to explore robotics and coding with the library’s robotics STEM kits. Recommended for ages 6-12. Please email potchild@pottsvillelibrary.org\, call 570-622-8880 ext. 12 or come to the library and talk to us to register or for more information.
URL:https://www.pottsvillelibrary.org/event/robot-refresh-6/
LOCATION:Pottsville Library\, 215 W Market St\, Pottsville\, 17901\, United States
ATTACH;FMTTYPE=image/webp:https://www.pottsvillelibrary.org/wp-content/uploads/2025/07/Robot-Refresh-2025.webp
ORGANIZER;CN="PFPL":MAILTO:potpublib@pottsvillelibrary.org
END:VEVENT
BEGIN:VEVENT
DTSTART;TZID=UTC:20251021T173000
DTEND;TZID=UTC:20251021T190000
DTSTAMP:20260424T062111
CREATED:20250709T204507Z
LAST-MODIFIED:20250709T204507Z
UID:3760-1761067800-1761073200@www.pottsvillelibrary.org
SUMMARY:Golden Girls Costume Bingo
DESCRIPTION:Join us for our first ever Golden Girls Costume Bingo! Wear your very best Golden Girls themed outfit or costume to play 10 rounds of Golden Girls themed bingo at the Pottsville Library! Prizes will be Golden Girls themed items\, and there will be a prize for best costume! Costumes are encouraged\, but not mandatory to play. Bingo will be on Tuesday\, October 21st at 5:30 PM. Tickets are $15 & must be purchased in advance. Tickets are available at the Pottsville Library or can be purchased online through our Facebook event page using the Eventbrite link.
URL:https://www.pottsvillelibrary.org/event/golden-girls-costume-bingo/
LOCATION:Pottsville Library\, 215 W Market St\, Pottsville\, 17901\, United States
ATTACH;FMTTYPE=image/jpeg:https://www.pottsvillelibrary.org/wp-content/uploads/2025/07/Golden-Girls-Costume-Bingo.jpg
ORGANIZER;CN="PFPL":MAILTO:potpublib@pottsvillelibrary.org
END:VEVENT
BEGIN:VEVENT
DTSTART;TZID=UTC:20251021T173000
DTEND;TZID=UTC:20251021T190000
DTSTAMP:20260424T062111
CREATED:20250712T190011Z
LAST-MODIFIED:20250712T190011Z
UID:3789-1761067800-1761073200@www.pottsvillelibrary.org
SUMMARY:Children's Halloween Party
DESCRIPTION:Join the Pottsville Library on Wednesday October 21st at 5:30 pm for our annual Halloween party for games\, crafts\, and treats. For children ages 3-11 and their parents or caregivers. Please email potchild@pottsvillelibrary.org\, call 570-622-8880 ext. 12 or come to the library and tell us in person by October 9th to register.
URL:https://www.pottsvillelibrary.org/event/childrens-halloween-party-3/
LOCATION:Pottsville Library\, 215 W Market St\, Pottsville\, 17901\, United States
ATTACH;FMTTYPE=image/webp:https://www.pottsvillelibrary.org/wp-content/uploads/2025/07/Childrens-Halloween-Party-2025.webp
ORGANIZER;CN="PFPL":MAILTO:potpublib@pottsvillelibrary.org
END:VEVENT
END:VCALENDAR