BEGIN:VCALENDAR
VERSION:2.0
PRODID:-//Pottsville Free Public Library - ECPv6.15.13//NONSGML v1.0//EN
CALSCALE:GREGORIAN
METHOD:PUBLISH
X-ORIGINAL-URL:https://www.pottsvillelibrary.org
X-WR-CALDESC:Events for Pottsville Free Public Library
REFRESH-INTERVAL;VALUE=DURATION:PT1H
X-Robots-Tag:noindex
X-PUBLISHED-TTL:PT1H
BEGIN:VTIMEZONE
TZID:UTC
BEGIN:STANDARD
TZOFFSETFROM:+0000
TZOFFSETTO:+0000
TZNAME:UTC
DTSTART:20240101T000000
END:STANDARD
END:VTIMEZONE
BEGIN:VEVENT
DTSTART;TZID=UTC:20251016T160000
DTEND;TZID=UTC:20251016T170000
DTSTAMP:20260424T062112
CREATED:20250826T181556Z
LAST-MODIFIED:20250826T181620Z
UID:3938-1760630400-1760634000@www.pottsvillelibrary.org
SUMMARY:Teen Book Club
DESCRIPTION:Come to the Pottsville Free Public Library to enjoy some recreational reading at our teen book club recommended for ages 10-16 running from 4 pm to 5 pm. We will be meeting the third Thursday of every month through the fall: Sept 18th\, Oct. 16th\, Nov. 20th and Dec. 18th.
URL:https://www.pottsvillelibrary.org/event/teen-book-club-10/
LOCATION:Pottsville Library\, 215 W Market St\, Pottsville\, 17901\, United States
ATTACH;FMTTYPE=image/webp:https://www.pottsvillelibrary.org/wp-content/uploads/2025/08/teen-book-club.webp
ORGANIZER;CN="PFPL":MAILTO:potpublib@pottsvillelibrary.org
END:VEVENT
BEGIN:VEVENT
DTSTART;TZID=UTC:20251016T173000
DTEND;TZID=UTC:20251016T183000
DTSTAMP:20260424T062112
CREATED:20250826T183354Z
LAST-MODIFIED:20250826T183354Z
UID:3953-1760635800-1760639400@www.pottsvillelibrary.org
SUMMARY:Teen Advisory Board
DESCRIPTION:Come to the Pottsville Free Public Library for our Teen Advisory Board. Recommended for ages 12-18. Have a say in what the Youth Services Department adds as far as books\, DVDs\, Video Games\, etc. Also have a say in what sort of programs we offer for teens. We will be meeting on the third Thursday of every month for the fall at 5:30 pm: Sept. 18\, Oct 16\, Nov. 20\, Dec. 18.
URL:https://www.pottsvillelibrary.org/event/teen-advisory-board-7/
LOCATION:Pottsville Library\, 215 W Market St\, Pottsville\, 17901\, United States
ATTACH;FMTTYPE=image/webp:https://www.pottsvillelibrary.org/wp-content/uploads/2025/08/Teen-Advisory-Board.webp
ORGANIZER;CN="PFPL":MAILTO:potpublib@pottsvillelibrary.org
END:VEVENT
END:VCALENDAR