BEGIN:VCALENDAR
VERSION:2.0
PRODID:-//Pottsville Free Public Library - ECPv6.15.13//NONSGML v1.0//EN
CALSCALE:GREGORIAN
METHOD:PUBLISH
X-ORIGINAL-URL:https://www.pottsvillelibrary.org
X-WR-CALDESC:Events for Pottsville Free Public Library
REFRESH-INTERVAL;VALUE=DURATION:PT1H
X-Robots-Tag:noindex
X-PUBLISHED-TTL:PT1H
BEGIN:VTIMEZONE
TZID:UTC
BEGIN:STANDARD
TZOFFSETFROM:+0000
TZOFFSETTO:+0000
TZNAME:UTC
DTSTART:20240101T000000
END:STANDARD
END:VTIMEZONE
BEGIN:VEVENT
DTSTART;TZID=UTC:20251008T163000
DTEND;TZID=UTC:20251008T180000
DTSTAMP:20260424T062115
CREATED:20250709T201327Z
LAST-MODIFIED:20250709T201824Z
UID:3714-1759941000-1759946400@www.pottsvillelibrary.org
SUMMARY:Girls Who Code
DESCRIPTION:Come to the Pottsville Free Public Library and learn coding with your peers. Recommended for ages 12-18 for coders with no experience\, limited experience or those in need of a refresher. Not a girl\, not a problem\, girls who code is open to any aspiring young coder. To register email potchild@pottsvillelibrary.org\, call 570-622-8880 ext 12 or come to the library and tell us in person.
URL:https://www.pottsvillelibrary.org/event/girls-who-code-14/
LOCATION:Pottsville Library\, 215 W Market St\, Pottsville\, 17901\, United States
ATTACH;FMTTYPE=image/webp:https://www.pottsvillelibrary.org/wp-content/uploads/2025/07/GWC-Fall-2025.webp
ORGANIZER;CN="PFPL":MAILTO:potpublib@pottsvillelibrary.org
END:VEVENT
BEGIN:VEVENT
DTSTART;TZID=UTC:20251008T170000
DTEND;TZID=UTC:20251008T190000
DTSTAMP:20260424T062115
CREATED:20250805T180823Z
LAST-MODIFIED:20250805T180823Z
UID:3840-1759942800-1759950000@www.pottsvillelibrary.org
SUMMARY:Spooky Portraits Puzzle Race
DESCRIPTION:Grab some friends & join in our Halloween Puzzle Race! Each team of up to 4 people will be working on the pictured puzzle\, Spooky Portraits! Teams will have 2 hours to complete the puzzle\, and the first team to finish the puzzle will get a prize. The puzzle race will start promptly at 5:00pm on Wednesday\, October 8th. There is a $5 entry fee per team (not each person\, it covers the whole team of 4).
URL:https://www.pottsvillelibrary.org/event/spooky-portraits-puzzle-race/
LOCATION:Pottsville Library\, 215 W Market St\, Pottsville\, 17901\, United States
ATTACH;FMTTYPE=image/jpeg:https://www.pottsvillelibrary.org/wp-content/uploads/2025/08/Spooky-Portraits-Puzzle-Race.jpg
ORGANIZER;CN="PFPL":MAILTO:potpublib@pottsvillelibrary.org
END:VEVENT
END:VCALENDAR