BEGIN:VCALENDAR
VERSION:2.0
PRODID:-//Pottsville Free Public Library - ECPv6.15.13//NONSGML v1.0//EN
CALSCALE:GREGORIAN
METHOD:PUBLISH
X-ORIGINAL-URL:https://www.pottsvillelibrary.org
X-WR-CALDESC:Events for Pottsville Free Public Library
REFRESH-INTERVAL;VALUE=DURATION:PT1H
X-Robots-Tag:noindex
X-PUBLISHED-TTL:PT1H
BEGIN:VTIMEZONE
TZID:UTC
BEGIN:STANDARD
TZOFFSETFROM:+0000
TZOFFSETTO:+0000
TZNAME:UTC
DTSTART:20240101T000000
END:STANDARD
END:VTIMEZONE
BEGIN:VEVENT
DTSTART;TZID=UTC:20251004T110000
DTEND;TZID=UTC:20251004T120000
DTSTAMP:20260424T062114
CREATED:20250626T185926Z
LAST-MODIFIED:20250626T185926Z
UID:3644-1759575600-1759579200@www.pottsvillelibrary.org
SUMMARY:Spooky Saturday Storytime
DESCRIPTION:Join us for a spooky storytime on Saturday October 4th at 11 am. Recommended for ages 1-5 but older and younger siblings are always welcome. To register\, or to get more information email potchild@pottsvillelibrary.org\, call 570-622-8880 ext. 12 or come to the library and talk to us in person.
URL:https://www.pottsvillelibrary.org/event/spooky-saturday-storytime/
LOCATION:Pottsville Library\, 215 W Market St\, Pottsville\, 17901\, United States
ATTACH;FMTTYPE=image/webp:https://www.pottsvillelibrary.org/wp-content/uploads/2025/06/Spooky-Storytime-1.webp
ORGANIZER;CN="PFPL":MAILTO:potpublib@pottsvillelibrary.org
END:VEVENT
BEGIN:VEVENT
DTSTART;TZID=UTC:20251004T130000
DTEND;TZID=UTC:20251004T150000
DTSTAMP:20260424T062114
CREATED:20250730T160132Z
LAST-MODIFIED:20250730T160132Z
UID:3816-1759582800-1759590000@www.pottsvillelibrary.org
SUMMARY:Sugar Skull Paint & Sip
DESCRIPTION:Enjoy a spooky Saturday by painting your very own plaster Sugar Skull at the Pottsville Library! You can BYOB and/or snacks to enjoy while you paint! Plaster skull\, paint & painting supplies are included. Feel free to bring glitter or add ons if you want something special added to your creation! Program starts at 1:00 PM. $25 per ticket\, limited seating.
URL:https://www.pottsvillelibrary.org/event/sugar-skull-paint-sip-2/
LOCATION:Pottsville Library\, 215 W Market St\, Pottsville\, 17901\, United States
ATTACH;FMTTYPE=image/jpeg:https://www.pottsvillelibrary.org/wp-content/uploads/2025/07/Sugar-Skull-Paint-Sip-Flyer.jpg
ORGANIZER;CN="PFPL":MAILTO:potpublib@pottsvillelibrary.org
END:VEVENT
END:VCALENDAR