BEGIN:VCALENDAR
VERSION:2.0
PRODID:-//Pottsville Free Public Library - ECPv6.15.13//NONSGML v1.0//EN
CALSCALE:GREGORIAN
METHOD:PUBLISH
X-WR-CALNAME:Pottsville Free Public Library
X-ORIGINAL-URL:https://www.pottsvillelibrary.org
X-WR-CALDESC:Events for Pottsville Free Public Library
REFRESH-INTERVAL;VALUE=DURATION:PT1H
X-Robots-Tag:noindex
X-PUBLISHED-TTL:PT1H
BEGIN:VTIMEZONE
TZID:UTC
BEGIN:STANDARD
TZOFFSETFROM:+0000
TZOFFSETTO:+0000
TZNAME:UTC
DTSTART:20240101T000000
END:STANDARD
END:VTIMEZONE
BEGIN:VEVENT
DTSTART;TZID=UTC:20250930T163000
DTEND;TZID=UTC:20250930T180000
DTSTAMP:20260424T062315
CREATED:20250709T203349Z
LAST-MODIFIED:20250709T203349Z
UID:3750-1759249800-1759255200@www.pottsvillelibrary.org
SUMMARY:D and D Beginners
DESCRIPTION:Want to see what is up with tabletop role playing games\, come on down to the Pottsville Free Public Library for five weeks of one shots. To register\, or for more information\, email potchild@pottsvillelibrary.org\, call 570-622-8880 ext. 12 or come to the library and talk to us in person. Recommended for ages 10-18.
URL:https://www.pottsvillelibrary.org/event/d-and-d-beginners-3/
LOCATION:Pottsville Library\, 215 W Market St\, Pottsville\, 17901\, United States
ATTACH;FMTTYPE=image/webp:https://www.pottsvillelibrary.org/wp-content/uploads/2025/07/D-and-D-for-Begginers.webp
ORGANIZER;CN="PFPL":MAILTO:potpublib@pottsvillelibrary.org
END:VEVENT
BEGIN:VEVENT
DTSTART;TZID=UTC:20250930T173000
DTEND;TZID=UTC:20250930T190000
DTSTAMP:20260424T062315
CREATED:20250804T200103Z
LAST-MODIFIED:20250804T200103Z
UID:3831-1759253400-1759258800@www.pottsvillelibrary.org
SUMMARY:Potions & Plants: Succulent Planting Workshop
DESCRIPTION:Enjoy an enchanting evening where your cauldron will be bubbling over–with succulents! Potions & Plants is a witchy themed arrangement of succulents planted in a cauldron. We will have other small decorations for your final creation\, but feel free to bring anything you would like to add as well! Succulents\, soil\, cauldron & gloves are included in price. Potions & Plants will be held on Tuesday\, September 30th at 5:30PM. Prepaid registration is due by September 15th. Tickets are $25. This is a BYOB event.
URL:https://www.pottsvillelibrary.org/event/potions-plants-succulent-planting-workshop/
LOCATION:Library – Basement\, 215 W. Market St.\, Pottsville\, PA\, 17901\, United States
ATTACH;FMTTYPE=image/jpeg:https://www.pottsvillelibrary.org/wp-content/uploads/2025/08/Potions-Plants.jpg
ORGANIZER;CN="PFPL":MAILTO:potpublib@pottsvillelibrary.org
END:VEVENT
END:VCALENDAR